Workbook

Sheet FTES66
B1: ตัวบ่งชี้ 1.4 จำนวนนักศึกษาเต็มเวลาเทียบเท่าต่อจำนวนอาจารย์ประจำ | L1: สีแดง = มีสูตร
B2: คณะป้อนข้อมูลเฉพาะคอลัมน์ D และ E ที่เป็นตัวอักษรสีน้ำเงินเท่านั้น | L2: สีดำ = ค่า FTES ของแต่ละคณะ
B3: คณะ/วิทยาลัย/สถาบัน | D3: อาจารย์ | E3: FTES | F3: FTES | G3: ค่าความแตกต่าง | K3: คะแนน
C4: ตนเอง | D4: (ไม่รวมลา) | F4: ต่อ อาจารย์ | G4: FTES ต่ออาจารย์ | H4: ตามเกณฑ์* | J4: *100/[2] | K4: จาก
G5: ที่เป็นจริง [1] | H5: [2] | I5: [1-2] | K5: การประเมินฯ
A6: 1 | B6: วิทยาลัยแพทยศาสตร์ | C6: 5 | D6: 20 | E6: 10 | F6: =E6/D6 -> 0.5 | G6: =+F6 -> 0.5 | H6: 4 | I6: =SUM(G6)-(H6) -> -3.5 | J6: =SUM(I6)*100/H6 -> -87.5 | K6: =IF(J6<=0,5,IF(J6>=20,0,5-J6/4)) -> 5
A7: 2 | B7: วิทยาลัยเภสัชศาสตร์ | C7: 5 | D7: 1 | E7: 1 | F7: =E7/D7 -> 1 | G7: =+F7 -> 1 | H7: 8 | I7: =SUM(G7)-(H7) -> -7 | J7: =SUM(I7)*100/H7 -> -87.5 | K7: =IF(J7<=0,5,IF(J7>=20,0,5-J7/4)) -> 5
A8: 3 | B8: คณะพยาบาลศาสตร์ | C8: 5 | D8: 1 | E8: 1 | F8: =E8/D8 -> 1 | G8: =+F8 -> 1 | H8: 6.99 | I8: =SUM(G8)-(H8) -> -5.99 | J8: =SUM(I8)*100/H8 -> -85.693848 | K8: =IF(J8<=0,5,IF(J8>=20,0,5-J8/4)) -> 5
A9: 4 | B9: คณะเทคนิคการแพทย์ | C9: 3.5 | D9: 1 | E9: 1 | F9: =E9/D9 -> 1 | G9: =+F9 -> 1 | H9: 8 | I9: =SUM(G9)-(H9) -> -7 | J9: =SUM(I9)*100/H9 -> -87.5 | K9: =IF(J9<=0,5,IF(J9>=20,0,5-J9/4)) -> 5
A10: 5 | B10: คณะกายภาพบำบัดฯ | C10: 0 | D10: 29 | E10: 237.72 | F10: =E10/D10 -> 8.1972414 | G10: =+F10 -> 8.1972414 | H10: 8 | I10: =SUM(G10)-(H10) -> 0.19724138 | J10: =SUM(I10)*100/H10 -> 2.4655172 | K10: =IF(J10<=0,5,IF(J10>=20,0,5-J10/4)) -> 4.3836207
A11: 6 | B11: วิทยาลัยการแพทย์แผนตะวันออก | C11: 0 | D11: 1 | E11: 1 | F11: =E11/D11 -> 1 | G11: =+F11 -> 1 | H11: 8 | I11: =SUM(G11)-(H11) -> -7 | J11: =SUM(I11)*100/H11 -> -87.5 | K11: =IF(J11<=0,5,IF(J11>=20,0,5-J11/4)) -> 5
A12: 7 | B12: วิทยาลัยทันตแพทยศาสตร์ | C12: 5 | D12: 1 | E12: 1 | F12: =E12/D12 -> 1 | G12: =+F12 -> 1 | H12: 8 | I12: =SUM(G12)-(H12) -> -7 | J12: =SUM(I12)*100/H12 -> -87.5 | K12: =IF(J12<=0,5,IF(J12>=20,0,5-J12/4)) -> 5
A13: 8 | B13: คณะทัศนมาตรศาสตร์ | C13: 0 | D13: 1 | E13: 1 | F13: =E13/D13 -> 1 | G13: =+F13 -> 1 | H13: 8 | I13: =SUM(G13)-(H13) -> -7 | J13: =SUM(I13)*100/H13 -> -87.5 | K13: =IF(J13<=0,5,IF(J13>=20,0,5-J13/4)) -> 5
A14: 9 | B14: คณะรังสีเทคนิค | C14: 0 | D14: 1 | E14: 1 | F14: =E14/D14 -> 1 | G14: =+F14 -> 1 | H14: 8 | I14: =SUM(G14)-(H14) -> -7 | J14: =SUM(I14)*100/H14 -> -87.5 | K14: =IF(J14<=0,5,IF(J14>=20,0,5-J14/4)) -> 5
A15: 10 | B15: วิทยาลัยนวัตกรรมดิจิทัลฯ | C15: 5 | D15: 10 | E15: 300 | F15: =E15/D15 -> 30 | G15: =+F15 -> 30 | H15: 20 | I15: =SUM(G15)-(H15) -> 10 | J15: =SUM(I15)*100/H15 -> 50 | K15: =IF(J15<=0,5,IF(J15>=20,0,5-J15/4)) -> 0
A16: 11 | B16: คณะวิทยาศาสตร์ | C16: 5 | D16: 1 | E16: 1 | F16: =E16/D16 -> 1 | G16: =+F16 -> 1 | H16: 20 | I16: =SUM(G16)-(H16) -> -19 | J16: =SUM(I16)*100/H16 -> -95 | K16: =IF(J16<=0,5,IF(J16>=20,0,5-J16/4)) -> 5
A17: 12 | B17: วิทยาลัยนวัตกรรมเกษตรฯ | C17: 3.85 | D17: 1 | E17: 1 | F17: =E17/D17 -> 1 | G17: =+F17 -> 1 | H17: 20 | I17: =SUM(G17)-(H17) -> -19 | J17: =SUM(I17)*100/H17 -> -95 | K17: =IF(J17<=0,5,IF(J17>=20,0,5-J17/4)) -> 5
A18: 13 | B18: วิทยาลัยวิศวกรรมศาสตร์ | C18: 0 | D18: 1 | E18: 1 | F18: =E18/D18 -> 1 | G18: =+F18 -> 1 | H18: 20 | I18: =SUM(G18)-(H18) -> -19 | J18: =SUM(I18)*100/H18 -> -95 | K18: =IF(J18<=0,5,IF(J18>=20,0,5-J18/4)) -> 5
A19: 14 | B19: วิทยาลัยวิศวกรรมชีวการแพทย์ | D19: 1 | E19: 1 | F19: =E19/D19 -> 1 | G19: =+F19 -> 1 | H19: 20 | I19: =SUM(G19)-(H19) -> -19 | J19: =SUM(I19)*100/H19 -> -95 | K19: =IF(J19<=0,5,IF(J19>=20,0,5-J19/4)) -> 5
A20: 15 | B20: สถาบันการบิน | C20: 4.83 | D20: 1 | E20: 1 | F20: =E20/D20 -> 1 | G20: =+F20 -> 1 | H20: 20 | I20: =SUM(G20)-(H20) -> -19 | J20: =SUM(I20)*100/H20 -> -95 | K20: =IF(J20<=0,5,IF(J20>=20,0,5-J20/4)) -> 5
A21: 16 | B21: คณะสถาปัตยกรรมศาสตร์ | C21: 0 | D21: 1 | E21: 1 | F21: =E21/D21 -> 1 | G21: =+F21 -> 1 | H21: 15 | I21: =SUM(G21)-(H21) -> -14 | J21: =SUM(I21)*100/H21 -> -93.333333 | K21: =IF(J21<=0,5,IF(J21>=20,0,5-J21/4)) -> 5
A22: 17 | B22: คณะบริหารธุรกิจ | C22: 0 | D22: 1 | E22: 1 | F22: =E22/D22 -> 1 | G22: =+F22 -> 1 | H22: 25 | I22: =SUM(G22)-(H22) -> -24 | J22: =SUM(I22)*100/H22 -> -96 | K22: =IF(J22<=0,5,IF(J22>=20,0,5-J22/4)) -> 5
A23: 18 | B23: คณะบัญชี | C23: 1.5 | D23: 1 | E23: 1 | F23: =E23/D23 -> 1 | G23: =+F23 -> 1 | H23: 25 | I23: =SUM(G23)-(H23) -> -24 | J23: =SUM(I23)*100/H23 -> -96 | K23: =IF(J23<=0,5,IF(J23>=20,0,5-J23/4)) -> 5
A24: 19 | B24: วิทยาลัยฮอสปิตอลลิตี้ | C24: 0 | D24: 1 | E24: 1 | F24: =E24/D24 -> 1 | G24: =+F24 -> 1 | H24: 25 | I24: =SUM(G24)-(H24) -> -24 | J24: =SUM(I24)*100/H24 -> -96 | K24: =IF(J24<=0,5,IF(J24>=20,0,5-J24/4)) -> 5
A25: 20 | B25: คณะเศรษฐศาสตร์ | C25: 5 | D25: 1 | E25: 1 | F25: =E25/D25 -> 1 | G25: =+F25 -> 1 | H25: 25 | I25: =SUM(G25)-(H25) -> -24 | J25: =SUM(I25)*100/H25 -> -96 | K25: =IF(J25<=0,5,IF(J25>=20,0,5-J25/4)) -> 5
A26: 21 | B26: วิทยาลัยการออกแบบ | C26: 0 | D26: 51 | E26: 1058.92 | F26: =E26/D26 -> 20.763137 | G26: =+F26 -> 20.763137 | H26: 20 | I26: =SUM(G26)-(H26) -> 0.76313725 | J26: =SUM(I26)*100/H26 -> 3.8156863 | K26: =IF(J26<=0,5,IF(J26>=20,0,5-J26/4)) -> 4.0460784
A27: 22 | B27: วิทยาลัยดนตรี | C27: 5 | D27: 1 | E27: 1 | F27: =E27/D27 -> 1 | G27: =SUM(E27)/D27 -> 1 | H27: 12 | I27: =SUM(G27)-(H27) -> -11 | J27: =SUM(I27)*100/H27 -> -91.666667 | K27: =IF(J27<=0,5,IF(J27>=20,0,5-J27/4)) -> 5
A28: 23 | B28: คณะดิจิทัลอาร์ต | C28: 0 | D28: 1 | E28: 1 | F28: =E28/D28 -> 1 | G28: =+F28 -> 1 | H28: 15 | I28: =SUM(G28)-(H28) -> -14 | J28: =SUM(I28)*100/H28 -> -93.333333 | K28: =IF(J28<=0,5,IF(J28>=20,0,5-J28/4)) -> 5
A29: 24 | B29: วิทยาลัยนิเทศศาสตร์ | C29: 0 | D29: 1 | E29: 1 | F29: =E29/D29 -> 1 | G29: =+F29 -> 1 | H29: 25 | I29: =SUM(G29)-(H29) -> -24 | J29: =SUM(I29)*100/H29 -> -96 | K29: =IF(J29<=0,5,IF(J29>=20,0,5-J29/4)) -> 5
A30: 25 | B30: วิทยาลัยศิลปศาสตร์ | C30: 3.5 | D30: 1 | E30: 1 | F30: =E30/D30 -> 1 | G30: =+F30 -> 1 | H30: 25 | I30: =SUM(G30)-(H30) -> -24 | J30: =SUM(I30)*100/H30 -> -96 | K30: =IF(J30<=0,5,IF(J30>=20,0,5-J30/4)) -> 5
A31: 26 | B31: คณะนิติศาสตร์ | C31: 0 | D31: 1 | E31: 1 | F31: =E31/D31 -> 1 | G31: =+F31 -> 1 | H31: 50 | I31: =SUM(G31)-(H31) -> -49 | J31: =SUM(I31)*100/H31 -> -98 | K31: =IF(J31<=0,5,IF(J31>=20,0,5-J31/4)) -> 5
A32: 27 | B32: วิทยาลัยนผู้นำและนวัตกรรมสังคม | C32: 4 | D32: 1 | E32: 1 | F32: =E32/D32 -> 1 | G32: =+F32 -> 1 | H32: 25 | I32: =SUM(G32)-(H32) -> -24 | J32: =SUM(I32)*100/H32 -> -96 | K32: =IF(J32<=0,5,IF(J32>=20,0,5-J32/4)) -> 5
A33: 28 | B33: สถาบันรัฐประศาสนศาสตร์และนโยบายสาธารณะ | C33: 1.08 | D33: 6 | E33: 115.43 | F33: =E33/D33 -> 19.238333 | G33: =+F33 -> 19.238333 | H33: 25 | I33: =SUM(G33)-(H33) -> -5.7616667 | J33: =SUM(I33)*100/H33 -> -23.046667 | K33: =IF(J33<=0,5,IF(J33>=20,0,5-J33/4)) -> 5
A34: 29 | B34: วิทยาลัยครูสุริยเทพ | C34: 5 | D34: 13 | E34: 400.07 | F34: =E34/D34 -> 30.774615 | G34: =+F34 -> 30.774615 | H34: 30 | I34: =SUM(G34)-(H34) -> 0.77461538 | J34: =SUM(I34)*100/H34 -> 2.5820513 | K34: =IF(J34<=0,5,IF(J34>=20,0,5-J34/4)) -> 4.3544872
A35: 30 | B35: คณะอาชญาวิทยาและการบริหารงานยุติธรรม | C35: 5 | D35: 1 | E35: 1 | F35: =E35/D35 -> 1 | G35: =+F35 -> 1 | H35: 25 | I35: =SUM(G35)-(H35) -> -24 | J35: =SUM(I35)*100/H35 -> -96 | K35: =IF(J35<=0,5,IF(J35>=20,0,5-J35/4)) -> 5
A36: 31 | B36: คณะรัฐศาสตร์ | C36: 5 | D36: 11 | E36: 286.25 | F36: =E36/D36 -> 26.022727 | G36: =+F36 -> 26.022727 | H36: 25 | I36: =SUM(G36)-(H36) -> 1.0227273 | J36: =SUM(I36)*100/H36 -> 4.0909091 | K36: =IF(J36<=0,5,IF(J36>=20,0,5-J36/4)) -> 3.9772727
A37: 32 | B37: สถาบันการทูตและการต่างประเทศ | C37: 5 | D37: 1 | E37: 1 | F37: =E37/D37 -> 1 | G37: =+F37 -> 1 | H37: 25 | I37: =SUM(G37)-(H37) -> -24 | J37: =SUM(I37)*100/H37 -> -96 | K37: =IF(J37<=0,5,IF(J37>=20,0,5-J37/4)) -> 5
A38: 33 | B38: วิทยาลัยนานาชาติ | C38: 5 | D38: 1 | E38: 1 | F38: =E38/D38 -> 1 | G38: =+F38 -> 1 | H38: 25 | I38: =SUM(G38)-(H38) -> -24 | J38: =SUM(I38)*100/H38 -> -96 | K38: =IF(J38<=0,5,IF(J38>=20,0,5-J38/4)) -> 5
A39: 34 | B39: วิทยาลัยการกีฬา | C39: 5 | D39: 1 | E39: 1 | F39: =E39/D39 -> 1 | G39: =+F39 -> 1 | H39: 25 | I39: =SUM(G39)-(H39) -> -24 | J39: =SUM(I39)*100/H39 -> -96 | K39: =IF(J39<=0,5,IF(J39>=20,0,5-J39/4)) -> 5

Sheet ตบช.เชิงปริมาณ (คณะ)
B2: การคำนวณ เชิงปริมาณ ตัวบ่งชี้ ระดับคณะวิชา
B4: ตัวบ่งชี้ 1.1 ผลการบริหารจัดการหลักสูตรโดยรวม
B5: เกณฑ์การประเมิน : ค่าเฉลี่ยของคะแนนประเมินทุกหลักสูตรที่คณะรับผิดชอบ
B7: ข้อมูลพื้นฐาน | C7: จำนวนยืนยัน
B8: จำนวนหลักสูตรทั้งหมดที่คณะรับผิดชอบ | C8: 14
B9: ผลรวมของค่าคะแนนประเมินของทุกหลักสูตร | C9: 50.5
B10: คะแนนที่ได้ | C10: =SUM(C9)/C8 -> 3.6071429
B12: ตัวบ่งชี้ที่ 1.2 อาจารย์ประจำคณะที่มีคุณวุฒิปริญญาเอก
B13: เกณฑ์การประเมิน : แปลงค่าร้อยละของอาจารย์ประจำคณะที่มีคุณวุฒิปริญญาเอกเป็นคะแนนระหว่าง 0 – 5
B15: ข้อมูลพื้นฐาน | C15: จำนวนยืนยัน
B16: จำนวนอาจารย์ประจำคณะทั้งหมด | C16: 28
B17: จำนวนอาจารย์ประจำคณะที่มีคุณวุฒิปริญญาเอก | C17: 9
B18: ร้อยละของอาจารย์ประจำคณะที่มีคุณวุฒิปริญญาเอก | C18: =SUM(C17)*100/C16 -> 32.142857
B19: เทียบบัญญัติไตรยางศ์ | C19: =SUM(C18)*5/40 -> 4.0178571
B20: หมายเหตุ : การนับจำนวนอาจารย์ประจำ ให้นับตามปีการศึกษา และนับทั้งที่ปฏิบัติงานจริง และลาศึกษาต่อ
B22: ตัวบ่งชี้ที่ 1.3 อาจารย์ประจำคณะที่ดำรงตำแหน่งทางวิชาการ
B23: เกณฑ์การประเมิน : แปลงค่าร้อยละของอาจารย์ประจำคณะที่ดำรงตำแหน่งทางวิชาการเป็นคะแนนระหว่าง 0 – 5
B25: ข้อมูลพื้นฐาน | C25: จำนวนยืนยัน
B26: จำนวนอาจารย์ประจำคณะทั้งหมด | C26: 28
B27: จำนวนอาจารย์ประจำคณะที่มีตำแหน่งทางวิชาการ | C27: 0
B28: จำนวนอาจารย์ประจำคณะที่ไม่มีตำแหน่งทางวิชาการ | C28: 28 | E28: =SUM(C27:C28) -> 28
B29: ร้อยละของอาจารย์ประจำคณะที่มีตำแหน่งทางวิชาการ | C29: =SUM(C27)*100/C26 -> 0
B30: เทียบบัญญัติไตรยางศ์ | C30: =SUM(C29)*5/60 -> 0
B31: หมายเหตุ : การนับจำนวนอาจารย์ประจำ ให้นับตามปีการศึกษา และนับทั้งที่ปฏิบัติงานจริง และลาศึกษาต่อ
B33: ตัวบ่งชี้ที่ 2.2 เงินสนับสนุนงานวิจัยและงานสร้างสรรค์ หรือเผยแพร่ ตัวบ่งชี้ที่ 2.2 (ปริญญาโท) ผลงานของนักศึกษา และผู้สำเร็จการศึกษาในระดับปริญญาโทที่ได้รับการตีพิมพ์ หรือเผยแพร่
B34: เกณฑ์การประเมิน :โดยการแปลงจำนวนเงินต่อจำนวนอาจารย์ประจำและนักวิจัยประจำ เป็นคะแนนระหว่าง 0-5
B36: ข้อมูลพื้นฐาน | C36: จำนวนยืนยัน | E36: กลุ่มสาขาวิชาวิทยาศาสตร์และเทคโนโลยี | L36: 60,000 บาทขึ้นไปต่อคน
B37: จำนวนเงินสนับสนุนงานวิจัยหรืองานสร้างสรรค์จากภายใน | C37: 1344846 | E37: กลุ่มสาขาวิชาวิทยาศาสตร์สุขภาพ | L37: 50,000 บาทขึ้นไปต่อคน
B38: จำนวนเงินสนับสนุนงานวิจัยหรืองานสร้างสรรค์จากภายนอกสถาบัน | C38: 11000000 | E38: กลุ่มสาขาวิชามนุษยศาสตร์และสังคมศาสตร์ | L38: 25,000 บาทขึ้นไปต่อคน
B39: จำนวนอาจารย์ประจำและนักวิจัย | C39: 25 | E39: หมายเหตุ: จำนวนอาจารย์และนักวิจัย นับตามปีการศึกษา และนับเฉพาะที่ปฏิบัติงานจริง
B40: จำนวนเงินสนับสนุนงานวิจัยหรืองานสร้างสรรค์จากภายในและภายนอกสถาบัน | C40: =SUM(C37:C38) -> 12344846 | E40: ไม่นับรวมผู้ลาศึกษาต่อ
B41: จำนวนเงินสนับสนุนงานวิจัยหรืองานสร้างสรรค์จากภายในและภายนอกสถาบัน | C41: =SUM(C40)/C39 -> 493793.84
B42: ต่อจำนวนอาจารย์ประจำและนักวิจัย
B43: เทียบบัญญัติไตรยางศ์ | C43: =SUM(C41)*5/50000 -> 49.379384 | D43: (หารด้วยจำนวนเงินสนับสนุนงานวิจัยฯ ตามกลุ่มสาขาวิชา)
B45: ตัวบ่งชี้ที่ 2.3 ผลงานวิชาการของอาจารย์ประจำและนักวิจัย หรือเผยแพร่ ตัวบ่งชี้ที่ 2.2 (ปริญญาโท) ผลงานของนักศึกษา และผู้สำเร็จการศึกษาในระดับปริญญาโทที่ได้รับการตีพิมพ์ หรือเผยแพร่
B46: เกณฑ์การประเมิน :แปลงค่าร้อยละของผลรวมถ่วงน้ำหนักของผลงานวิชาการของอาจารย์ประจำและนักวิจัยเป็นคะแนนระหว่าง 0- 5
B47: ข้อมูลพื้นฐาน | C47: จำนวนยืนยัน
B48: ผลรวมถ่วงน้ำหนักของผลงานทางวิชาการของอาจารย์ประจำและนักวิจัย | C48: =SUM(K52) -> 6 | F48: ผลงานทางวิชาการ (ชิ้น) | K48: งานสร้างสรรค์ (ชิ้น) | P48: วิทยาศาสตร์และเทคโนโลยี | V48: ร้อยละ 30 ขึ้นไป
B49: จำนวนอาจารย์ประจำและนักวิจัยทั้งหมด | C49: 28 | F49: 0.2 | G49: 0.4 | H49: 0.6 | I49: 0.8 | J49: 1 | K49: 0.2 | L49: 0.4 | M49: 0.6 | N49: 0.8 | O49: 1 | P49: วิทยาศาสตร์สุขภาพ | V49: ร้อยละ 30 ขึ้นไป
B50: ร้อยละของผลรวมถ่วงน้ำหนักของผลงานทางวิชาการ | C50: =SUM(C48)*100/C49 -> 21.428571 | F50: 2 | G50: 4 | H50: 1 | I50: 3 | J50: 1 | P50: มนุษยศาสตร์และสังคมศาสตร์ | V50: ร้อยละ 20 ขึ้นไป
...

Sheet (กรอก)ราย ตบช.
B1: ตบช.ที่ | C1: ตนเอง | D1: กรรมการ
B2: 1.1 | C2: 3 | D2: 3.56 | F2: ตนเอง | I2: กรรมการ
B3: 1.2 | C3: 4.02 | D3: 4.17 | F3: 1 | G3: =AVERAGE(C2:C7) -> 3.67 | I3: 1 | J3: =AVERAGE(D2:D7) -> 4.0583333
B4: 1.3 | C4: 0 | D4: 1.62 | F4: 2 | G4: =AVERAGE(C8:C10) -> 4.5233333 | I4: 2 | J4: =AVERAGE(D8:D10) -> 3.99
B5: 1.4 | C5: 5 | D5: 5 | F5: 3 | G5: =C11 -> 5 | I5: 3 | J5: =D11 -> 5
B6: 1.5 | C6: 5 | D6: 5 | F6: 4 | G6: =C12 -> 5 | I6: 4 | J6: =D12 -> 5
B7: 1.6 | C7: 5 | D7: 5 | F7: 5 | G7: =AVERAGE(C13:C14) -> 5 | I7: 5 | J7: =AVERAGE(D13:D14) -> 4.5
B8: 2.1 | C8: 5 | D8: 5 | G8: =AVERAGE(C2:C14) -> 4.2761538 | J8: =AVERAGE(D2:D14) -> 4.2553846
B9: 2.2 | C9: 5 | D9: 1.97
B10: 2.3 | C10: 3.57 | D10: 5
B11: 3.1 | C11: 5 | D11: 5
B12: 4.1 | C12: 5 | D12: 5
B13: 5.1 | C13: 5 | D13: 4
B14: 5.2 | C14: 5 | D14: 5
B15: รวม 13 ตบช. | C15: =AVERAGE(C2:C14) -> 4.2761538 | D15: =AVERAGE(D2:D14) -> 4.2553846

Sheet  สรุปคะแนน
B2: ตารางการวิเคราะห์คุณภาพการศึกษาภายใน
B4: องค์ประกอบ | C4: จำนวน | D4: I | E4: P | F4: O | G4: คะแนน | H4: ผลการประเมิน
C5: ตัวบ่งชี้ | G5: เฉลี่ย
B6: 1 | C6: 6 | D6: =AVERAGE('(กรอก)ราย ตบช.'!D3:D5) -> 3.5966667 | E6: =AVERAGE('(กรอก)ราย ตบช.'!D6:D7) -> 5 | F6: ='(กรอก)ราย ตบช.'!D2 -> 3.56 | G6: =AVERAGE('(กรอก)ราย ตบช.'!D2:D7) -> 4.0583333 | H6: =IF(G6>=4.51,E19,IF(G6>=3.51,E18,IF(G6>=2.51,E17,IF(G6>=1.51,E16,IF(G6>=0,E15))))) -> การดำเนินงานระดับดี
B7: 2 | C7: 3 | D7: ='(กรอก)ราย ตบช.'!D9 -> 1.97 | E7: ='(กรอก)ราย ตบช.'!D8 -> 5 | F7: ='(กรอก)ราย ตบช.'!D10 -> 5 | G7: =AVERAGE('(กรอก)ราย ตบช.'!D8:D10) -> 3.99 | H7: =IF(G7>=4.51,E19,IF(G7>=3.51,E18,IF(G7>=2.51,E17,IF(G7>=1.51,E16,IF(G7>=0,E15))))) -> การดำเนินงานระดับดี
B8: 3 | C8: 1 | D8: - | E8: ='(กรอก)ราย ตบช.'!D11 -> 5 | F8: - | G8: ='(กรอก)ราย ตบช.'!D11 -> 5 | H8: =IF(G8>=4.51,E19,IF(G8>=3.51,E18,IF(G8>=2.51,E17,IF(G8>=1.51,E16,IF(G8>=0,E15))))) -> การดำเนินงานระดับดีมาก
B9: 4 | C9: 1 | D9: - | E9: ='(กรอก)ราย ตบช.'!D12 -> 5 | F9: - | G9: ='(กรอก)ราย ตบช.'!D12 -> 5 | H9: =IF(G9>=4.51,E19,IF(G9>=3.51,E18,IF(G9>=2.51,E17,IF(G9>=1.51,E16,IF(G9>=0,E15))))) -> การดำเนินงานระดับดีมาก
B10: 5 | C10: 2 | D10: - | E10: =AVERAGE('(กรอก)ราย ตบช.'!D13:D14) -> 4.5 | F10: - | G10: =AVERAGE('(กรอก)ราย ตบช.'!D13:D14) -> 4.5 | H10: =IF(G10>=4.51,E19,IF(G10>=3.51,E18,IF(G10>=2.51,E17,IF(G10>=1.51,E16,IF(G10>=0,E15))))) -> การดำเนินงานระดับดี
B11: ผลการประเมิน | D11: =AVERAGE('(กรอก)ราย ตบช.'!D3,'(กรอก)ราย ตบช.'!D4,'(กรอก)ราย ตบช.'!D5,'(กรอก)ราย ตบช.'!D9) -> 3.19 | E11: =AVERAGE('(กรอก)ราย ตบช.'!D6,'(กรอก)ราย ตบช.'!D7,'(กรอก)ราย ตบช.'!D8,'(กรอก)ราย ตบช.'!D11,'(กรอก)ราย ตบช.'!D12,'(กรอก)ราย ตบช.'!D13,'(กรอก)ราย ตบช.'!D14) -> 4.8571429 | F11: =AVERAGE('(กรอก)ราย ตบช.'!D2,'(กรอก)ราย ตบช.'!D10) -> 4.28 | G11: =AVERAGE('(กรอก)ราย ตบช.'!D2:D14) -> 4.2553846 | H11: =IF(G11>=4.51,E19,IF(G11>=3.51,E18,IF(G11>=2.51,E17,IF(G11>=1.51,E16,IF(G11>=0,E15))))) -> การดำเนินงานระดับดี
B12: ระดับคุณภาพ | D12: =IF(D11>=4.51,E19,IF(D11>=3.51,E18,IF(D11>=2.51,E17,IF(D11>=1.51,E16,IF(D11>=0,E15))))) -> การดำเนินงานระดับพอใช้ | E12: =IF(E11>=4.51,E19,IF(E11>=3.51,E18,IF(E11>=2.51,E17,IF(E11>=1.51,E16,IF(E11>=0,E15))))) -> การดำเนินงานระดับดีมาก | F12: =IF(F11>=4.51,E19,IF(F11>=3.51,E18,IF(F11>=2.51,E17,IF(F11>=1.51,E16,IF(F11>=0,E15))))) -> การดำเนินงานระดับดี
B13: หมายเหตุ : ตัวบ่งชี้ที่ 1.1 เป็นค่าคะแนนเฉลี่ยของผลการประเมินระดับหลักสูตรทุกหลักสูตร
B15: หมายเหตุ : | D15: 0.00 - 1.50 | E15: การดำเนินงานต้องปรับปรุงเร่งด่วน
D16: 1.51 - 2.50 | E16: การดำเนินงานต้องปรับปรุง
D17: 2.51 - 3.50 | E17: การดำเนินงานระดับพอใช้
D18: 3.51 - 4.50 | E18: การดำเนินงานระดับดี
D19: 4.51 - 5.00 | E19: การดำเนินงานระดับดีมาก
