Workbook
Name _Toc124844981: 'ตัวบ่งชี้ 2.1 เกณฑ์ 65'!$A$1

Sheet ตบช.เชิงปริมาณ
B2: ตัวบ่งชี้ 2.1 คุณภาพบัณฑิตตามกรอบมาตรฐานคุณวุฒิระดับอุดมศึกษาแห่งชาติ และ ด้านผลลัพธ์ผู้เรียนตามมาตรฐานการอุดมศึกษา พ.ศ.2561
B3: เกณฑ์การประเมิน : ใช้ค่าเฉลี่ยของคะแนนประเมินบัณฑิต (คะแนนเต็ม 5)
B5: ข้อมูลพื้นฐาน | C5: จำนวนยืนยัน
B6: 1. จำนวนผู้สำเร็จการศึกษาในหลักสูตรทั้งหมด (คน) | C6: 71 | D6: บัณฑิตที่จบภาคการศึกษา 1/2567 , 2/2567 และ S/2568
B7: 2. จำนวนผู้สำเร็จการศึกษาที่ได้รับการประเมินคุณภาพ | C7: 15
B8: ตามกรอบมาตรฐานคุณวุฒิระดับอุดมศึกษาแห่งชาติ (อย่างน้อยร้อยละ 20) | C8: =(C7*100)/C6 -> 21.126761 | D8: ต้องได้มากกว่าร้อยละ 20 | L8: ค่าเฉลี่ย | M8: คนตอบ
B9: 3. ผลรวมค่าคะแนนที่ได้รับจากการประเมินบัณฑิต | C9: 4.68 | K9: =SUM(L9)*M9 -> 139.5 | L9: 4.5 | M9: 31
B10: คะแนนการประเมินบัณฑิตตามกรอบมาตรฐานคุณวุฒิฯ | C10: =ROUND(C9,2) -> 4.68
B12: ตัวบ่งชี้ที่ 2.2 (ปริญญาตรี) ร้อยละของบัณฑิตปริญญาตรีที่ได้งานทำหรือประกอบอาชีพอิสระภายใน 1 ปี
B13: เกณฑ์การประเมิน : ใช้บัญญัติไตรยางศ์เทียบ กำหนดร้อยละ 100 เท่ากับ 5 คะแนน
B15: ข้อมูลพื้นฐาน | C15: จำนวนยืนยัน
B16: [1] จำนวนบัณฑิตทั้งหมด | C16: 71 | D16: จำนวนบัณฑิตทั้งหมด คือบัณฑิตที่จบภาคการศึกษา 1/2567 , 2/2567 และ S/2568
B17: [2] จำนวนบัณฑิตที่ตอบแบบสำรวจ (ไม่น้อยกว่าร้อยละ 70 ของผู้สำเร็จการศึกษา) | C17: 51 | D17: =(C17*100)/C16 -> 71.830986 | E17: จำนวนบัณฑิตที่ตอบแบบสำรวจ ต้องไม่น้อยกว่าร้อยละ 70 ของผู้สำเร็จการศึกษา
B18: [3] จำนวนบัณฑิตที่ได้งานทำหลังสำเร็จการศึกษา [มีงานทำในองค์กร] | C18: 20
B19: [4] จำนวนบัณฑิตที่ได้งานทำหลังสำเร็จการศึกษา [ประกอบอาชีพอิสระ] | C19: 20
B20: [5] จำนวนบัณฑิตที่ได้งานทำหลังสำเร็จการศึกษา [ประกอบกิจการส่วนตัว/ธุรกิจครอบครัว] | C20: 10
B21: [6] จำนวนบัณฑิตที่ไม่ได้งานทำ | C21: 1 | D21: =SUM(C18:C25) -> 51 | E21: ข้อ [3] ถึง [10] บวกกันต้องได้เท่ากับข้อ [2]
B22: [7] จำนวนบัณฑิตที่ศึกษาต่อ | C22: 0
B23: [8] จำนวนบัณฑิตที่อุปสมบท | C23: 0
B24: [9] จำนวนบัณฑิตที่เกณฑ์ทหาร | C24: 0
B25: [10] จำนวนผู้สำเร็จการศึกษาที่มีงานทำก่อนเข้าศึกษา | C25: 0
B26: [11] ร้อยละที่ได้ (([3] + [4] + [5]) x 100) / ([2] – ([7]+[8]+[9]+[10])) | C26: =((C18+C19+C20)*100)/(C17-(C22+C23+C24+C25)) -> 98.039216
B27: [12] ผลลัพธ์ที่ได้ [11] x 5 / 100 | C27: =ROUND((C26*5)/100,2) -> 4.9
B29: ตัวบ่งชี้ที่ 2.2 (ปริญญาโท) ผลงานของนักศึกษาและผู้สำเร็จการศึกษาในระดับปริญญาโท ที่ได้รับการตีพิมพ์หรือเผยแพร่
B30: เกณฑ์การประเมิน : ใช้บัญญัติไตรยางศ์เทียบ กำหนดร้อยละ 40 เท่ากับ 5 คะแนน
B32: ข้อมูลพื้นฐาน | C32: จำนวนยืนยัน
B33: ผลรวมถ่วงน้ำหนักของผลงานที่ตีพิมพ์หรือเผยแพร่ของนักศึกษา และผู้สำเร็จการศึกษาระดับปริญญาโท | C33: =K37 -> 8.3 | E33: ผลงานทางวิชาการ (ชิ้น) | K33: งานสร้างสรรค์ (ชิ้น)
B34: จำนวนผู้สำเร็จการศึกษาระดับปริญญาโททั้งหมด | C34: 20 | E34: 0.1 | F34: 0.2 | G34: 0.4 | H34: 0.6 | I34: 0.8 | J34: 1 | K34: 0.2 | L34: 0.4 | M34: 0.6 | N34: 0.8 | O34: 1
B35: ร้อยละของผลรวมถ่วงน้ำหนักของผลงานที่ตีพิมพ์หรือเผยแพร่ | C35: =SUM(C33)*100/C34 -> 41.5 | E35: 5 | F35: 5 | G35: 5 | H35: 5 | I35: 1 | J35: 1 | K35: 0 | L35: 0 | M35: 0 | N35: 0 | O35: 0
B36: เทียบบัญญัติไตรยางศ์ | C36: =SUM(C35)*5/40 -> 5.1875 | E36: =SUM(E35)*E34 -> 0.5 | F36: =SUM(F35)*F34 -> 1 | G36: =SUM(G35)*G34 -> 2 | H36: =SUM(H35)*H34 -> 3 | I36: =SUM(I35)*I34 -> 0.8 | J36: =SUM(J35)*J34 -> 1 | K36: =SUM(K35)*K34 -> 0 | L36: =SUM(L35)*L34 -> 0 | ... O36: =SUM(O35)*O34 -> 0
E37: ผลรวมถ่วงน้ำหนักของผลงาน | K37: =SUM(E36:O36) -> 8.3
B40: ตัวบ่งชี้ที่ 2.2 (ปริญญาเอก) ผลงานของนักศึกษาและผู้สำเร็จการศึกษา ในระดับปริญญาเอก ที่ได้รับการตีพิมพ์หรือเผยแพร่
B41: เกณฑ์การประเมิน : ใช้บัญญัติไตรยางศ์เทียบ กำหนดร้อยละ 80 เท่ากับ 5 คะแนน
B43: ข้อมูลพื้นฐาน | C43: จำนวนยืนยัน
B44: ผลรวมถ่วงน้ำหนักของผลงานที่ตีพิมพ์หรือเผยแพร่ของนักศึกษา และผู้สำเร็จการศึกษาระดับปริญญาเอก | C44: =K48 -> 7.8 | F44: ผลงานทางวิชาการ (ชิ้น) | K44: งานสร้างสรรค์ (ชิ้น)
B45: จำนวนผู้สำเร็จการศึกษาระดับปริญญาเอกทั้งหมด | C45: 15 | F45: 0.2 | G45: 0.4 | H45: 0.6 | I45: 0.8 | J45: 1 | K45: 0.2 | L45: 0.4 | M45: 0.6 | N45: 0.8 | O45: 1
B46: ร้อยละของผลรวมถ่วงน้ำหนักของผลงานที่ตีพิมพ์หรือเผยแพร่ | C46: =SUM(C44)*100/C45 -> 52 | F46: 5 | G46: 5 | H46: 5 | I46: 1 | J46: 1
B47: เทียบบัญญัติไตรยางศ์ | C47: =SUM(C46)*E495/80 -> 0 | F47: =SUM(F46)*F45 -> 1 | G47: =SUM(G46)*G45 -> 2 | H47: =SUM(H46)*H45 -> 3 | I47: =SUM(I46)*I45 -> 0.8 | J47: =SUM(J46)*J45 -> 1 | K47: =SUM(K46)*K45 -> 0 | L47: =SUM(L46)*L45 -> 0 | M47: =SUM(M46)*M45 -> 0 | ... O47: =SUM(O46)*O45 -> 0
F48: ผลรวมถ่วงน้ำหนักของผลงาน | K48: =SUM(F47:O47) -> 7.8
B51: ตัวบ่งชี้ 4.2 คุณภาพอาจารย์
...

Sheet ตัวบ่งชี้ 2.1 เกณฑ์ 58
B1: กรอกคะแนนเฉลี่ยผลประเมินตาม TQF 5 และ DOE 3 ด้าน
B2: การประเมินตามมาตรฐานด้านผลลัพธ์การเรียนรู้ตามกรอบมาตรฐานคุณวุฒิฯ
B3: ด้าน | C3: ประเด็นการประเมิน | D3: คะแนนเฉลี่ย(เต็ม 5.00) | E3: คะแนนเฉลี่ยเฉพาะด้าน(เต็ม5.0)
B4: 1.คุณธรรม จริยธรรม | C4: 1.1 ความซื่อสัตย์สุจริต | D4: 4.45 | E4: =AVERAGE(D4:D8) -> 4.494
C5: 1.2 ความมีน้ำใจต่อเพื่อนร่วมงาน | D5: 4.71
C6: 1.3 ความมีระเบียบวินัยในการทำงาน | D6: 4.33
C7: 1.4 ความขยันอดทน อุตสาหะ | D7: 4.49
C8: 1.5 การตรงต่อเวลา | D8: 4.49
B10: 2.ความรู้ | C10: 2.1 ความรู้ในสาขาวิชาที่เรียน | D10: 4.61 | E10: =AVERAGE(D10:D13) -> 4.4625
C11: 2.2 ความสามารถในการวิเคราะห์ข้อมูล | D11: 4.48
C12: 2.3 ความสามารถในการนำเสนองานที่ทำ | D12: 4.38
C13: 2.4 ความรอบรู้ที่เกี่ยวข้องกับงานที่ทำ | D13: 4.38
B15: 3.ทักษะทางปัญญา | C15: 3.1 ความสามารถในการเรียนรู้ ศึกษาเพิ่มเติมเพื่อพัฒนางาน | D15: 4.55 | E15: =AVERAGE(D15:D18) -> 4.55
C16: 3.2 มีความคิดริเริ่ม สร้างสรรค์ผลงานใหม่ | D16: 4.55
C17: 3.3 ความรู้ ความสามารถในการตัดสินใจแก้ปัญหางานที่รับผิดชอบ | D17: 4.55
C18: 3.4 การแสวงหาความรู้ใหม่ เพื่อใช้ในการปฏิบัติงาน | D18: 4.55
B20: 4.ทักษะความสัมพันธ์ระหว่างบุคคลและความรับผิดชอบ | C20: 4.1 ความสามารถในการทำงานเป็นทีม | D20: 4.45 | E20: =AVERAGE(D20:D23) -> 4.3525
C21: 4.2 การแสดงออกซึ่งภาวะผู้นำ | D21: 4.22
C22: 4.3 ความรับผิดชอบต่องานที่ทำ | D22: 4.37
C23: 4.4 ความสามารถในการบริหารจัดการ | D23: 4.37
B25: 5.ทักษะการวิเคราะห์เชิงตัวเลข การสื่อสาร และการใช้เทคโนโลยีสารสนเทศ | C25: 5.1 ความสามารถในการคิดวิเคราะห์เชิงตัวเลข | D25: 4.55 | E25: =AVERAGE(D25:D28) -> 4.55
C26: 5.2 การใช้เทคนิคทางคณิตศาสตร์/สถิติ กับงานที่ทำ | D26: 4.49
C27: 5.3 ทักษะในการสื่อสารและประสานงาน | D27: 4.65
C28: 5.4 ทักษะในการใช้อุปกรณ์/เทคโนโลยี/คอมพิวเตอร์ | D28: 4.51
B29: คะแนนเฉลี่ยการประเมินผลลัพธ์การเรียนรู้ทั้ง 5 ด้าน | D29: =AVERAGE(D4:D28) -> 4.482381
C32: กรอกคะแนนเฉลี่ยผลประเมินตาม DOE
B33: ด้าน | C33: ประเด็นการประเมิน | D33: คะแนนเฉลี่ย(เต็ม 5.00) | E33: คะแนนเฉลี่ยเฉพาะด้าน(เต็ม5.0)
B34: 1.การเป็นผู้เรียนรู้ | C34: 1.1 เป็นผู้ใฝ่เรียนรู้เพื่อพัฒนาคุณภาพการทำงานและคุณภาพชีวิตที่ดี | D34: 4.45 | E34: =AVERAGE(D34:D36) -> 4.4966667
C35: 1.2 ทักษะในการเรียนรู้ตลอดชีวิต | D35: 4.71
C36: 1.3 เป็นบุคคลที่มีความรู้ความสามารถ และความรอบรู้ด้านต่างๆ ในการสร้างหรือประกอบสัมมาอาชีพ ความมั่นคงและคุณภาพชีวิตของตนเอง | D36: 4.33
B38: 2.การเป็นผู้ร่วมสร้างนวัตกรรม | C38: 2.1 เป็นผู้มีความสามารถในการบูรณาการศาสตร์ต่างๆในการแก้ปัญหา | D38: 4.61 | E38: =AVERAGE(D38:D40) -> 4.49
C39: 2.2 เป็นผู้มีลักษณะของความเป็นผู้ประกอบการ ที่รู้เท่าทันการเปลี่ยนแปลงของสังคมโลก | D39: 4.48
C40: 2.3 เป็นผู้สร้างโอกาสและเพิ่มมูลค่าให้กับตนเองและองค์กร | D40: 4.38
B42: 3.การเป็นพลเมืองที่เข้มแข็ง | C42: 3.1 มีความกล้าหาญทางจริยธรรม ยึดมั่น ในความถูกต้อง | D42: 4.55 | E42: =AVERAGE(D42:D43) -> 4.55
C43: 3.2 มีความร่วมมือร่วมพลังเพื่อสร้างสรรค์การพัฒนาและการสร้างสันติสุข | D43: 4.55
B45: คะแนนเฉลี่ยการประเมิน DOE ทั้ง 3 ด้าน | D45: =AVERAGE(D34:D44) -> 4.5075

Sheet ตัวบ่งชี้ 2.1 เกณฑ์ 65
A1: (ตัวบ่งชี้ที่ 2.1) คุณภาพบัณฑิตตามมาตรฐานคุณวุฒิระดับอุดมศึกษา พ.ศ.2565 และด้านผลลัพธ์ผู้เรียนตามมาตรฐานการอุดมศึกษา พ.ศ.2565
B2: จำนวนบัณฑิตทั้งหมด (ผู้สำเร็จการศึกษา ปีการศึกษา 2567) | C2: 100
B3: จำนวนบัณฑิตที่ได้รับการประเมิน | C3: 50
B4: ร้อยละของจำนวนบัณฑิตที่ได้รับการประเมินจากผู้ใช้บัณฑิต | C4: =SUM(C3/C2)*100 -> 50
A5: คุณภาพบัณฑิตตามมาตรฐานคุณวุฒิระดับอุดมศึกษา พ.ศ.2565
B6: ด้าน | C6: คะแนนเฉลี่ยเฉพาะด้าน(เต็ม5.0)
B7: 1.ความรู้ (Knowledge) | C7: 5
B8: 2.ทักษะ (Skills) | C8: 4.51
B9: 3.จริยธรรม (Ethics) | C9: 4.55
B10: 4.ลักษณะบุคคล (Character) | C10: 4.32
B11: คะแนนเฉลี่ยคุณภาพบัณฑิตฯ | C11: =AVERAGE(C7:C10) -> 4.595
A12: ผลลัพธ์ผู้เรียนตามมาตรฐานการอุดมศึกษา พ.ศ.2565
B13: ด้าน | C13: คะแนนเฉลี่ยเฉพาะด้าน(เต็ม5.0)
B14: 1.บุคคลผู้เรียนรู้ (Learner Person) | C14: 5
B15: 2.ผู้ร่วมสร้างนวัตกรรม (Innovative Co-Creator) | C15: 4.55
B16: 3.ผู้มีความเป็นพลเมืองที่เข้มแข็ง (Active Citizen) | C16: 5
B17: คะแนนเฉลี่ยด้านผลลัพธ์ผู้เรียน | C17: =AVERAGE(C14:C16) -> 4.85
B18: คะแนนเฉลี่ยรวมคุณภาพบัณฑิตตามมาตรฐานคุณวุฒิระดับอุดมศึกษา พ.ศ.2565 และด้านผลลัพธ์ผู้เรียนตามมาตรฐานการอุดมศึกษา พ.ศ.2565 | C18: =AVERAGE(C11,C17) -> 4.7225
B20: หมายเหตุ :
B21: 1) บัณฑิตในปีการศึกษาที่ทำการประเมินฯ นั้นเป็นบัณฑิตตามรุ่นที่รับปริญญาของมหาวิทยาลัยรังสิต ซึ่งจะประกอบด้วยภาคการศึกษาที่ 1 และ ภาคการศึกษาที่ 2 ของปีการศึกษาก่อนปีประเมินฯ และภาคการศึกษา S ของปีการศึกษาที่ประเมินฯ ยกตัวอย่าง เช่น ประเมินฯ ปีการศึกษา 2568 จะประกอบด้วยบัณฑิตภาคการศึกษาที่ 1/2567, 2/2567 และ S/2568
B22: 2) จำนวนบัณฑิตที่รับการประเมินจากผู้ใช้บัณฑิตต้องไม่น้อยกว่าร้อยละ 20 ของจำนวนบัณฑิตที่สำเร็จการศึกษาตาม (ข้อ1) ไม่เช่นนั้นคะแนนจะเป็น 0.00 คะแนน
B23: 3) ผลลัพธ์ผู้เรียนตามมาตรฐานการอุดมศึกษา พ.ศ.2565 ให้ใช้คะแนนผลการสำรวจความพึงพอใจของนายจ้างโดยเทียบจากคะแนนผลสำรวจฯ ที่สัมพันธ์กับผลลัพธ์การเรียนรู้ของหลักสูตร

Sheet อัตราการเปลี่ยนแปลง (ตรี 4 ปี)
J1: หลักสูตรกรอกตัวเลขเฉพาะแถวข้อมูลดิบ
A2: การคำนวณอัตราการเปลี่ยนแปลงจำนวนนักศึกษาที่เรียนต่อขึ้นชั้นปี
A3: ปีการศึกษาที่รับเข้า | J3: หมายเหตุ เมื่อใส่ข้อมูลในช่องสีชมพูแล้ว ข้อมูลจะถูกนำไปใช้ใน Sheet "ตัวบ่งชี้ 3.3 (ตรี 4 ปี)" ในคอลัม B "จำนวนที่รับเข้า"
A4: (ตั้งแต่ปีการศึกษาที่เริ่มใช้หลักสูตร) | C4: 2563 | D4: =C4+1 -> 2564 | E4: =D4+1 -> 2565 | F4: =E4+1 -> 2566 | G4: =F4+1 -> 2567 | H4: =G4+1 -> 2568
A5: ปีการศึกษา | B5: 2563 | C5: 73 | D5: 20 | E5: 9 | F5: 8 | G5: 5 | H5: 3 | I5: ข้อมูลดิบ
A6: ร้อยละ | D6: =D5/C5*100 -> 27.39726 | E6: =E5/D5*100 -> 45 | F6: =F5/E5*100 -> 88.888889 | G6: =G5/F5*100 -> 62.5 | H6: =H5/G5*100 -> 60 | I6: สูตร
A7: ปีการศึกษา | B7: =B5+1 -> 2564 | D7: 97 | E7: 25 | F7: 11 | G7: 5 | H7: 4 | I7: ข้อมูลดิบ
A8: ร้อยละ | E8: =E7/D7*100 -> 25.773196 | F8: =F7/E7*100 -> 44 | G8: =G7/F7*100 -> 45.454545 | H8: =H7/G7*100 -> 80 | I8: สูตร
A9: ปีการศึกษา | B9: =B7+1 -> 2565 | E9: 97 | F9: 16 | G9: 8 | H9: 5 | I9: ข้อมูลดิบ
A10: ร้อยละ | F10: =F9/E9*100 -> 16.494845 | G10: =G9/F9*100 -> 50 | H10: =H9/G9*100 -> 62.5 | I10: สูตร
A11: ปีการศึกษา | B11: =B9+1 -> 2566 | F11: 56 | G11: 35 | H11: 20 | I11: ข้อมูลดิบ
A12: ร้อยละ | G12: =G11/F11*100 -> 62.5 | H12: =H11/G11*100 -> 57.142857 | I12: สูตร
A13: ปีการศึกษา | B13: =B11+1 -> 2567 | G13: 71 | H13: 39 | I13: ข้อมูลดิบ
A14: ร้อยละ | H14: =H13/G13*100 -> 54.929577 | I14: สูตร
A15: ปีการศึกษา | B15: =B13+1 -> 2568 | H15: 51 | I15: ข้อมูลดิบ
A16: ร้อยละ | C16: =SUM(C5,C7,C9,C11,C13,C15) -> 73 | D16: =SUM(D5,D7,D9,D11,D13,D15) -> 117 | E16: =SUM(E5,E7,E9,E11,E13,E15) -> 131 | F16: =SUM(F5,F7,F9,F11,F13,F15) -> 91 | G16: =SUM(G5,G7,G9,G11,G13,G15) -> 124 | H16: =SUM(H5,H7,H9,H11,H13,H15) -> 122 | I16: สูตร
A18: การคำนวณอัตราการเปลี่ยนแปลงจำนวนนักศึกษาที่เรียนต่อขึ้นชั้นปีจะคำนวณย้อนกลับไป 3 ปีการศึกษานับจากปีรายงาน
A19: นักศึกษาชั้นปีที่ 1 ที่เรียนต่อชั้นปีที่ 2 เฉลี่ย = | E19: =H14 -> 54.929577 | F19: + | G19: =G12 -> 62.5 | H19: + | I19: =F10 -> 16.494845 | J19: = | K19: =AVERAGE(H14,G12,F10) -> 44.641474
E20: 3
A21: นักศึกษาชั้นปีที่ 2 ที่เรียนต่อชั้นปีที่ 3 เฉลี่ย = | E21: =H12 -> 57.142857 | F21: + | G21: =G10 -> 50 | H21: + | I21: =F8 -> 44 | J21: = | K21: =AVERAGE(H12,G10,F8) -> 50.380952
E22: 3
A23: นักศึกษาชั้นปีที่ 3 ที่เรียนต่อชั้นปีที่ 4 เฉลี่ย = | E23: =H10 -> 62.5 | F23: + | G23: =G8 -> 45.454545 | H23: + | I23: =F6 -> 88.888889 | J23: = | K23: =AVERAGE(H10,G8,F6) -> 65.614478
E24: 3

Sheet ตัวบ่งชี้ 3.3 (ตรี 4 ปี)
A1: ปีการ ศึกษา* | B1: จำนวนที่รับเข้า (1) | C1: จำนวนที่สำเร็จการศึกษา (2) | F1: อัตราการสำเร็จการศึกษาตามเกณฑ์ | G1: จำนวนที่คงอยู่สิ้นปีการศึกษา 2568 | H1: จำนวนที่ออกระหว่างเรียนจนสิ้นปีการศึกษา 2568 (4) | I1: อัตราการคงอยู่ | J1: หลักสูตรกรอกข้อมูลเฉพาะคอลัมน์ B , C, D, E และ H
C2: 2566 | D2: 2567 | E2: 2568 | F2: [โดยรวมที่สำเร็จก่อนเกณฑ์] | G2: (3)
A4: 2563 | B4: 32 | C4: 10 | D4: 19 | E4: 3 | F4: =C4/B4*100 -> 31.25 | G4: =B4-C4-D4-E4-H4 -> 0 | H4: 0 | I4: =(B4-H4)/B4*100 -> 100
A5: 2564 | B5: 31 | C5: 0 | D5: 2 | E5: 13 | F5: =(SUM(C5:D5))/B5*100 -> 6.4516129 | G5: =B5-C5-D5-E5-H5 -> 14 | H5: 2 | I5: =(B5-H5)/B5*100 -> 93.548387
A6: 2565 | B6: 36 | C6: 0 | D6: 0 | E6: 0 | F6: =(SUM(C6:E6))/B6*100 -> 0 | G6: =B6-C6-D6-E6-H6 -> 27 | H6: 9 | I6: =(B6-H6)/B6*100 -> 75
A7: 2566 | B7: ='อัตราการเปลี่ยนแปลง (ตรี 4 ปี)'!F11 -> 56 | C7: 0 | D7: 0 | E7: 0 | F7: =(SUM(C7:E7))/B7*100 -> 0 | G7: =B7-C7-D7-E7-H7 -> 19 | H7: 37 | I7: =(B7-H7)/B7*100 -> 33.928571
A8: 2567 | B8: ='อัตราการเปลี่ยนแปลง (ตรี 4 ปี)'!G13 -> 71 | C8: 0 | D8: 0 | E8: 0 | F8: =(SUM(C8:E8))/B8*100 -> 0 | G8: =B8-C8-D8-E8-H8 -> 45 | H8: 26 | I8: =(B8-H8)/B8*100 -> 63.380282 | J8: *ขอให้หลักสูตรกรอกข้อมูลลงใน Sheet อัตราการเปลี่ยนแปลง (ตรี 4 ปี) ก่อน จากนั้น ตัวเลขจะถูกดึงมาในคอลัม B (จำนวนที่รับเข้า) อัตโนมัติ
A9: 2568 | B9: ='อัตราการเปลี่ยนแปลง (ตรี 4 ปี)'!H15 -> 51 | C9: 0 | D9: 0 | E9: 0 | F9: =(SUM(C9:E9))/B9*100 -> 0 | G9: =B9-C9-D9-E9-H9 -> 51 | H9: 0 | I9: =(B9-H9)/B9*100 -> 100
A10: รวม | B10: =SUM(B4:B9) -> 277 | C10: =SUM(C4:C9) -> 10 | D10: =SUM(D4:D9) -> 21 | E10: =SUM(E4:E9) -> 16 | G10: =SUM(G4:G9) -> 156 | H10: =SUM(H4:H9) -> 74 | I10: =(B10-H10)/B10*100 -> 73.285199
A11: 1.จำนวนนักศึกษาชั้นปีที่ 1 ที่รับเข้าในปีการศึกษาที่รายงาน จำนวน = | G11: =B9 -> 51 | H11: คน
A12: สีเขียว คือ แนวโน้มอัตราสำเร็จ
A13: ม่วง คือ แนวโน้มอัตราคงอยู่

Sheet อัตราเปลี่ยนแปลง (ตรี 5 ปี)
K1: หลักสูตรกรอกตัวเลขเฉพาะแถวข้อมูลดิบ
A2: การคำนวณอัตราการเปลี่ยนแปลงจำนวนนักศึกษาที่เรียนต่อขึ้นชั้นปี
A3: ปีการศึกษาที่รับเข้า | K3: หมายเหตุ เมื่อใส่ข้อมูลในช่องสีชมพูแล้ว ข้อมูลจะถูกนำไปใช้ใน Sheet "ตัวบ่งชี้ 3.3 (ตรี 5 ปี)" ในคอลัม B "จำนวนที่รับเข้า"
A4: (ตั้งแต่ปีการศึกษาที่เริ่มใช้หลักสูตร) | C4: 2562 | D4: 2563 | E4: =D4+1 -> 2564 | F4: =E4+1 -> 2565 | G4: =F4+1 -> 2566 | H4: =G4+1 -> 2567 | I4: =H4+1 -> 2568
A5: ปีการศึกษา | B5: 2562 | C5: 60 | D5: 30 | E5: 20 | F5: 19 | G5: 15 | H5: 14 | I5: 10 | J5: ข้อมูลดิบ
A6: ร้อยละ | D6: =D5/C5*100 -> 50 | E6: =E5/D5*100 -> 66.666667 | F6: =F5/E5*100 -> 95 | G6: =G5/F5*100 -> 78.947368 | H6: =H5/G5*100 -> 93.333333 | I6: =I5/H5*100 -> 71.428571 | J6: สูตร
A7: ปีการศึกษา | B7: 2563 | D7: 30 | E7: 20 | F7: 19 | G7: 16 | H7: 14 | I7: 10 | J7: ข้อมูลดิบ
A8: ร้อยละ | E8: =E7/D7*100 -> 66.666667 | F8: =F7/E7*100 -> 95 | G8: =G7/F7*100 -> 84.210526 | H8: =H7/G7*100 -> 87.5 | I8: =I7/H7*100 -> 71.428571 | J8: สูตร
A9: ปีการศึกษา | B9: =B7+1 -> 2564 | E9: 17 | F9: 10 | G9: 8 | H9: 6 | I9: 1 | J9: ข้อมูลดิบ
A10: ร้อยละ | F10: =F9/E9*100 -> 58.823529 | G10: =G9/F9*100 -> 80 | H10: =H9/G9*100 -> 75 | I10: =I9/H9*100 -> 16.666667 | J10: สูตร
A11: ปีการศึกษา | B11: =B9+1 -> 2565 | F11: 21 | G11: 21 | H11: 5 | I11: 1 | J11: ข้อมูลดิบ
A12: ร้อยละ | G12: =G11/F11*100 -> 100 | H12: =H11/G11*100 -> 23.809524 | I12: =I11/H11*100 -> 20 | J12: สูตร
A13: ปีการศึกษา | B13: =B11+1 -> 2566 | G13: 23 | H13: 15 | I13: 4 | J13: ข้อมูลดิบ
A14: ร้อยละ | H14: =H13/G13*100 -> 65.217391 | I14: =I13/H13*100 -> 26.666667 | J14: สูตร
A15: ปีการศึกษา | B15: =B13+1 -> 2567 | H15: 18 | I15: 2 | J15: ข้อมูลดิบ
A16: ร้อยละ | I16: =I15/H15*100 -> 11.111111 | J16: สูตร
A17: ปีการศึกษา | B17: =B15+1 -> 2568 | I17: 24 | J17: ข้อมูลดิบ
A18: ร้อยละ | C18: =SUM(C5,C7,C9,C11,C13,C15,C17) -> 60 | D18: =SUM(D5,D7,D9,D11,D13,D15,D17) -> 60 | E18: =SUM(E5,E7,E9,E11,E13,E15,E17) -> 57 | F18: =SUM(F5,F7,F9,F11,F13,F15,F17) -> 69 | G18: =SUM(G5,G7,G9,G11,G13,G15,G17) -> 83 | H18: =SUM(H5,H7,H9,H11,H13,H15,H17) -> 72 | I18: =SUM(I5,I7,I9,I11,I13,I15,I17) -> 52 | J18: สูตร
A20: การคำนวณอัตราการเปลี่ยนแปลงจำนวนนักศึกษาที่เรียนต่อขึ้นชั้นปีจะคำนวณย้อนกลับไป 3 ปีการศึกษานับจากปีรายงาน
A21: นักศึกษาชั้นปีที่ 1 ที่เรียนต่อชั้นปีที่ 2 เฉลี่ย = | F21: =I16 -> 11.111111 | G21: + | H21: =H14 -> 65.217391 | I21: + | J21: =G12 -> 100 | K21: = | L21: =AVERAGE(I16,H14,G12) -> 58.776167
F22: 3
A23: นักศึกษาชั้นปีที่ 2 ที่เรียนต่อชั้นปีที่ 3 เฉลี่ย = | F23: =I14 -> 26.666667 | G23: + | H23: =H12 -> 23.809524 | I23: + | J23: =G10 -> 80 | K23: = | L23: =AVERAGE(I14,H12,G10) -> 43.492063
F24: 3
A25: นักศึกษาชั้นปีที่ 3 ที่เรียนต่อชั้นปีที่ 4 เฉลี่ย = | F25: =I12 -> 20 | G25: + | H25: =H10 -> 75 | I25: + | J25: =G8 -> 84.210526 | K25: = | L25: =AVERAGE(I12,H10,G8) -> 59.736842
F26: 3
A27: นักศึกษาชั้นปีที่ 4 ที่เรียนต่อชั้นปีที่ 5 เฉลี่ย = | F27: =G6 -> 78.947368 | G27: + | H27: =H8 -> 87.5 | I27: + | J27: =I10 -> 16.666667 | K27: = | L27: =AVERAGE(I10,H8,G6) -> 61.038012
H28: 3

Sheet ตัวบ่งชี้ 3.3 (ตรี 5 ปี)
A1: ปีการ ศึกษา* | B1: จำนวนที่รับเข้า (1) | C1: จำนวนที่สำเร็จการศึกษา (2) | F1: อัตราการสำเร็จการศึกษาตามเกณฑ์ | G1: จำนวนที่คงอยู่สิ้นปีการศึกษา 2568 | H1: จำนวนที่ออกระหว่างเรียนจนสิ้นปีการศึกษา 2568 (4) | I1: อัตราการคงอยู่ | J1: หลักสูตรกรอกข้อมูลเฉพาะคอลัมน์ B , C, D, E และ H
C2: 2566 | D2: 2567 | E2: 2568 | F2: [โดยรวมที่สำเร็จก่อนเกณฑ์] | G2: (3)
A4: 2562 | B4: ='อัตราเปลี่ยนแปลง (ตรี 5 ปี)'!C5 -> 60 | C4: 50 | D4: 6 | E4: 2 | F4: =C4/B4*100 -> 83.333333 | G4: =B4-C4-D4-E4-H4 -> 2 | H4: 0 | I4: =(B4-H4)/B4*100 -> 100
A5: 2563 | B5: ='อัตราเปลี่ยนแปลง (ตรี 5 ปี)'!D7 -> 30 | C5: 0 | D5: 20 | E5: 7 | F5: =(SUM(C5:D5))/B5*100 -> 66.666667 | G5: =B5-C5-D5-E5-H5 -> 3 | H5: 0 | I5: =(B5-H5)/B5*100 -> 100
A6: 2564 | B6: ='อัตราเปลี่ยนแปลง (ตรี 5 ปี)'!E9 -> 17 | C6: 0 | D6: 0 | E6: 15 | F6: =(SUM(C6:E6))/B6*100 -> 88.235294 | G6: =B6-C6-D6-E6-H6 -> 0 | H6: 2 | I6: =(B6-H6)/B6*100 -> 88.235294
A7: 2565 | B7: ='อัตราเปลี่ยนแปลง (ตรี 5 ปี)'!F11 -> 21 | C7: 0 | D7: 0 | E7: 0 | F7: =(SUM(C7:E7))/B7*100 -> 0 | G7: =B7-C7-D7-E7-H7 -> 3 | H7: 18 | I7: =(B7-H7)/B7*100 -> 14.285714
A8: 2566 | B8: ='อัตราเปลี่ยนแปลง (ตรี 5 ปี)'!G13 -> 23 | C8: 0 | D8: 0 | E8: 0 | F8: =(SUM(C8:E8))/B8*100 -> 0 | G8: =B8-C8-D8-E8-H8 -> 14 | H8: 9 | I8: =(B8-H8)/B8*100 -> 60.869565
A9: 2567 | B9: ='อัตราเปลี่ยนแปลง (ตรี 5 ปี)'!H15 -> 18 | C9: 0 | D9: 0 | E9: 0 | F9: =(SUM(C9:E9))/B9*100 -> 0 | G9: =B9-C9-D9-E9-H9 -> 15 | H9: 3 | I9: =(B9-H9)/B9*100 -> 83.333333 | J9: *ขอให้หลักสูตรกรอกข้อมูลลงใน Sheet อัตราการเปลี่ยนแปลง (ตรี 5 ปี) ก่อน จากนั้น ตัวเลขจะถูกดึงมาในคอลัม B (จำนวนที่รับเข้า) อัตโนมัติ
A10: 2568 | B10: ='อัตราเปลี่ยนแปลง (ตรี 5 ปี)'!I17 -> 24 | C10: 0 | D10: 0 | E10: 0 | F10: =(SUM(C10:E10))/B10*100 -> 0 | G10: =B10-C10-D10-E10-H10 -> 22 | H10: 2 | I10: =(B10-H10)/B10*100 -> 91.666667
A11: รวม | B11: =SUM(B4:B10) -> 193 | C11: =SUM(C4:C10) -> 50 | D11: =SUM(D4:D10) -> 26 | E11: =SUM(E4:E10) -> 24 | G11: =SUM(G4:G10) -> 59 | H11: =SUM(H4:H10) -> 34 | I11: =(B11-H11)/B11*100 -> 82.38342
A12: 1.จำนวนนักศึกษาชั้นปีที่ 1 ที่รับเข้าในปีการศึกษาที่รายงาน จำนวน = | G12: =B10 -> 24 | H12: คน
A13: สีเขียว คือ แนวโน้มอัตราสำเร็จ
A14: ม่วง คือ แนวโน้มอัตราคงอยู่

Sheet อัตราเปลี่ยนแปลง (ตรี 6 ปี)
L1: หลักสูตรกรอกตัวเลขเฉพาะแถวข้อมูลดิบ
A2: การคำนวณอัตราการเปลี่ยนแปลงจำนวนนักศึกษาที่เรียนต่อขึ้นชั้นปี
A3: ปีการศึกษาที่รับเข้า | L3: หมายเหตุ เมื่อใส่ข้อมูลในช่องสีชมพูแล้ว ข้อมูลจะถูกนำไปใช้ใน Sheet "ตัวบ่งชี้ 3.3 (ตรี 6 ปี)" ในคอลัม B "จำนวนที่รับเข้า"
A4: (ตั้งแต่ปีการศึกษาที่เริ่มใช้หลักสูตร) | C4: 2561 | D4: 2562 | E4: 2563 | F4: =E4+1 -> 2564 | G4: =F4+1 -> 2565 | H4: =G4+1 -> 2566 | I4: =H4+1 -> 2567 | J4: =I4+1 -> 2568
A5: ปีการศึกษา | B5: 2561 | C5: 80 | D5: 40 | E5: 30 | F5: 20 | G5: 19 | H5: 16 | I5: 14 | J5: 10 | K5: ข้อมูลดิบ
A6: ร้อยละ | D6: =D5/C5*100 -> 50 | E6: =E5/D5*100 -> 75 | F6: =F5/E5*100 -> 66.666667 | G6: =G5/F5*100 -> 95 | H6: =H5/G5*100 -> 84.210526 | I6: =I5/H5*100 -> 87.5 | J6: =J5/I5*100 -> 71.428571 | K6: สูตร
A7: ปีการศึกษา | B7: 2562 | D7: 40 | E7: 30 | F7: 20 | G7: 19 | H7: 16 | I7: 14 | J7: 10 | K7: ข้อมูลดิบ
A8: ร้อยละ | E8: =E7/D7*100 -> 75 | F8: =F7/E7*100 -> 66.666667 | G8: =G7/F7*100 -> 95 | H8: =H7/G7*100 -> 84.210526 | I8: =I7/H7*100 -> 87.5 | J8: =J7/I7*100 -> 71.428571 | K8: สูตร
A9: ปีการศึกษา | B9: 2563 | E9: 30 | F9: 20 | G9: 19 | H9: 16 | I9: 14 | J9: 10 | K9: ข้อมูลดิบ
A10: ร้อยละ | F10: =F9/E9*100 -> 66.666667 | G10: =G9/F9*100 -> 95 | H10: =H9/G9*100 -> 84.210526 | I10: =I9/H9*100 -> 87.5 | J10: =J9/I9*100 -> 71.428571 | K10: สูตร
A11: ปีการศึกษา | B11: =B9+1 -> 2564 | F11: 17 | G11: 10 | H11: 8 | I11: 6 | J11: 1 | K11: ข้อมูลดิบ
A12: ร้อยละ | G12: =G11/F11*100 -> 58.823529 | H12: =H11/G11*100 -> 80 | I12: =I11/H11*100 -> 75 | J12: =J11/I11*100 -> 16.666667 | K12: สูตร
A13: ปีการศึกษา | B13: =B11+1 -> 2565 | G13: 21 | H13: 21 | I13: 5 | J13: 1 | K13: ข้อมูลดิบ
A14: ร้อยละ | H14: =H13/G13*100 -> 100 | I14: =I13/H13*100 -> 23.809524 | J14: =J13/I13*100 -> 20 | K14: สูตร
A15: ปีการศึกษา | B15: =B13+1 -> 2566 | H15: 23 | I15: 15 | J15: 4 | K15: ข้อมูลดิบ
A16: ร้อยละ | I16: =I15/H15*100 -> 65.217391 | J16: =J15/I15*100 -> 26.666667 | K16: สูตร
A17: ปีการศึกษา | B17: =B15+1 -> 2567 | I17: 18 | J17: 2 | K17: ข้อมูลดิบ
A18: ร้อยละ | J18: =J17/I17*100 -> 11.111111 | K18: สูตร
A19: ปีการศึกษา | B19: =B17+1 -> 2568 | J19: 24 | K19: ข้อมูลดิบ
A20: ร้อยละ | C20: =SUM(C5,C7,C9,C11,C13,C15,C17,C19) -> 80 | D20: =SUM(D5,D7,D9,D11,D13,D15,D17,D19) -> 80 | E20: =SUM(E5,E7,E9,E11,E13,E15,E17,E19) -> 90 | F20: =SUM(F5,F7,F9,F11,F13,F15,F17,F19) -> 77 | G20: =SUM(G5,G7,G9,G11,G13,G15,G17,G19) -> 88 | H20: =SUM(H5,H7,H9,H11,H13,H15,H17,H19) -> 100 | I20: =SUM(I5,I7,I9,I11,I13,I15,I17,I19) -> 86 | J20: =SUM(J5,J7,J9,J11,J13,J15,J17,J19) -> 62 | K20: สูตร
A22: การคำนวณอัตราการเปลี่ยนแปลงจำนวนนักศึกษาที่เรียนต่อขึ้นชั้นปีจะคำนวณย้อนกลับไป 3 ปีการศึกษานับจากปีรายงาน
A23: นักศึกษาชั้นปีที่ 1 ที่เรียนต่อชั้นปีที่ 2 เฉลี่ย = | G23: =J18 -> 11.111111 | H23: + | I23: =I16 -> 65.217391 | J23: + | K23: =H14 -> 100 | L23: = | M23: =AVERAGE(J18,I16,H14) -> 58.776167
G24: 3
A25: นักศึกษาชั้นปีที่ 2 ที่เรียนต่อชั้นปีที่ 3 เฉลี่ย = | G25: =J16 -> 26.666667 | H25: + | I25: =I14 -> 23.809524 | J25: + | K25: =H12 -> 80 | L25: = | M25: =AVERAGE(J16,I14,H12) -> 43.492063
G26: 3
A27: นักศึกษาชั้นปีที่ 3 ที่เรียนต่อชั้นปีที่ 4 เฉลี่ย = | G27: =J14 -> 20 | H27: + | I27: =I12 -> 75 | J27: + | K27: =H10 -> 84.210526 | L27: = | M27: =AVERAGE(J14,I12,H10) -> 59.736842
G28: 3
A29: นักศึกษาชั้นปีที่ 4 ที่เรียนต่อชั้นปีที่ 5 เฉลี่ย = | G29: =H8 -> 84.210526 | H29: + | I29: =I10 -> 87.5 | J29: + | K29: =J12 -> 16.666667 | L29: = | M29: =AVERAGE(J12,I10,H8) -> 62.792398
I30: 3
A31: นักศึกษาชั้นปีที่ 5 ที่เรียนต่อชั้นปีที่ 6 เฉลี่ย = | G31: =H6 -> 84.210526 | H31: + | I31: =I8 -> 87.5 | J31: + | K31: =J10 -> 71.428571 | L31: = | M31: =AVERAGE(J10,I8,H6) -> 81.046366
I32: 3

Sheet ตัวบ่งชี้ 3.3 (ตรี 6 ปี)
A1: ปีการ ศึกษา* | B1: จำนวนที่รับเข้า (1) | C1: จำนวนที่สำเร็จการศึกษา (2) | F1: อัตราการสำเร็จการศึกษาตามเกณฑ์ | G1: จำนวนที่คงอยู่สิ้นปีการศึกษา 2568 | H1: จำนวนที่ออกระหว่างเรียนจนสิ้นปีการศึกษา 2568 (4) | I1: อัตราการคงอยู่ | J1: หลักสูตรกรอกข้อมูลเฉพาะคอลัมน์ B , C, D, E และ H
C2: 2566 | D2: 2567 | E2: 2568 | F2: [โดยรวมที่สำเร็จก่อนเกณฑ์] | G2: (3)
A4: 2561 | B4: ='อัตราเปลี่ยนแปลง (ตรี 6 ปี)'!C5 -> 80 | C4: 60 | D4: 6 | E4: 2 | F4: =C4/B4*100 -> 75 | G4: =B4-C4-D4-E4-H4 -> 10 | H4: 2 | I4: =(B4-H4)/B4*100 -> 97.5
A5: 2562 | B5: ='อัตราเปลี่ยนแปลง (ตรี 6 ปี)'!D7 -> 40 | C5: 0 | D5: 30 | E5: 2 | F5: =(SUM(C5:D5))/B5*100 -> 75 | G5: =B5-C5-D5-E5-H5 -> 2 | H5: 6 | I5: =(B5-H5)/B5*100 -> 85
A6: 2563 | B6: ='อัตราเปลี่ยนแปลง (ตรี 6 ปี)'!E9 -> 30 | C6: 0 | D6: 0 | E6: 20 | F6: =(SUM(C6:E6))/B6*100 -> 66.666667 | G6: =B6-C6-D6-E6-H6 -> 5 | H6: 5 | I6: =(B6-H6)/B6*100 -> 83.333333
A7: 2564 | B7: ='อัตราเปลี่ยนแปลง (ตรี 6 ปี)'!F11 -> 17 | C7: 0 | D7: 0 | E7: 0 | F7: =(SUM(C7:E7))/B7*100 -> 0 | G7: =B7-C7-D7-E7-H7 -> 17 | H7: 0 | I7: =(B7-H7)/B7*100 -> 100
A8: 2565 | B8: ='อัตราเปลี่ยนแปลง (ตรี 6 ปี)'!G13 -> 21 | C8: 0 | D8: 0 | E8: 0 | F8: =(SUM(C8:E8))/B8*100 -> 0 | G8: =B8-C8-D8-E8-H8 -> 21 | H8: 0 | I8: =(B8-H8)/B8*100 -> 100
A9: 2566 | B9: ='อัตราเปลี่ยนแปลง (ตรี 6 ปี)'!H15 -> 23 | C9: 0 | D9: 0 | E9: 0 | F9: =(SUM(C9:E9))/B9*100 -> 0 | G9: =B9-C9-D9-E9-H9 -> 23 | H9: 0 | I9: =(B9-H9)/B9*100 -> 100
A10: 2567 | B10: ='อัตราเปลี่ยนแปลง (ตรี 6 ปี)'!I17 -> 18 | C10: 0 | D10: 0 | E10: 0 | F10: =(SUM(C10:E10))/B10*100 -> 0 | G10: =B10-C10-D10-E10-H10 -> 18 | H10: 0 | I10: =(B10-H10)/B10*100 -> 100 | J10: *ขอให้หลักสูตรกรอกข้อมูลลงใน Sheet อัตราการเปลี่ยนแปลง (ตรี 6 ปี) ก่อน จากนั้น ตัวเลขจะถูกดึงมาในคอลัม B (จำนวนที่รับเข้า) อัตโนมัติ
A11: 2568 | B11: ='อัตราเปลี่ยนแปลง (ตรี 6 ปี)'!J19 -> 24 | C11: 0 | D11: 0 | E11: 0 | F11: =(SUM(C11:E11))/B11*100 -> 0 | G11: =B11-C11-D11-E11-H11 -> 24 | H11: 0 | I11: =(B11-H11)/B11*100 -> 100
A12: รวม | B12: =SUM(B4:B11) -> 253 | C12: =SUM(C4:C11) -> 60 | D12: =SUM(D4:D11) -> 36 | E12: =SUM(E4:E11) -> 24 | G12: =SUM(G4:G11) -> 120 | H12: =SUM(H4:H11) -> 13 | I12: =(B12-H12)/B12*100 -> 94.86166
A13: 1.จำนวนนักศึกษาชั้นปีที่ 1 ที่รับเข้าในปีการศึกษาที่รายงาน จำนวน = | G13: =B11 -> 24 | H13: คน
A14: สีเขียว คือ แนวโน้มอัตราสำเร็จ
A15: ม่วง คือ แนวโน้มอัตราคงอยู่

Sheet อัตราการเปลี่ยนแปลง (โท 2 ปี)
H1: หลักสูตรกรอกตัวเลขเฉพาะแถวข้อมูลดิบ
A2: การคำนวณอัตราการเปลี่ยนแปลงจำนวนนักศึกษาที่เรียนต่อขึ้นชั้นปี
A3: ปีการศึกษาที่รับเข้า | H3: หมายเหตุ เมื่อใส่ข้อมูลในช่องสีชมพูแล้ว ข้อมูลจะถูกนำไปใช้ใน Sheet "ตัวบ่งชี้ 3.3 (โท 2 ปี)" ในคอลัม B "จำนวนที่รับเข้า"
A4: (ตั้งแต่ปีการศึกษาที่เริ่มใช้หลักสูตร) | C4: 2565 | D4: =C4+1 -> 2566 | E4: =D4+1 -> 2567 | F4: =E4+1 -> 2568
A5: ปีการศึกษา | B5: 2565 | C5: 50 | D5: 30 | E5: 20 | F5: 10 | G5: ข้อมูลดิบ
A6: ร้อยละ | D6: =D5/C5*100 -> 60 | E6: =E5/D5*100 -> 66.666667 | F6: =F5/E5*100 -> 50 | G6: สูตร
A7: ปีการศึกษา | B7: =B5+1 -> 2566 | D7: 17 | E7: 10 | F7: 8 | G7: ข้อมูลดิบ
A8: ร้อยละ | E8: =E7/D7*100 -> 58.823529 | F8: =F7/E7*100 -> 80 | G8: สูตร
A9: ปีการศึกษา | B9: =B7+1 -> 2567 | E9: 21 | F9: 21 | G9: ข้อมูลดิบ
A10: ร้อยละ | F10: =F9/E9*100 -> 100 | G10: สูตร
A11: ปีการศึกษา | B11: =B9+1 -> 2568 | F11: 23 | G11: ข้อมูลดิบ
A12: ร้อยละ | C12: =SUM(C5,C7,C9,C11) -> 50 | D12: =SUM(D5,D7,D9,D11) -> 47 | E12: =SUM(E5,E7,E9,E11) -> 51 | F12: =SUM(F5,F7,F9,F11) -> 62 | G12: สูตร
A14: การคำนวณอัตราการเปลี่ยนแปลงจำนวนนักศึกษาที่เรียนต่อขึ้นชั้นปีจะคำนวณย้อนกลับไป 3 ปีการศึกษานับจากปีรายงาน
A15: นักศึกษาชั้นปีที่ 1 ที่เรียนต่อชั้นปีที่ 2 เฉลี่ย = | E15: =F10 -> 100 | F15: + | G15: =E8 -> 58.823529 | H15: + | I15: =D6 -> 60 | J15: = | K15: =AVERAGE(F10,E8,D6) -> 72.941176
E16: 3

Sheet ตัวบ่งชี้ 3.3 (โท 2 ปี)
A1: ปีการ ศึกษา | B1: จำนวนที่รับเข้า (1) | C1: จำนวนที่สำเร็จการศึกษา (2) | F1: อัตราการสำเร็จการศึกษาตามเกณฑ์ | G1: จำนวนที่คงอยู่สิ้นปีการศึกษา 2568 | H1: จำนวนที่ออกระหว่างเรียนจนสิ้นปีการศึกษา 2568 (4) | I1: อัตราการคงอยู่ | J1: หลักสูตรกรอกข้อมูลเฉพาะคอลัมน์ B , C, D, E และ H
C2: 2566 | D2: 2567 | E2: 2568 | F2: [โดยรวมที่สำเร็จก่อนเกณฑ์] | G2: (3)
A4: 2565 | B4: ='อัตราการเปลี่ยนแปลง (โท 2 ปี)'!C5 -> 50 | C4: 0 | D4: 16 | E4: 0 | F4: =C4/B4*100 -> 0 | G4: =B4-C4-D4-E4-H4 -> 29 | H4: 5 | I4: =(B4-H4)/B4*100 -> 90
A5: 2566 | B5: ='อัตราการเปลี่ยนแปลง (โท 2 ปี)'!D7 -> 17 | C5: 0 | D5: 0 | E5: 2 | F5: =(SUM(C5:D5))/B5*100 -> 0 | G5: =B5-C5-D5-E5-H5 -> 11 | H5: 4 | I5: =(B5-H5)/B5*100 -> 76.470588
A6: 2567 | B6: ='อัตราการเปลี่ยนแปลง (โท 2 ปี)'!E9 -> 21 | C6: 0 | D6: 0 | E6: 7 | F6: =(SUM(D6:E6))/B6*100 -> 33.333333 | G6: =B6-C6-D6-E6-H6 -> 12 | H6: 2 | I6: =(B6-H6)/B6*100 -> 90.47619
A7: 2568 | B7: ='อัตราการเปลี่ยนแปลง (โท 2 ปี)'!F11 -> 23 | C7: 0 | D7: 0 | E7: 0 | F7: =(SUM(C7:E7))/B7*100 -> 0 | G7: =B7-C7-D7-E7-H7 -> 23 | H7: 0 | I7: =(B7-H7)/B7*100 -> 100
A8: รวม | B8: =SUM(B4:B7) -> 111 | C8: =SUM(C4:C7) -> 0 | D8: =SUM(D4:D7) -> 16 | E8: =SUM(E4:E7) -> 9 | G8: =SUM(G4:G7) -> 75 | H8: =SUM(H4:H7) -> 11 | I8: =(B8-H8)/B8*100 -> 90.09009 | J8: *ขอให้หลักสูตรกรอกข้อมูลลงใน Sheet อัตราการเปลี่ยนแปลง (โท 2 ปี) ก่อน จากนั้น ตัวเลขจะถูกดึงมาในคอลัม B (จำนวนที่รับเข้า) อัตโนมัติ
A9: จำนวนนักศึกษาชั้นปีที่ 1 ที่รับเข้าในปีการศึกษาที่รายงาน จำนวน = | G9: =B7 -> 23 | H9: คน
A10: สีเขียว คือ แนวโน้มอัตราสำเร็จ
A11: ม่วง คือ แนวโน้มอัตราคงอยู่

Sheet อัตราการเปลี่ยนแปลง (เอก 3 ปี)
I1: หลักสูตรกรอกตัวเลขเฉพาะแถวข้อมูลดิบ
A2: การคำนวณอัตราการเปลี่ยนแปลงจำนวนนักศึกษาที่เรียนต่อขึ้นชั้นปี
A3: ปีการศึกษาที่รับเข้า | I3: หมายเหตุ เมื่อใส่ข้อมูลในช่องสีชมพูแล้ว ข้อมูลจะถูกนำไปใช้ใน Sheet "ตัวบ่งชี้ 3.3 (เอก 3 ปี)" ในคอลัม B "จำนวนที่รับเข้า"
A4: (ตั้งแต่ปีการศึกษาที่เริ่มใช้หลักสูตร) | C4: 2564 | D4: =C4+1 -> 2565 | E4: =D4+1 -> 2566 | F4: =E4+1 -> 2567 | G4: =F4+1 -> 2568
A5: ปีการศึกษา | B5: 2564 | C5: 10 | D5: 9 | E5: 8 | F5: 7 | G5: 6 | H5: ข้อมูลดิบ
A6: ร้อยละ | D6: =D5/C5*100 -> 90 | E6: =E5/D5*100 -> 88.888889 | F6: =F5/E5*100 -> 87.5 | G6: =G5/F5*100 -> 85.714286 | H6: สูตร
A7: ปีการศึกษา | B7: =B5+1 -> 2565 | D7: 17 | E7: 10 | F7: 8 | G7: 6 | H7: ข้อมูลดิบ
A8: ร้อยละ | E8: =E7/D7*100 -> 58.823529 | F8: =F7/E7*100 -> 80 | G8: =G7/F7*100 -> 75 | H8: สูตร
A9: ปีการศึกษา | B9: =B7+1 -> 2566 | E9: 21 | F9: 21 | G9: 5 | H9: ข้อมูลดิบ
A10: ร้อยละ | F10: =F9/E9*100 -> 100 | G10: =G9/F9*100 -> 23.809524 | H10: สูตร
A11: ปีการศึกษา | B11: =B9+1 -> 2567 | F11: 23 | G11: 15 | H11: ข้อมูลดิบ
A12: ร้อยละ | G12: =G11/F11*100 -> 65.217391 | H12: สูตร
A13: ปีการศึกษา | B13: =B11+1 -> 2568 | G13: 18 | H13: ข้อมูลดิบ
A14: ร้อยละ | C14: =SUM(C5,C7,C9,C11,C13) -> 10 | D14: =SUM(D5,D7,D9,D11,D13) -> 26 | E14: =SUM(E5,E7,E9,E11,E13) -> 39 | F14: =SUM(F5,F7,F9,F11,F13) -> 59 | G14: =SUM(G5,G7,G9,G11,G13) -> 50 | H14: สูตร
A16: การคำนวณอัตราการเปลี่ยนแปลงจำนวนนักศึกษาที่เรียนต่อขึ้นชั้นปีจะคำนวณย้อนกลับไป 3 ปีการศึกษานับจากปีรายงาน
A17: นักศึกษาชั้นปีที่ 1 ที่เรียนต่อชั้นปีที่ 2 เฉลี่ย = | E17: =G12 -> 65.217391 | F17: + | G17: =F10 -> 100 | H17: + | I17: =E8 -> 58.823529 | J17: = | K17: =AVERAGE(G12,F10,E8) -> 74.680307
E18: 3
A19: นักศึกษาชั้นปีที่ 2 ที่เรียนต่อชั้นปีที่ 3 เฉลี่ย = | E19: =G10 -> 23.809524 | F19: + | G19: =F8 -> 80 | H19: + | I19: =E6 -> 88.888889 | J19: = | K19: =AVERAGE(G10,F8,E6) -> 64.232804
E20: 3

Sheet ตัวบ่งชี้ 3.3 (เอก 3 ปี)
A1: ปีการ ศึกษา | B1: จำนวนที่รับเข้า (1) | C1: จำนวนที่สำเร็จการศึกษา (2) | F1: อัตราการสำเร็จการศึกษาตามเกณฑ์ | G1: จำนวนที่คงอยู่สิ้นปีการศึกษา 2568 | H1: จำนวนที่ออกระหว่างเรียนจนสิ้นปีการศึกษา 2568 (4) | I1: อัตราการคงอยู่ | J1: หลักสูตรกรอกข้อมูลเฉพาะคอลัมน์ B , C, D, E และ H
C2: 2566 | D2: 2567 | E2: 2568 | F2: [โดยรวมที่สำเร็จก่อนเกณฑ์] | G2: (3)
A4: 2564 | B4: ='อัตราการเปลี่ยนแปลง (เอก 3 ปี)'!C5 -> 10 | C4: 3 | D4: 5 | E4: 0 | F4: =C4/B4*100 -> 30 | G4: =B4-C4-D4-E4-H4 -> 0 | H4: 2 | I4: =(B4-H4)/B4*100 -> 80
A5: 2565 | B5: ='อัตราการเปลี่ยนแปลง (เอก 3 ปี)'!D7 -> 17 | C5: 0 | D5: 6 | E5: 3 | F5: =(SUM(C5:D5))/B5*100 -> 35.294118 | G5: =B5-C5-D5-E5-H5 -> 6 | H5: 2 | I5: =(B5-H5)/B5*100 -> 88.235294
A6: 2566 | B6: ='อัตราการเปลี่ยนแปลง (เอก 3 ปี)'!E9 -> 21 | C6: 0 | D6: 0 | E6: 1 | F6: =(SUM(D6:E6))/B6*100 -> 4.7619048 | G6: =B6-C6-D6-E6-H6 -> 20 | H6: 0 | I6: =(B6-H6)/B6*100 -> 100
A7: 2567 | B7: ='อัตราการเปลี่ยนแปลง (เอก 3 ปี)'!F11 -> 23 | C7: 0 | D7: 0 | E7: 0 | F7: =(SUM(D7:E7))/B7*100 -> 0 | G7: =B7-C7-D7-E7-H7 -> 23 | H7: 0 | I7: =(B7-H7)/B7*100 -> 100
A8: 2568 | B8: ='อัตราการเปลี่ยนแปลง (เอก 3 ปี)'!G13 -> 18 | C8: 0 | D8: 0 | E8: 0 | F8: =(SUM(C8:E8))/B8*100 -> 0 | G8: =B8-C8-D8-E8-H8 -> 18 | H8: 0 | I8: =(B8-H8)/B8*100 -> 100
A9: รวม | B9: =SUM(B4:B8) -> 89 | C9: =SUM(C4:C8) -> 3 | D9: =SUM(D4:D8) -> 11 | E9: =SUM(E4:E8) -> 4 | G9: =SUM(G4:G8) -> 67 | H9: =SUM(H4:H8) -> 4 | I9: =(B9-H9)/B9*100 -> 95.505618 | J9: *ขอให้หลักสูตรกรอกข้อมูลลงใน Sheet อัตราการเปลี่ยนแปลง (เอก 3 ปี) ก่อน จากนั้น ตัวเลขจะถูกดึงมาในคอลัม B (จำนวนที่รับเข้า) อัตโนมัติ
A10: จำนวนนักศึกษาชั้นปีที่ 1 ที่รับเข้าในปีการศึกษาที่รายงาน จำนวน = | G10: =B8 -> 18 | H10: คน
A11: สีเขียว คือ แนวโน้มอัตราสำเร็จ
A12: ม่วง คือ แนวโน้มอัตราคงอยู่

Sheet สรุปคะแนนราย ตบช.(ตรี-โท)
A1: ตรี,โท | B1: สรุปคะแนนแต่ละตัวบ่งชี้ ต้องทำคู่กันไปตามแต่ละตัวบ่งชี้
B2: ตัวบ่งชี้ | C2: ประเมนตนเอง | D2: กรรมการ | E2: ***ตัวเลขสีน้ำเงินคือสูตร | J2: ตนเอง | K2: กรรมการ
B3: 2.1 | C3: 4.68 | D3: 4.68 | I3: องค์ 2 | J3: =AVERAGE(C3:C4) -> 4.79 | K3: =AVERAGE(D3:D4) -> 4.79
B4: 2.2 | C4: 4.9 | D4: 4.9 | I4: องค์ 3 | J4: =AVERAGE(C5:C7) -> 4 | K4: =AVERAGE(D5:D7) -> 3.3333333
B5: 3.1 | C5: 4 | D5: 3 | I5: องค์ 4 | J5: =AVERAGE(C8:C10) -> 3.7777778 | K5: =AVERAGE(D8:D10) -> 3.1111111
B6: 3.2 | C6: 4 | D6: 4 | I6: องค์ 5 | J6: =AVERAGE(C11:C14) -> 3.5 | K6: =AVERAGE(D11:D14) -> 4
B7: 3.3 | C7: 4 | D7: 3 | I7: องค์ 6 | J7: =C15 -> 4 | K7: =D15 -> 4
B8: 4.1 | C8: 4 | D8: 3 | E8: 4.2.1 เอก | F8: 4.2.2 ตำแหน่ง | G8: 4.2.3 ผลงาน
B9: 4.2 | C9: =SUM(E10:G10)/3 -> 3.3333333 | D9: =SUM(E9:G9)/3 -> 3.3333333 | E9: 5 | F9: 0 | G9: 5
B10: 4.3 | C10: 4 | D10: 3 | E10: 5 | F10: 0 | G10: 5
B11: 5.1 | C11: 3 | D11: 3
B12: 5.2 | C12: 3 | D12: 4
B13: 5.3 | C13: 3 | D13: 4
B14: 5.4 | C14: 5 | D14: 5
B15: 6.1 | C15: 4 | D15: 4
B16: รวม 13 ตบช. | C16: =AVERAGE(C3:C15) -> 3.9164103 | D16: =AVERAGE(D3:D15) -> 3.7625641

Sheet วิเคราะห์ IPO (ตรี-โท)
B1: ตรี,โท
B2: ตารางการวิเคราะห์คุณภาพการศึกษาภายใน ระดับหลักสูตร
I3: ***ตัวอักษรสีน้ำเงินคือสูตร
B4: องค์ประกอบ | C4: จำนวน | D4: I | E4: P | F4: O | G4: คะแนนเฉลี่ย | H4: ผลการประเมิน
C5: ตัวบ่งชี้
B6: 1 | C6: ผ่านการประเมิน | H6: หลักสูตรได้มาตรฐาน
B7: 2 | C7: 2 | D7: - | E7: - | F7: =AVERAGE('สรุปคะแนนราย ตบช.(ตรี-โท)'!D3:D4) -> 4.79 | G7: ='สรุปคะแนนราย ตบช.(ตรี-โท)'!K3 -> 4.79 | H7: =IF(G7>=4.01,E19,IF(G7>=3.01,E18,IF(G7>=2.01,E17,IF(G7>=0.01,E16,IF(G7>=0,E15))))) -> ระดับคุณภาพดีมาก
B8: 3 | C8: 3 | D8: =AVERAGE('สรุปคะแนนราย ตบช.(ตรี-โท)'!D5:D7) -> 3.3333333 | E8: - | F8: - | G8: ='สรุปคะแนนราย ตบช.(ตรี-โท)'!K4 -> 3.3333333 | H8: =IF(G8>=4.01,E19,IF(G8>=3.01,E18,IF(G8>=2.01,E17,IF(G8>=0.01,E16,IF(G8>=0,E15))))) -> ระดับคุณภาพดี
B9: 4 | C9: 3 | D9: =AVERAGE('สรุปคะแนนราย ตบช.(ตรี-โท)'!D8:D10) -> 3.1111111 | E9: - | F9: - | G9: ='สรุปคะแนนราย ตบช.(ตรี-โท)'!K5 -> 3.1111111 | H9: =IF(G9>=4.01,E19,IF(G9>=3.01,E18,IF(G9>=2.01,E17,IF(G9>=0.01,E16,IF(G9>=0,E15))))) -> ระดับคุณภาพดี
B10: 5 | C10: 4 | D10: ='สรุปคะแนนราย ตบช.(ตรี-โท)'!D11 -> 3 | E10: =AVERAGE('สรุปคะแนนราย ตบช.(ตรี-โท)'!D12:D14) -> 4.3333333 | F10: - | G10: ='สรุปคะแนนราย ตบช.(ตรี-โท)'!K6 -> 4 | H10: =IF(G10>=4.01,E19,IF(G10>=3.01,E18,IF(G10>=2.01,E17,IF(G10>=0.01,E16,IF(G10>=0,E15))))) -> ระดับคุณภาพดี
B11: 6 | C11: 1 | D11: - | E11: ='สรุปคะแนนราย ตบช.(ตรี-โท)'!D15 -> 4 | F11: - | G11: ='สรุปคะแนนราย ตบช.(ตรี-โท)'!K7 -> 4 | H11: =IF(G11>=4.01,E19,IF(G11>=3.01,E18,IF(G11>=2.01,E17,IF(G11>=0.01,E16,IF(G11>=0,E15))))) -> ระดับคุณภาพดี
B12: ผลการประเมิน | D12: =AVERAGE('สรุปคะแนนราย ตบช.(ตรี-โท)'!D5:D11) -> 3.1904762 | E12: =AVERAGE('สรุปคะแนนราย ตบช.(ตรี-โท)'!D12:D15) -> 4.25 | F12: =AVERAGE('สรุปคะแนนราย ตบช.(ตรี-โท)'!D3:D4) -> 4.79 | G12: ='สรุปคะแนนราย ตบช.(ตรี-โท)'!D16 -> 3.7625641 | H12: =IF(G12>=4.01,E19,IF(G12>=3.01,E18,IF(G12>=2.01,E17,IF(G12>=0.01,E16,IF(G12>=0,E15))))) -> ระดับคุณภาพดี
B13: ระดับคุณภาพ | D13: =IF(D12>=4.01,E19,IF(D12>=3.01,E18,IF(D12>=2.01,E17,IF(D12>=0.01,E16,IF(D12>=0,E15))))) -> ระดับคุณภาพดี | E13: =IF(E12>=4.01,E19,IF(E12>=3.01,E18,IF(E12>=2.01,E17,IF(E12>=0.01,E16,IF(E12>=0,E15))))) -> ระดับคุณภาพดีมาก | F13: =IF(F12>=4.01,E19,IF(F12>=3.01,E18,IF(F12>=2.01,E17,IF(F12>=0.01,E16,IF(F12>=0,E15))))) -> ระดับคุณภาพดีมาก
B15: หมายเหตุ : | D15: 0 | E15: n/a
D16: 0.01 - 2.00 | E16: ระดับคุณภาพน้อย
D17: 2.01 - 3.00 | E17: ระดับคุณภาพปานกลาง
D18: 3.01 - 4.00 | E18: ระดับคุณภาพดี
D19: 4.01 - 5.00 | E19: ระดับคุณภาพดีมาก
D21: องค์ประกอบที่ 1 การกำกับมาตรฐาน | E21: หลักสูตรผ่านตามเกณฑ์มาตรฐานหลักสูตร
D22: องค์ประกอบที่ 2 บัณฑิต | E22: มีผลการประเมิน | F22: =G7 -> 4.79 | G22: ระดับคุณภาพ | H22: =H7 -> ระดับคุณภาพดีมาก
D23: องค์ประกอบที่ 3 นักศึกษา | E23: มีผลการประเมิน | F23: =G8 -> 3.3333333 | G23: ระดับคุณภาพ | H23: =H8 -> ระดับคุณภาพดี
D24: องค์ประกอบที่ 4 อาจารย์ | E24: มีผลการประเมิน | F24: =G9 -> 3.1111111 | G24: ระดับคุณภาพ | H24: =H9 -> ระดับคุณภาพดี
D25: องค์ประกอบที่ 5 หลักสูตร การเรียนการสอน การประเมินผู้เรียน | E25: มีผลการประเมิน | F25: =G10 -> 4 | G25: ระดับคุณภาพ | H25: =H10 -> ระดับคุณภาพดี
D26: องค์ประกอบที่ 6 สิ่งสนับสนุนการเรียนรู้ | E26: มีผลการประเมิน | F26: =G11 -> 4 | G26: ระดับคุณภาพ | H26: =H11 -> ระดับคุณภาพดี

Sheet สรุปคะแนนราย ตบช.(เอก)
A1: เอก | B1: สรุปคะแนนแต่ละตัวบ่งชี้ ต้องทำคู่กันไปตามแต่ละตัวบ่งชี้
B2: ตัวบ่งชี้ | C2: ประเมนตนเอง | D2: กรรมการ | E2: ***ตัวเลขสีน้ำเงินคือสูตร | K2: ตนเอง | L2: กรรมการ
B3: 2.1 | C3: 4.68 | D3: 4.68 | J3: องค์ 2 | K3: =AVERAGE(C3:C4) -> 4.79 | L3: =AVERAGE(D3:D4) -> 4.79
B4: 2.2 | C4: 4.9 | D4: 4.9 | J4: องค์ 3 | K4: =AVERAGE(C5:C7) -> 4 | L4: =AVERAGE(D5:D7) -> 4
B5: 3.1 | C5: 4 | D5: 4 | J5: องค์ 4 | K5: =AVERAGE(C8:C10) -> 4.3333333 | L5: =AVERAGE(D8:D10) -> 4.3333333
B6: 3.2 | C6: 4 | D6: 4 | J6: องค์ 5 | K6: =AVERAGE(C11:C14) -> 4.5 | L6: =AVERAGE(D11:D14) -> 4.25
B7: 3.3 | C7: 4 | D7: 4 | J7: องค์ 6 | K7: =C15 -> 5 | L7: =D15 -> 4
B8: 4.1 | C8: 4 | D8: 4 | E8: 4.2.1 เอก | F8: 4.2.2 ตำแหน่ง | G8: 4.2.3 ผลงาน | H8: 4.2.4 citation(ป.เอก)
B9: 4.2 | C9: =SUM(E10:H10)/4 -> 5 | D9: =SUM(E9:H9)/4 -> 5 | E9: 5 | F9: 5 | G9: 5 | H9: 5
B10: 4.3 | C10: 4 | D10: 4 | E10: 5 | F10: 5 | G10: 5 | H10: 5
B11: 5.1 | C11: 5 | D11: 4
B12: 5.2 | C12: 4 | D12: 4
B13: 5.3 | C13: 4 | D13: 4
B14: 5.4 | C14: 5 | D14: 5
B15: 6.1 | C15: 5 | D15: 4
B16: รวม 13 ตบช. | C16: =AVERAGE(C3:C15) -> 4.4292308 | D16: =AVERAGE(D3:D15) -> 4.2753846

Sheet วิเคราะห์ IPO (เอก)
B1: เอก
B2: ตารางการวิเคราะห์คุณภาพการศึกษาภายใน ระดับหลักสูตร
I3: ***ตัวอักษรสีน้ำเงินคือสูตร
B4: องค์ประกอบ | C4: จำนวน | D4: I | E4: P | F4: O | G4: คะแนนเฉลี่ย | H4: ผลการประเมิน
C5: ตัวบ่งชี้
B6: 1 | C6: ผ่านการประเมิน | H6: หลักสูตรได้มาตรฐาน
B7: 2 | C7: 2 | D7: - | E7: - | F7: =AVERAGE('สรุปคะแนนราย ตบช.(เอก)'!D3:D4) -> 4.79 | G7: ='สรุปคะแนนราย ตบช.(เอก)'!L3 -> 4.79 | H7: =IF(G7>=4.01,E19,IF(G7>=3.01,E18,IF(G7>=2.01,E17,IF(G7>=0.01,E16,IF(G7>=0,E15))))) -> ระดับคุณภาพดีมาก
B8: 3 | C8: 3 | D8: =AVERAGE('สรุปคะแนนราย ตบช.(เอก)'!D5:D7) -> 4 | E8: - | F8: - | G8: ='สรุปคะแนนราย ตบช.(เอก)'!L4 -> 4 | H8: =IF(G8>=4.01,E19,IF(G8>=3.01,E18,IF(G8>=2.01,E17,IF(G8>=0.01,E16,IF(G8>=0,E15))))) -> ระดับคุณภาพดี
B9: 4 | C9: 3 | D9: =AVERAGE('สรุปคะแนนราย ตบช.(เอก)'!D8:D10) -> 4.3333333 | E9: - | F9: - | G9: ='สรุปคะแนนราย ตบช.(เอก)'!L5 -> 4.3333333 | H9: =IF(G9>=4.01,E19,IF(G9>=3.01,E18,IF(G9>=2.01,E17,IF(G9>=0.01,E16,IF(G9>=0,E15))))) -> ระดับคุณภาพดีมาก
B10: 5 | C10: 4 | D10: ='สรุปคะแนนราย ตบช.(เอก)'!D11 -> 4 | E10: =AVERAGE('สรุปคะแนนราย ตบช.(เอก)'!D12:D14) -> 4.3333333 | F10: - | G10: ='สรุปคะแนนราย ตบช.(เอก)'!L6 -> 4.25 | H10: =IF(G10>=4.01,E19,IF(G10>=3.01,E18,IF(G10>=2.01,E17,IF(G10>=0.01,E16,IF(G10>=0,E15))))) -> ระดับคุณภาพดีมาก
B11: 6 | C11: 1 | D11: - | E11: ='สรุปคะแนนราย ตบช.(เอก)'!D15 -> 4 | F11: - | G11: ='สรุปคะแนนราย ตบช.(เอก)'!L7 -> 4 | H11: =IF(G11>=4.01,E19,IF(G11>=3.01,E18,IF(G11>=2.01,E17,IF(G11>=0.01,E16,IF(G11>=0,E15))))) -> ระดับคุณภาพดี
B12: ผลการประเมิน | D12: =AVERAGE('สรุปคะแนนราย ตบช.(เอก)'!D5:D11) -> 4.1428571 | E12: =AVERAGE('สรุปคะแนนราย ตบช.(เอก)'!D12:D15) -> 4.25 | F12: =AVERAGE('สรุปคะแนนราย ตบช.(เอก)'!D3:D4) -> 4.79 | G12: ='สรุปคะแนนราย ตบช.(เอก)'!D16 -> 4.2753846 | H12: =IF(G12>=4.01,E19,IF(G12>=3.01,E18,IF(G12>=2.01,E17,IF(G12>=0.01,E16,IF(G12>=0,E15))))) -> ระดับคุณภาพดีมาก
B13: ระดับคุณภาพ | D13: =IF(D12>=4.01,E19,IF(D12>=3.01,E18,IF(D12>=2.01,E17,IF(D12>=0.01,E16,IF(D12>=0,E15))))) -> ระดับคุณภาพดีมาก | E13: =IF(E12>=4.01,E19,IF(E12>=3.01,E18,IF(E12>=2.01,E17,IF(E12>=0.01,E16,IF(E12>=0,E15))))) -> ระดับคุณภาพดีมาก | F13: =IF(F12>=4.01,E19,IF(F12>=3.01,E18,IF(F12>=2.01,E17,IF(F12>=0.01,E16,IF(F12>=0,E15))))) -> ระดับคุณภาพดีมาก
B15: หมายเหตุ : | D15: 0 | E15: n/a
D16: 0.01 - 2.00 | E16: ระดับคุณภาพน้อย
D17: 2.01 - 3.00 | E17: ระดับคุณภาพปานกลาง
D18: 3.01 - 4.00 | E18: ระดับคุณภาพดี
D19: 4.01 - 5.00 | E19: ระดับคุณภาพดีมาก
D21: องค์ประกอบที่ 1 การกำกับมาตรฐาน | E21: หลักสูตรผ่านตามเกณฑ์มาตรฐานหลักสูตร
D22: องค์ประกอบที่ 2 บัณฑิต | E22: มีผลการประเมิน | F22: =G7 -> 4.79 | G22: ระดับคุณภาพ | H22: =H7 -> ระดับคุณภาพดีมาก
D23: องค์ประกอบที่ 3 นักศึกษา | E23: มีผลการประเมิน | F23: =G8 -> 4 | G23: ระดับคุณภาพ | H23: =H8 -> ระดับคุณภาพดี
D24: องค์ประกอบที่ 4 อาจารย์ | E24: มีผลการประเมิน | F24: =G9 -> 4.3333333 | G24: ระดับคุณภาพ | H24: =H9 -> ระดับคุณภาพดีมาก
D25: องค์ประกอบที่ 5 หลักสูตร การเรียนการสอน การประเมินผู้เรียน | E25: มีผลการประเมิน | F25: =G10 -> 4.25 | G25: ระดับคุณภาพ | H25: =H10 -> ระดับคุณภาพดีมาก
D26: องค์ประกอบที่ 6 สิ่งสนับสนุนการเรียนรู้ | E26: มีผลการประเมิน | F26: =G11 -> 4 | G26: ระดับคุณภาพ | H26: =H11 -> ระดับคุณภาพดี
