Workbook

Sheet FTES68
B1: ตัวบ่งชี้ 1.4 จำนวนนักศึกษาเต็มเวลาเทียบเท่าต่อจำนวนอาจารย์ประจำ | L1: สีแดง = มีสูตร
B2: คณะป้อนข้อมูลเฉพาะคอลัมน์ D และ E ที่เป็นตัวอักษรสีน้ำเงินเท่านั้น (คอลัมน์ F-K จะคำนวณให้อัตโนมัติ) | L2: *สัดส่วนจำนวณนศ.ต่ออาจารย์ตามเกณฑ์ อว.
B3: คณะ/ วิทยาลัย/สถาบัน | D3: อาจารย์ (ไม่รวมลา) | E3: FTES | F3: FTES ต่อ อาจารย์ | G3: ค่าความแตกต่าง | K3: คะแนนจากการประเมินฯ
G4: FTES ต่ออาจารย์ ที่เป็นจริง [1] | H4: สัดส่วนตามเกณฑ์* [2] | I4: [3] ([1]-[2]) | J4: [3]*100/[2]
A5: 1 | B5: วิทยาลัยแพทยศาสตร์ | C5: 5 | D5: 20 | E5: 10 | F5: =E5/D5 -> 0.5 | G5: =+F5 -> 0.5 | H5: 4 | I5: =SUM(G5)-(H5) -> -3.5 | J5: =SUM(I5)*100/H5 -> -87.5 | K5: =IF(J5<=0,5,IF(J5>=20,0,5-J5/4)) -> 5
A6: 2 | B6: วิทยาลัยเภสัชศาสตร์ | C6: 5 | D6: 1 | E6: 1 | F6: =E6/D6 -> 1 | G6: =+F6 -> 1 | H6: 8 | I6: =SUM(G6)-(H6) -> -7 | J6: =SUM(I6)*100/H6 -> -87.5 | K6: =IF(J6<=0,5,IF(J6>=20,0,5-J6/4)) -> 5
A7: 3 | B7: คณะพยาบาลศาสตร์ | C7: 5 | D7: 1 | E7: 1 | F7: =E7/D7 -> 1 | G7: =+F7 -> 1 | H7: 6.99 | I7: =SUM(G7)-(H7) -> -5.99 | J7: =SUM(I7)*100/H7 -> -85.693848 | K7: =IF(J7<=0,5,IF(J7>=20,0,5-J7/4)) -> 5
A8: 4 | B8: คณะเทคนิคการแพทย์ | C8: 3.5 | D8: 1 | E8: 1 | F8: =E8/D8 -> 1 | G8: =+F8 -> 1 | H8: 8 | I8: =SUM(G8)-(H8) -> -7 | J8: =SUM(I8)*100/H8 -> -87.5 | K8: =IF(J8<=0,5,IF(J8>=20,0,5-J8/4)) -> 5
A9: 5 | B9: คณะกายภาพบำบัดฯ | C9: 0 | D9: 35 | E9: 237.72 | F9: =E9/D9 -> 6.792 | G9: =+F9 -> 6.792 | H9: 8 | I9: =SUM(G9)-(H9) -> -1.208 | J9: =SUM(I9)*100/H9 -> -15.1 | K9: =IF(J9<=0,5,IF(J9>=20,0,5-J9/4)) -> 5
A10: 6 | B10: วิทยาลัยการแพทย์แผนตะวันออก | C10: 0 | D10: 1 | E10: 1 | F10: =E10/D10 -> 1 | G10: =+F10 -> 1 | H10: 8 | I10: =SUM(G10)-(H10) -> -7 | J10: =SUM(I10)*100/H10 -> -87.5 | K10: =IF(J10<=0,5,IF(J10>=20,0,5-J10/4)) -> 5
A11: 7 | B11: วิทยาลัยทันตแพทยศาสตร์ | C11: 5 | D11: 1 | E11: 1 | F11: =E11/D11 -> 1 | G11: =+F11 -> 1 | H11: 8 | I11: =SUM(G11)-(H11) -> -7 | J11: =SUM(I11)*100/H11 -> -87.5 | K11: =IF(J11<=0,5,IF(J11>=20,0,5-J11/4)) -> 5
A12: 8 | B12: คณะทัศนมาตรศาสตร์ | C12: 0 | D12: 1 | E12: 1 | F12: =E12/D12 -> 1 | G12: =+F12 -> 1 | H12: 8 | I12: =SUM(G12)-(H12) -> -7 | J12: =SUM(I12)*100/H12 -> -87.5 | K12: =IF(J12<=0,5,IF(J12>=20,0,5-J12/4)) -> 5
A13: 9 | B13: คณะรังสีเทคนิค | C13: 0 | D13: 1 | E13: 1 | F13: =E13/D13 -> 1 | G13: =+F13 -> 1 | H13: 8 | I13: =SUM(G13)-(H13) -> -7 | J13: =SUM(I13)*100/H13 -> -87.5 | K13: =IF(J13<=0,5,IF(J13>=20,0,5-J13/4)) -> 5
A14: 10 | B14: วิทยาลัยนวัตกรรมดิจิทัลฯ | C14: 5 | D14: 50 | E14: 300 | F14: =E14/D14 -> 6 | G14: =+F14 -> 6 | H14: 20 | I14: =SUM(G14)-(H14) -> -14 | J14: =SUM(I14)*100/H14 -> -70 | K14: =IF(J14<=0,5,IF(J14>=20,0,5-J14/4)) -> 5
A15: 11 | B15: คณะวิทยาศาสตร์ | C15: 5 | D15: 1 | E15: 1 | F15: =E15/D15 -> 1 | G15: =+F15 -> 1 | H15: 20 | I15: =SUM(G15)-(H15) -> -19 | J15: =SUM(I15)*100/H15 -> -95 | K15: =IF(J15<=0,5,IF(J15>=20,0,5-J15/4)) -> 5
A16: 12 | B16: วิทยาลัยนวัตกรรมเกษตรฯ | C16: 3.85 | D16: 1 | E16: 1 | F16: =E16/D16 -> 1 | G16: =+F16 -> 1 | H16: 20 | I16: =SUM(G16)-(H16) -> -19 | J16: =SUM(I16)*100/H16 -> -95 | K16: =IF(J16<=0,5,IF(J16>=20,0,5-J16/4)) -> 5
A17: 13 | B17: วิทยาลัยวิศวกรรมศาสตร์ | C17: 0 | D17: 1 | E17: 1 | F17: =E17/D17 -> 1 | G17: =+F17 -> 1 | H17: 20 | I17: =SUM(G17)-(H17) -> -19 | J17: =SUM(I17)*100/H17 -> -95 | K17: =IF(J17<=0,5,IF(J17>=20,0,5-J17/4)) -> 5
A18: 14 | B18: วิทยาลัยวิศวกรรมชีวการแพทย์ | D18: 1 | E18: 1 | F18: =E18/D18 -> 1 | G18: =+F18 -> 1 | H18: 20 | I18: =SUM(G18)-(H18) -> -19 | J18: =SUM(I18)*100/H18 -> -95 | K18: =IF(J18<=0,5,IF(J18>=20,0,5-J18/4)) -> 5
A19: 15 | B19: สถาบันการบิน | C19: 4.83 | D19: 1 | E19: 1 | F19: =E19/D19 -> 1 | G19: =+F19 -> 1 | H19: 20 | I19: =SUM(G19)-(H19) -> -19 | J19: =SUM(I19)*100/H19 -> -95 | K19: =IF(J19<=0,5,IF(J19>=20,0,5-J19/4)) -> 5
A20: 16 | B20: คณะสถาปัตยกรรมศาสตร์ | C20: 0 | D20: 1 | E20: 1 | F20: =E20/D20 -> 1 | G20: =+F20 -> 1 | H20: 15 | I20: =SUM(G20)-(H20) -> -14 | J20: =SUM(I20)*100/H20 -> -93.333333 | K20: =IF(J20<=0,5,IF(J20>=20,0,5-J20/4)) -> 5
A21: 17 | B21: วิทยาลัยบริหารธุรกิจ | C21: 0 | D21: 1 | E21: 1 | F21: =E21/D21 -> 1 | G21: =+F21 -> 1 | H21: 25 | I21: =SUM(G21)-(H21) -> -24 | J21: =SUM(I21)*100/H21 -> -96 | K21: =IF(J21<=0,5,IF(J21>=20,0,5-J21/4)) -> 5
A22: 18 | B22: คณะบัญชี | C22: 1.5 | D22: 1 | E22: 1 | F22: =E22/D22 -> 1 | G22: =+F22 -> 1 | H22: 25 | I22: =SUM(G22)-(H22) -> -24 | J22: =SUM(I22)*100/H22 -> -96 | K22: =IF(J22<=0,5,IF(J22>=20,0,5-J22/4)) -> 5
A23: 19 | B23: วิทยาลัยท่องเที่ยวฯ | C23: 0 | D23: 40 | E23: 917.45 | F23: =E23/D23 -> 22.93625 | G23: =+F23 -> 22.93625 | H23: 25 | I23: =SUM(G23)-(H23) -> -2.06375 | J23: =SUM(I23)*100/H23 -> -8.255 | K23: =IF(J23<=0,5,IF(J23>=20,0,5-J23/4)) -> 5
A24: 20 | B24: คณะเศรษฐศาสตร์ | C24: 5 | D24: 1 | E24: 1 | F24: =E24/D24 -> 1 | G24: =+F24 -> 1 | H24: 25 | I24: =SUM(G24)-(H24) -> -24 | J24: =SUM(I24)*100/H24 -> -96 | K24: =IF(J24<=0,5,IF(J24>=20,0,5-J24/4)) -> 5
A25: 21 | B25: วิทยาลัยการออกแบบ | C25: 0 | D25: 51 | E25: 500 | F25: =E25/D25 -> 9.8039216 | G25: =+F25 -> 9.8039216 | H25: 20 | I25: =SUM(G25)-(H25) -> -10.196078 | J25: =SUM(I25)*100/H25 -> -50.980392 | K25: =IF(J25<=0,5,IF(J25>=20,0,5-J25/4)) -> 5
A26: 22 | B26: วิทยาลัยดนตรี | C26: 5 | D26: 1 | E26: 1 | F26: =E26/D26 -> 1 | G26: =SUM(E26)/D26 -> 1 | H26: 12 | I26: =SUM(G26)-(H26) -> -11 | J26: =SUM(I26)*100/H26 -> -91.666667 | K26: =IF(J26<=0,5,IF(J26>=20,0,5-J26/4)) -> 5
A27: 23 | B27: คณะดิจิทัลอาร์ต | C27: 0 | D27: 1 | E27: 1 | F27: =E27/D27 -> 1 | G27: =+F27 -> 1 | H27: 20 | I27: =SUM(G27)-(H27) -> -19 | J27: =SUM(I27)*100/H27 -> -95 | K27: =IF(J27<=0,5,IF(J27>=20,0,5-J27/4)) -> 5
A28: 24 | B28: วิทยาลัยนิเทศศาสตร์ | C28: 0 | D28: 1 | E28: 1 | F28: =E28/D28 -> 1 | G28: =+F28 -> 1 | H28: 25 | I28: =SUM(G28)-(H28) -> -24 | J28: =SUM(I28)*100/H28 -> -96 | K28: =IF(J28<=0,5,IF(J28>=20,0,5-J28/4)) -> 5
A29: 25 | B29: วิทยาลัยศิลปศาสตร์ | C29: 3.5 | D29: 1 | E29: 1 | F29: =E29/D29 -> 1 | G29: =+F29 -> 1 | H29: 25 | I29: =SUM(G29)-(H29) -> -24 | J29: =SUM(I29)*100/H29 -> -96 | K29: =IF(J29<=0,5,IF(J29>=20,0,5-J29/4)) -> 5
A30: 26 | B30: คณะนิติศาสตร์ | C30: 0 | D30: 1 | E30: 1 | F30: =E30/D30 -> 1 | G30: =+F30 -> 1 | H30: 50 | I30: =SUM(G30)-(H30) -> -49 | J30: =SUM(I30)*100/H30 -> -98 | K30: =IF(J30<=0,5,IF(J30>=20,0,5-J30/4)) -> 5
A31: 27 | B31: วิทยาลัยนผู้นำและนวัตกรรมสังคม | C31: 4 | D31: 1 | E31: 1 | F31: =E31/D31 -> 1 | G31: =+F31 -> 1 | H31: 25 | I31: =SUM(G31)-(H31) -> -24 | J31: =SUM(I31)*100/H31 -> -96 | K31: =IF(J31<=0,5,IF(J31>=20,0,5-J31/4)) -> 5
A32: 28 | B32: สถาบันรัฐประศาสนศาสตร์และนโยบายสาธารณะ | C32: 1.08 | D32: 6 | E32: 115.43 | F32: =E32/D32 -> 19.238333 | G32: =+F32 -> 19.238333 | H32: 25 | I32: =SUM(G32)-(H32) -> -5.7616667 | J32: =SUM(I32)*100/H32 -> -23.046667 | K32: =IF(J32<=0,5,IF(J32>=20,0,5-J32/4)) -> 5
A33: 29 | B33: วิทยาลัยครูสุริยเทพ | C33: 5 | D33: 13 | E33: 80 | F33: =E33/D33 -> 6.1538462 | G33: =+F33 -> 6.1538462 | H33: 30 | I33: =SUM(G33)-(H33) -> -23.846154 | J33: =SUM(I33)*100/H33 -> -79.487179 | K33: =IF(J33<=0,5,IF(J33>=20,0,5-J33/4)) -> 5
A34: 30 | B34: คณะอาชญาวิทยาและการบริหารงานยุติธรรม | C34: 5 | D34: 1 | E34: 1 | F34: =E34/D34 -> 1 | G34: =+F34 -> 1 | H34: 25 | I34: =SUM(G34)-(H34) -> -24 | J34: =SUM(I34)*100/H34 -> -96 | K34: =IF(J34<=0,5,IF(J34>=20,0,5-J34/4)) -> 5
A35: 31 | B35: คณะรัฐศาสตร์ | C35: 5 | D35: 20 | E35: 90 | F35: =E35/D35 -> 4.5 | G35: =+F35 -> 4.5 | H35: 25 | I35: =SUM(G35)-(H35) -> -20.5 | J35: =SUM(I35)*100/H35 -> -82 | K35: =IF(J35<=0,5,IF(J35>=20,0,5-J35/4)) -> 5
A36: 32 | B36: คณะการทูตและการต่างประเทศ | C36: 5 | D36: 1 | E36: 1 | F36: =E36/D36 -> 1 | G36: =+F36 -> 1 | H36: 25 | I36: =SUM(G36)-(H36) -> -24 | J36: =SUM(I36)*100/H36 -> -96 | K36: =IF(J36<=0,5,IF(J36>=20,0,5-J36/4)) -> 5
A37: 33 | B37: วิทยาลัยนานาชาติ | C37: 5 | D37: 1 | E37: 1 | F37: =E37/D37 -> 1 | G37: =+F37 -> 1 | H37: 25 | I37: =SUM(G37)-(H37) -> -24 | J37: =SUM(I37)*100/H37 -> -96 | K37: =IF(J37<=0,5,IF(J37>=20,0,5-J37/4)) -> 5

Sheet ตบช.เชิงปริมาณ (คณะ)
B1: การคำนวณ เชิงปริมาณ ตัวบ่งชี้ ระดับคณะวิชา | D1: สีน้ำเงิน = มีสูตร
B2: ตัวบ่งชี้ 1.1 ผลการบริหารจัดการหลักสูตรโดยรวม
B3: เกณฑ์การประเมิน : ค่าเฉลี่ยของคะแนนประเมินทุกหลักสูตรที่คณะรับผิดชอบ
B4: ข้อมูลพื้นฐาน | C4: จำนวนยืนยัน
B5: จำนวนหลักสูตรทั้งหมดที่คณะรับผิดชอบ | C5: 14
B6: ผลรวมของค่าคะแนนประเมินของทุกหลักสูตร | C6: 50.5
B7: คะแนนที่ได้ | C7: =SUM(C6)/C5 -> 3.6071429
B9: ตัวบ่งชี้ที่ 1.2 อาจารย์ประจำคณะที่มีคุณวุฒิปริญญาเอก
B10: เกณฑ์การประเมิน : แปลงค่าร้อยละของอาจารย์ประจำคณะที่มีคุณวุฒิปริญญาเอกเป็นคะแนนระหว่าง 0 – 5
B11: ข้อมูลพื้นฐาน | C11: จำนวนยืนยัน
B12: จำนวนอาจารย์ประจำคณะทั้งหมด | C12: 25
B13: จำนวนอาจารย์ประจำคณะที่มีคุณวุฒิปริญญาเอก | C13: 10
B14: ร้อยละของอาจารย์ประจำคณะที่มีคุณวุฒิปริญญาเอก | C14: =SUM(C13)*100/C12 -> 40
B15: เทียบบัญญัติไตรยางศ์ | C15: =SUM(C14)*5/40 -> 5
B16: หมายเหตุ : การนับจำนวนอาจารย์ประจำ ให้นับตามปีการศึกษา และนับทั้งที่ปฏิบัติงานจริง และลาศึกษาต่อ
B18: ตัวบ่งชี้ที่ 1.3 อาจารย์ประจำคณะที่ดำรงตำแหน่งทางวิชาการ
B19: เกณฑ์การประเมิน : แปลงค่าร้อยละของอาจารย์ประจำคณะที่ดำรงตำแหน่งทางวิชาการเป็นคะแนนระหว่าง 0 – 5
B20: ข้อมูลพื้นฐาน | C20: จำนวนยืนยัน
B21: จำนวนอาจารย์ประจำคณะทั้งหมด | C21: 25
B22: จำนวนอาจารย์ประจำคณะที่มีตำแหน่งทางวิชาการ | C22: 2 | E22: รวม
B23: จำนวนอาจารย์ประจำคณะที่ไม่มีตำแหน่งทางวิชาการ | C23: 23 | E23: =SUM(C22:C23) -> 25
B24: ร้อยละของอาจารย์ประจำคณะที่มีตำแหน่งทางวิชาการ | C24: =SUM(C22)*100/C21 -> 8
B25: เทียบบัญญัติไตรยางศ์ | C25: =SUM(C24)*5/60 -> 0.66666667
B26: หมายเหตุ : การนับจำนวนอาจารย์ประจำ ให้นับตามปีการศึกษา และนับทั้งที่ปฏิบัติงานจริง และลาศึกษาต่อ
B28: ตัวบ่งชี้ที่ 2.2 เงินสนับสนุนงานวิจัยและงานสร้างสรรค์ หรือเผยแพร่ ตัวบ่งชี้ที่ 2.2 (ปริญญาโท) ผลงานของนักศึกษา และผู้สำเร็จการศึกษาในระดับปริญญาโทที่ได้รับการตีพิมพ์ หรือเผยแพร่
B29: เกณฑ์การประเมิน :โดยการแปลงจำนวนเงินต่อจำนวนอาจารย์ประจำและนักวิจัยประจำ เป็นคะแนนระหว่าง 0-5
B30: ข้อมูลพื้นฐาน | C30: จำนวนยืนยัน | E30: กลุ่มสาขาวิชาวิทยาศาสตร์และเทคโนโลยี | L30: 60,000 บาทขึ้นไปต่อคน
B31: จำนวนเงินสนับสนุนงานวิจัยหรืองานสร้างสรรค์จากภายใน | C31: 22350 | E31: กลุ่มสาขาวิชาวิทยาศาสตร์สุขภาพ | L31: 50,000 บาทขึ้นไปต่อคน
B32: จำนวนเงินสนับสนุนงานวิจัยหรืองานสร้างสรรค์จากภายนอกสถาบัน | C32: 67050 | E32: กลุ่มสาขาวิชามนุษยศาสตร์และสังคมศาสตร์ | L32: 25,000 บาทขึ้นไปต่อคน
B33: จำนวนอาจารย์ประจำและนักวิจัย | C33: 20
B34: จำนวนเงินสนับสนุนงานวิจัยหรืองานสร้างสรรค์จากภายในและภายนอกสถาบัน | C34: =SUM(C31:C32) -> 89400
B35: จำนวนเงินสนับสนุนงานวิจัยหรืองานสร้างสรรค์จากภายในและภายนอกสถาบัน | C35: =SUM(C34)/C33 -> 4470
B36: ต่อจำนวนอาจารย์ประจำและนักวิจัย
B37: เทียบบัญญัติไตรยางศ์ | C37: =SUM(C35)*5/25000 -> 0.894
B38: หมายเหตุ: จำนวนอาจารย์และนักวิจัย นับตามปีการศึกษา และนับเฉพาะที่ปฏิบัติงานจริง ไม่นับรวมผู้ลาศึกษาต่อ
B40: ตัวบ่งชี้ที่ 2.3 ผลงานวิชาการของอาจารย์ประจำและนักวิจัย หรือเผยแพร่ ตัวบ่งชี้ที่ 2.2 (ปริญญาโท) ผลงานของนักศึกษา และผู้สำเร็จการศึกษาในระดับปริญญาโทที่ได้รับการตีพิมพ์ หรือเผยแพร่
B41: เกณฑ์การประเมิน :แปลงค่าร้อยละของผลรวมถ่วงน้ำหนักของผลงานวิชาการของอาจารย์ประจำและนักวิจัยเป็นคะแนนระหว่าง 0- 5
B42: ข้อมูลพื้นฐาน | C42: จำนวนยืนยัน | E42: ผลงานทางวิชาการ (ชิ้น) | J42: งานสร้างสรรค์ (ชิ้น) | P42: วิทยาศาสตร์และเทคโนโลยี | V42: ร้อยละ 30 ขึ้นไป
B43: ผลรวมถ่วงน้ำหนักของผลงานทางวิชาการของอาจารย์ประจำและนักวิจัย | C43: =J46 -> 15 | E43: 0.2 | F43: 0.4 | G43: 0.6 | H43: 0.8 | I43: 1 | J43: 0.2 | K43: 0.4 | L43: 0.6 | M43: 0.8 | N43: 1 | P43: วิทยาศาสตร์สุขภาพ | V43: ร้อยละ 30 ขึ้นไป
B44: รวมจำนวนอาจารย์ และนักวิจัยประจำคณะทั้งหมด | C44: 25 | E44: 2 | F44: 5 | G44: 8 | H44: 1 | I44: 7 | P44: มนุษยศาสตร์และสังคมศาสตร์ | V44: ร้อยละ 20 ขึ้นไป
...

Sheet (กรอก)ราย ตบช.
B1: ตบช.ที่ | C1: ตนเอง | D1: กรรมการ
B2: 1.1 | C2: 3 | D2: 3.56 | F2: ตนเอง | I2: กรรมการ
B3: 1.2 | C3: 4.02 | D3: 4.17 | F3: 1 | G3: =AVERAGE(C2:C7) -> 3.67 | I3: 1 | J3: =AVERAGE(D2:D7) -> 4.0583333
B4: 1.3 | C4: 0 | D4: 1.62 | F4: 2 | G4: =AVERAGE(C8:C10) -> 4.5233333 | I4: 2 | J4: =AVERAGE(D8:D10) -> 3.99
B5: 1.4 | C5: 5 | D5: 5 | F5: 3 | G5: =C11 -> 5 | I5: 3 | J5: =D11 -> 5
B6: 1.5 | C6: 5 | D6: 5 | F6: 4 | G6: =C12 -> 5 | I6: 4 | J6: =D12 -> 5
B7: 1.6 | C7: 5 | D7: 5 | F7: 5 | G7: =AVERAGE(C13:C14) -> 5 | I7: 5 | J7: =AVERAGE(D13:D14) -> 4.5
B8: 2.1 | C8: 5 | D8: 5 | G8: =AVERAGE(C2:C14) -> 4.2761538 | J8: =AVERAGE(D2:D14) -> 4.2553846
B9: 2.2 | C9: 5 | D9: 1.97
B10: 2.3 | C10: 3.57 | D10: 5
B11: 3.1 | C11: 5 | D11: 5
B12: 4.1 | C12: 5 | D12: 5
B13: 5.1 | C13: 5 | D13: 4
B14: 5.2 | C14: 5 | D14: 5
B15: รวม 13 ตบช. | C15: =AVERAGE(C2:C14) -> 4.2761538 | D15: =AVERAGE(D2:D14) -> 4.2553846

Sheet  สรุปคะแนน
B2: ตารางการวิเคราะห์คุณภาพการศึกษาภายใน
B4: องค์ประกอบ | C4: จำนวน | D4: I | E4: P | F4: O | G4: คะแนน | H4: ผลการประเมิน
C5: ตัวบ่งชี้ | G5: เฉลี่ย
B6: 1 | C6: 6 | D6: =AVERAGE('(กรอก)ราย ตบช.'!D3:D5) -> 3.5966667 | E6: =AVERAGE('(กรอก)ราย ตบช.'!D6:D7) -> 5 | F6: ='(กรอก)ราย ตบช.'!D2 -> 3.56 | G6: =AVERAGE('(กรอก)ราย ตบช.'!D2:D7) -> 4.0583333 | H6: =IF(G6>=4.51,E19,IF(G6>=3.51,E18,IF(G6>=2.51,E17,IF(G6>=1.51,E16,IF(G6>=0,E15))))) -> การดำเนินงานระดับดี
B7: 2 | C7: 3 | D7: ='(กรอก)ราย ตบช.'!D9 -> 1.97 | E7: ='(กรอก)ราย ตบช.'!D8 -> 5 | F7: ='(กรอก)ราย ตบช.'!D10 -> 5 | G7: =AVERAGE('(กรอก)ราย ตบช.'!D8:D10) -> 3.99 | H7: =IF(G7>=4.51,E19,IF(G7>=3.51,E18,IF(G7>=2.51,E17,IF(G7>=1.51,E16,IF(G7>=0,E15))))) -> การดำเนินงานระดับดี
B8: 3 | C8: 1 | D8: - | E8: ='(กรอก)ราย ตบช.'!D11 -> 5 | F8: - | G8: ='(กรอก)ราย ตบช.'!D11 -> 5 | H8: =IF(G8>=4.51,E19,IF(G8>=3.51,E18,IF(G8>=2.51,E17,IF(G8>=1.51,E16,IF(G8>=0,E15))))) -> การดำเนินงานระดับดีมาก
B9: 4 | C9: 1 | D9: - | E9: ='(กรอก)ราย ตบช.'!D12 -> 5 | F9: - | G9: ='(กรอก)ราย ตบช.'!D12 -> 5 | H9: =IF(G9>=4.51,E19,IF(G9>=3.51,E18,IF(G9>=2.51,E17,IF(G9>=1.51,E16,IF(G9>=0,E15))))) -> การดำเนินงานระดับดีมาก
B10: 5 | C10: 2 | D10: - | E10: =AVERAGE('(กรอก)ราย ตบช.'!D13:D14) -> 4.5 | F10: - | G10: =AVERAGE('(กรอก)ราย ตบช.'!D13:D14) -> 4.5 | H10: =IF(G10>=4.51,E19,IF(G10>=3.51,E18,IF(G10>=2.51,E17,IF(G10>=1.51,E16,IF(G10>=0,E15))))) -> การดำเนินงานระดับดี
B11: ผลการประเมิน | D11: =AVERAGE('(กรอก)ราย ตบช.'!D3,'(กรอก)ราย ตบช.'!D4,'(กรอก)ราย ตบช.'!D5,'(กรอก)ราย ตบช.'!D9) -> 3.19 | E11: =AVERAGE('(กรอก)ราย ตบช.'!D6,'(กรอก)ราย ตบช.'!D7,'(กรอก)ราย ตบช.'!D8,'(กรอก)ราย ตบช.'!D11,'(กรอก)ราย ตบช.'!D12,'(กรอก)ราย ตบช.'!D13,'(กรอก)ราย ตบช.'!D14) -> 4.8571429 | F11: =AVERAGE('(กรอก)ราย ตบช.'!D2,'(กรอก)ราย ตบช.'!D10) -> 4.28 | G11: =AVERAGE('(กรอก)ราย ตบช.'!D2:D14) -> 4.2553846 | H11: =IF(G11>=4.51,E19,IF(G11>=3.51,E18,IF(G11>=2.51,E17,IF(G11>=1.51,E16,IF(G11>=0,E15))))) -> การดำเนินงานระดับดี
B12: ระดับคุณภาพ | D12: =IF(D11>=4.51,E19,IF(D11>=3.51,E18,IF(D11>=2.51,E17,IF(D11>=1.51,E16,IF(D11>=0,E15))))) -> การดำเนินงานระดับพอใช้ | E12: =IF(E11>=4.51,E19,IF(E11>=3.51,E18,IF(E11>=2.51,E17,IF(E11>=1.51,E16,IF(E11>=0,E15))))) -> การดำเนินงานระดับดีมาก | F12: =IF(F11>=4.51,E19,IF(F11>=3.51,E18,IF(F11>=2.51,E17,IF(F11>=1.51,E16,IF(F11>=0,E15))))) -> การดำเนินงานระดับดี
B13: หมายเหตุ : ตัวบ่งชี้ที่ 1.1 เป็นค่าคะแนนเฉลี่ยของผลการประเมินระดับหลักสูตรทุกหลักสูตร
B15: หมายเหตุ : | D15: 0.00 - 1.50 | E15: การดำเนินงานต้องปรับปรุงเร่งด่วน
D16: 1.51 - 2.50 | E16: การดำเนินงานต้องปรับปรุง
D17: 2.51 - 3.50 | E17: การดำเนินงานระดับพอใช้
D18: 3.51 - 4.50 | E18: การดำเนินงานระดับดี
D19: 4.51 - 5.00 | E19: การดำเนินงานระดับดีมาก
