Workbook

Sheet FTES58
B2: ตัวบ่งชี้ 1.4 จำนวนนักศึกษาเต็มเวลาเทียบเท่าต่อจำนวนอาจารย์ประจำ
B4: คณะ/วิทยาลัย/สถาบัน | D4: อาจารย์ | E4: FTES | F4: FTES | G4: ค่าความแตกต่าง | K4: เทียบ | M4: คะแนน | N4: หมายเหตุ
C5: ตนเอง | D5: (ไม่รวมลา) | F5: ต่อ อาจารย์ | G5: FTES ต่ออาจารย์ | H5: ตามเกณฑ์ | J5: *100/[2] | K5: บัญญัติฯ | M5: จาก
G6: ที่เป็นจริง [1] | H6: [2] | I6: [1-2] | K6: [20]-[3]*5/10 | M6: การประเมินฯ
A7: 1 | B7: วิทยาลัยแพทยศาสตร์ | C7: 5 | D7: 1 | E7: 1 | F7: =SUM(E7)/D7 -> 1 | G7: =+F7 -> 1 | H7: 4 | I7: =SUM(G7)-(H7) -> -3 | J7: =SUM(I7)*100/H7 -> -75 | K7: 20 | L7: =SUM(K7)-J7*5/10 -> 57.5 | N7: >20% | P7: ค่าร้อยละที่น้อยกว่าหรือเท่ากับร้อยละ 0 คิดเป็น 5
A8: 2 | B8: วิทยาลัยเภสัชศาสตร์ | C8: 5 | D8: 1 | E8: 1 | F8: =SUM(E8)/D8 -> 1 | G8: =+F8 -> 1 | H8: 8 | I8: =SUM(G8)-(H8) -> -7 | J8: =SUM(I8)*100/H8 -> -87.5 | K8: 20 | L8: =SUM(K8)-J8*5/10 -> 63.75 | N8: >0% | P8: ค่าร้อยละที่มากกว่าหรือเท่ากับร้อยละ 20 คิดเป็น 0
A9: 3 | B9: คณะพยาบาลศาสตร์ | C9: 5 | D9: 1 | E9: 1 | F9: =SUM(E9)/D9 -> 1 | G9: =+F9 -> 1 | H9: 6 | I9: =SUM(G9)-(H9) -> -5 | J9: =SUM(I9)*100/H9 -> -83.333333 | K9: 20 | L9: =SUM(K9)-J9*5/10 -> 61.666667 | N9: เทียบบัญญัติ | P9: ค่าร้อยละที่มากกว่าร้อยละ 0 แต่น้อยกว่าร้อยละ 20 คิดต่อ
A10: 4 | B10: คณะเทคนิคการแพทย์ | C10: 3.5 | D10: 1 | E10: 1 | F10: =SUM(E10)/D10 -> 1 | G10: =+F10 -> 1 | H10: 8 | I10: =SUM(G10)-(H10) -> -7 | J10: =SUM(I10)*100/H10 -> -87.5 | K10: 20 | L10: =SUM(K10)-J10*5/10 -> 63.75 | N10: เทียบบัญญัติ
A11: 5 | B11: คณะกายภาพบำบัดฯ | C11: 0 | D11: 1 | E11: 1 | F11: =SUM(E11)/D11 -> 1 | G11: =+F11 -> 1 | H11: 8 | I11: =SUM(G11)-(H11) -> -7 | J11: =SUM(I11)*100/H11 -> -87.5 | K11: 20 | L11: =SUM(K11)-J11*5/10 -> 63.75 | N11: >20% | P11: 5 ลบ ค่าร้อยละที่คำนวณได้ หารได้วย 4
A12: 6 | B12: วิทยาลัยการแพทย์แผนตะวันออก | C12: 0 | D12: 1 | E12: 1 | F12: =SUM(E12)/D12 -> 1 | G12: =+F12 -> 1 | H12: 8 | I12: =SUM(G12)-(H12) -> -7 | J12: =SUM(I12)*100/H12 -> -87.5 | K12: 20 | L12: =SUM(K12)-J12*5/10 -> 63.75 | N12: >20%
A13: 7 | B13: วิทยาลัยทันตแพทยศาสตร์ | C13: 5 | D13: 1 | E13: 1 | F13: =SUM(E13)/D13 -> 1 | G13: =+F13 -> 1 | H13: 8 | I13: =SUM(G13)-(H13) -> -7 | J13: =SUM(I13)*100/H13 -> -87.5 | N13: 0
A14: 8 | B14: คณะทัศนมาตรศาสตร์ | C14: 0 | D14: 1 | E14: 1 | F14: =SUM(E14)/D14 -> 1 | G14: =+F14 -> 1 | H14: 8 | I14: =SUM(G14)-(H14) -> -7 | J14: =SUM(I14)*100/H14 -> -87.5 | K14: 20 | L14: =SUM(K14)-J14*5/10 -> 63.75 | N14: >20%
A15: 9 | B15: คณะรังสีเทคนิค | C15: 0 | D15: 1 | E15: 1 | F15: =SUM(E15)/D15 -> 1 | G15: =+F15 -> 1 | H15: 8 | I15: =SUM(G15)-(H15) -> -7 | J15: =SUM(I15)*100/H15 -> -87.5
A16: 10 | B16: วิทยาลัยนวัตกรรมดิจิทัลฯ | C16: 5 | D16: 1 | E16: 1 | F16: =SUM(E16)/D16 -> 1 | G16: =+F16 -> 1 | H16: 20 | I16: =SUM(G16)-(H16) -> -19 | J16: =SUM(I16)*100/H16 -> -95 | K16: 20 | L16: =SUM(K16)-J16*5/10 -> 67.5 | N16: <10%
A17: 11 | B17: คณะวิทยาศาสตร์ | C17: 5 | D17: 1 | E17: 1 | F17: =SUM(E17)/D17 -> 1 | G17: =+F17 -> 1 | H17: 20 | I17: =SUM(G17)-(H17) -> -19 | J17: =SUM(I17)*100/H17 -> -95 | K17: 20 | L17: =SUM(K17)-J17*5/10 -> 67.5 | N17: <10%
A18: 12 | B18: วิทยาลัยนวัตกรรมเกษตรฯ | C18: 3.85 | D18: 1 | E18: 1 | F18: =SUM(E18)/D18 -> 1 | G18: =+F18 -> 1 | H18: 20 | I18: =SUM(G18)-(H18) -> -19 | J18: =SUM(I18)*100/H18 -> -95 | K18: 20 | L18: =SUM(K18)-J18*5/10 -> 67.5 | N18: เทียบบัญญัติ
A19: 13 | B19: วิทยาลัยวิศวกรรมศาสตร์ | C19: 0 | D19: 1 | E19: 1 | F19: =SUM(E19)/D19 -> 1 | G19: =+F19 -> 1 | H19: 20 | I19: =SUM(G19)-(H19) -> -19 | J19: =SUM(I19)*100/H19 -> -95 | K19: 20 | L19: =SUM(K19)-J19*5/10 -> 67.5 | N19: >20%
A20: 14 | B20: วิทยาลัยวิศวกรรมชีวการแพทย์ | D20: 1 | E20: 1 | F20: =SUM(E20)/D20 -> 1 | G20: =+F20 -> 1 | H20: 20 | I20: =SUM(G20)-(H20) -> -19 | J20: =SUM(I20)*100/H20 -> -95
A21: 15 | B21: สถาบันการบิน | C21: 4.83 | D21: 1 | E21: 1 | F21: =SUM(E21)/D21 -> 1 | G21: =+F21 -> 1 | H21: 20 | I21: =SUM(G21)-(H21) -> -19 | J21: =SUM(I21)*100/H21 -> -95 | K21: 20 | L21: =SUM(K21)-J21*5/10 -> 67.5 | N21: เทียบบัญญัติ
A22: 16 | B22: คณะสถาปัตยกรรมศาสตร์ | C22: 0 | D22: 1 | E22: 1 | F22: =SUM(E22)/D22 -> 1 | G22: =+F22 -> 1 | H22: 15 | I22: =SUM(G22)-(H22) -> -14 | J22: =SUM(I22)*100/H22 -> -93.333333 | K22: 20 | L22: =SUM(K22)-J22*5/10 -> 66.666667 | N22: >20%
A23: 17 | B23: คณะบริหารธุรกิจ | C23: 0 | D23: 1 | E23: 1 | F23: =SUM(E23)/D23 -> 1 | G23: =+F23 -> 1 | H23: 25 | I23: =SUM(G23)-(H23) -> -24 | J23: =SUM(I23)*100/H23 -> -96 | K23: 20 | L23: =SUM(K23)-J23*5/10 -> 68 | N23: >20%
A24: 18 | B24: คณะบัญชี | C24: 1.5 | D24: 1 | E24: 1 | F24: =SUM(E24)/D24 -> 1 | G24: =+F24 -> 1 | H24: 25 | I24: =SUM(G24)-(H24) -> -24 | J24: =SUM(I24)*100/H24 -> -96 | K24: 20 | L24: =SUM(K24)-J24*5/10 -> 68 | N24: เทียบบัญญัติ
A25: 19 | B25: วิทยาลัยการท่องเที่ยวฯ | C25: 0 | D25: 1 | E25: 1 | F25: =SUM(E25)/D25 -> 1 | G25: =+F25 -> 1 | H25: 25 | I25: =SUM(G25)-(H25) -> -24 | J25: =SUM(I25)*100/H25 -> -96 | K25: 20 | L25: =SUM(K25)-J25*5/10 -> 68 | N25: >20%
A26: 20 | B26: คณะเศรษฐศาสตร์ | C26: 5 | D26: 1 | E26: 1 | F26: =SUM(E26)/D26 -> 1 | G26: =+F26 -> 1 | H26: 25 | I26: =SUM(G26)-(H26) -> -24 | J26: =SUM(I26)*100/H26 -> -96 | K26: 20 | L26: =SUM(K26)-J26*5/10 -> 68 | N26: <10%
A27: 21 | B27: วิทยาลัยการออกแบบ | C27: 0 | D27: 1 | E27: 1 | F27: =SUM(E27)/D27 -> 1 | G27: =+F27 -> 1 | H27: 20 | I27: =SUM(G27)-(H27) -> -19 | J27: =SUM(I27)*100/H27 -> -95 | K27: 20 | L27: =SUM(K27)-J27*5/10 -> 67.5 | N27: >20%
A28: 22 | B28: วิทยาลัยดนตรี | C28: 5 | D28: 1 | E28: 1 | F28: =SUM(D28)/E28 -> 1 | G28: =SUM(E28)/D28 -> 1 | H28: 12 | I28: =SUM(G28)-(H28) -> -11 | J28: =SUM(I28)*100/H28 -> -91.666667 | K28: 20 | L28: =SUM(K28)-J28*5/10 -> 65.833333 | N28: 0.00*
A29: 23 | B29: คณะดิจิทัลอาร์ต | C29: 0 | D29: 1 | E29: 1 | F29: =SUM(E29)/D29 -> 1 | G29: =+F29 -> 1 | H29: 15 | I29: =SUM(G29)-(H29) -> -14 | J29: =SUM(I29)*100/H29 -> -93.333333 | K29: 20 | L29: =SUM(K29)-J29*5/10 -> 66.666667 | N29: >20%
A30: 24 | B30: วิทยาลัยนิเทศศาสตร์ | C30: 0 | D30: 1 | E30: 1 | F30: =SUM(E30)/D30 -> 1 | G30: =+F30 -> 1 | H30: 25 | I30: =SUM(G30)-(H30) -> -24 | J30: =SUM(I30)*100/H30 -> -96 | K30: 20 | L30: =SUM(K30)-J30*5/10 -> 68 | N30: >20%
A31: 25 | B31: วิทยาลัยศิลปศาสตร์ | C31: 3.5 | D31: 1 | E31: 1 | F31: =SUM(E31)/D31 -> 1 | G31: =+F31 -> 1 | H31: 25 | I31: =SUM(G31)-(H31) -> -24 | J31: =SUM(I31)*100/H31 -> -96 | K31: 20 | L31: =SUM(K31)-J31*5/10 -> 68 | N31: เทียบบัญญัติ*
A32: 26 | B32: คณะนิติศาสตร์ | C32: 0 | D32: 1 | E32: 1 | F32: =SUM(E32)/D32 -> 1 | G32: =+F32 -> 1 | H32: 50 | I32: =SUM(G32)-(H32) -> -49 | J32: =SUM(I32)*100/H32 -> -98 | K32: 20 | L32: =SUM(K32)-J32*5/10 -> 69 | N32: >20%
A33: 27 | B33: วิทยาลัยนวัตกรรมสังคม | C33: 4 | D33: 1 | E33: 1 | F33: =SUM(E33)/D33 -> 1 | G33: =+F33 -> 1 | H33: 25 | I33: =SUM(G33)-(H33) -> -24 | J33: =SUM(I33)*100/H33 -> -96 | K33: 20 | L33: =SUM(K33)-J33*5/10 -> 68 | N33: เทียบบัญญัติ*
A34: 28 | B34: สถาบันรัฐประศาสนศาสตร์และนโยบายสาธารณะ | C34: 1.08 | D34: 1 | E34: 1 | F34: 20.54 | G34: =+F34 -> 20.54 | H34: 25 | I34: =SUM(G34)-(H34) -> -4.46 | J34: =SUM(I34)*100/H34 -> -17.84 | K34: 20 | L34: =SUM(K34)-J34*5/10 -> 28.92 | N34: เทียบบัญญัติ
A35: 29 | B35: วิทยาลัยครูสุริยเทพ | C35: 5 | D35: 1 | E35: 1 | F35: =SUM(E35)/D35 -> 1 | G35: =+F35 -> 1 | H35: 30 | I35: =SUM(G35)-(H35) -> -29 | J35: =SUM(I35)*100/H35 -> -96.666667 | K35: 20 | L35: =SUM(K35)-J35*5/10 -> 68.333333 | N35: >20%
A36: 30 | B36: คณะอาชญาวิทยาและการบริหารงานยุติธรรม | C36: 5 | D36: 1 | E36: 1 | F36: =SUM(E36)/D36 -> 1 | G36: =+F36 -> 1 | H36: 25 | I36: =SUM(G36)-(H36) -> -24 | J36: =SUM(I36)*100/H36 -> -96 | K36: 21 | L36: =SUM(K36)-J36*5/10 -> 69
A37: 31 | B37: คณะรัฐศาสตร์ | C37: 5 | D37: 1 | E37: 1 | F37: =SUM(E37)/D37 -> 1 | G37: =+F37 -> 1 | H37: 25 | I37: =SUM(G37)-(H37) -> -24 | J37: =SUM(I37)*100/H37 -> -96 | K37: 22 | L37: =SUM(K37)-J37*5/10 -> 70
A38: 32 | B38: สถาบันการทูตและการต่างประเทศ | C38: 5 | D38: 1 | E38: 1 | F38: =SUM(E38)/D38 -> 1 | G38: =+F38 -> 1 | H38: 25 | I38: =SUM(G38)-(H38) -> -24 | J38: =SUM(I38)*100/H38 -> -96 | K38: 23 | L38: =SUM(K38)-J38*5/10 -> 71
A39: 33 | B39: วิทยาลัยนานาชาติ | C39: 5 | D39: 1 | E39: 1 | F39: =SUM(E39)/D39 -> 1 | G39: =+F39 -> 1 | H39: 25 | I39: =SUM(G39)-(H39) -> -24 | J39: =SUM(I39)*100/H39 -> -96 | K39: 24 | L39: =SUM(K39)-J39*5/10 -> 72

Sheet ตบช.เชิงปริมาณ (คณะ)
B2: การคำนวณ เชิงปริมาณ ตัวบ่งชี้ ระดับคณะวิชา
B4: ตัวบ่งชี้ 1.1 ผลการบริหารจัดการหลักสูตรโดยรยม
B5: เกณฑ์การประเมิน : ค่าเฉลี่ยของคะแนนประเมินทุกหลักสูตรที่คณะรับผิดชอบ
B7: ข้อมูลพื้นฐาน | C7: จำนวนยืนยัน
B8: จำนวนหลักสูตรทั้งหมดที่คณะรับผิดชอบ | C8: 14
B9: ผลรวมของค่าคะแนนประเมินของทุกหลักสูตร | C9: 50.5
B10: คะแนนที่ได้ | C10: =SUM(C9)/C8 -> 3.6071429
B12: ตัวบ่งชี้ที่ 1.2 อาจารย์ประจำคณะที่มีคุณวุฒิปริญญาเอก
B13: เกณฑ์การประเมิน : แปลงค่าร้อยละของอาจารย์ประจำคณะที่มีคุณวุฒิปริญญาเอกเป็นคะแนนระหว่าง 0 – 5
B15: ข้อมูลพื้นฐาน | C15: จำนวนยืนยัน
B16: จำนวนอาจารย์ประจำคณะทั้งหมด | C16: 28
B17: จำนวนอาจารย์ประจำคณะที่มีคุณวุฒิปริญญาเอก | C17: 9
B18: ร้อยละของอาจารย์ประจำคณะที่มีคุณวุฒิปริญญาเอก | C18: =SUM(C17)*100/C16 -> 32.142857
B19: เทียบบัญญัติไตรยางศ์ | C19: =SUM(C18)*5/40 -> 4.0178571
B20: หมายเหตุ : การนับจำนวนอาจารย์ประจำ ให้นับตามปีการศึกษา และนับทั้งที่ปฏิบัติงานจริง และลาศึกษาต่อ
B22: ตัวบ่งชี้ที่ 1.3 อาจารย์ประจำคณะที่ดำรงตำแหน่งทางวิชาการ
B23: เกณฑ์การประเมิน : แปลงค่าร้อยละของอาจารย์ประจำคณะที่ดำรงตำแหน่งทางวิชาการเป็นคะแนนระหว่าง 0 – 5
B25: ข้อมูลพื้นฐาน | C25: จำนวนยืนยัน
B26: จำนวนอาจารย์ประจำคณะทั้งหมด | C26: 28
B27: จำนวนอาจารย์ประจำคณะที่มีตำแหน่งทางวิชาการ | C27: 0
B28: จำนวนอาจารย์ประจำคณะที่ไม่มีตำแหน่งทางวิชาการ | C28: 28 | E28: =SUM(C27:C28) -> 28
B29: ร้อยละของอาจารย์ประจำคณะที่มีตำแหน่งทางวิชาการ | C29: =SUM(C27)*100/C26 -> 0
B30: เทียบบัญญัติไตรยางศ์ | C30: =SUM(C29)*5/60 -> 0
B31: หมายเหตุ : การนับจำนวนอาจารย์ประจำ ให้นับตามปีการศึกษา และนับทั้งที่ปฏิบัติงานจริง และลาศึกษาต่อ
B33: ตัวบ่งชี้ที่ 2.2 เงินสนับสนุนงานวิจัยและงานสร้างสรรค์ หรือเผยแพร่ ตัวบ่งชี้ที่ 2.2 (ปริญญาโท) ผลงานของนักศึกษา และผู้สำเร็จการศึกษาในระดับปริญญาโทที่ได้รับการตีพิมพ์ หรือเผยแพร่
B34: เกณฑ์การประเมิน :โดยการแปลงจำนวนเงินต่อจำนวนอาจารย์ประจำและนักวิจัยประจำ เป็นคะแนนระหว่าง 0-5
B36: ข้อมูลพื้นฐาน | C36: จำนวนยืนยัน | E36: กลุ่มสาขาวิชาวิทยาศาสตร์และเทคโนโลยี | L36: 60,000 บาทขึ้นไปต่อคน
B37: จำนวนเงินสนับสนุนงานวิจัยหรืองานสร้างสรรค์จากภายใน | C37: 1344846 | E37: กลุ่มสาขาวิชาวิทยาศาสตร์สุขภาพ | L37: 50,000 บาทขึ้นไปต่อคน
B38: จำนวนเงินสนับสนุนงานวิจัยหรืองานสร้างสรรค์จากภายนอกสถาบัน | C38: 0 | E38: กลุ่มสาขาวิชามนุษยศาสตร์และสังคมศาสตร์ | L38: 25,000 บาทขึ้นไปต่อคน
B39: จำนวนอาจารย์ประจำและนักวิจัย | C39: 25 | E39: หมายเหตุ: จำนวนอาจารย์และนักวิจัย นับตามปีการศึกษา และนับเฉพาะที่ปฏิบัติงานจริง
B40: จำนวนเงินสนับสนุนงานวิจัยหรืองานสร้างสรรค์จากภายในและภายนอกสถาบัน | C40: =SUM(C37:C38) -> 1344846 | E40: ไม่นับรวมผู้ลาศึกษาต่อ
B41: จำนวนเงินสนับสนุนงานวิจัยหรืองานสร้างสรรค์จากภายในและภายนอกสถาบัน | C41: =SUM(C40)/C39 -> 53793.84
B42: ต่อจำนวนอาจารย์ประจำและนักวิจัย
B43: เทียบบัญญัติไตรยางศ์ | C43: =SUM(C41)*5/50000 -> 5.379384 | D43: (หารด้วยจำนวนเงินสนับสนุนงานวิจัยฯ ตามกลุ่มสาขาวิชา)
B45: ตัวบ่งชี้ที่ 2.3 ผลงานวิชาการของอาจารย์ประจำและนักวิจัย หรือเผยแพร่ ตัวบ่งชี้ที่ 2.2 (ปริญญาโท) ผลงานของนักศึกษา และผู้สำเร็จการศึกษาในระดับปริญญาโทที่ได้รับการตีพิมพ์ หรือเผยแพร่
B46: เกณฑ์การประเมิน :แปลงค่าร้อยละของผลรวมถ่วงน้ำหนักของผลงานวิชาการของอาจารย์ประจำและนักวิจัยเป็นคะแนนระหว่าง 0- 5
B47: ข้อมูลพื้นฐาน | C47: จำนวนยืนยัน
B48: ผลรวมถ่วงน้ำหนักของผลงานทางวิชาการของอาจารย์ประจำและนักวิจัย | C48: =SUM(K52) -> 6 | F48: ผลงานทางวิชาการ (ชิ้น) | K48: งานสร้างสรรค์ (ชิ้น) | P48: วิทยาศาสตร์และเทคโนโลยี | V48: ร้อยละ 30 ขึ้นไป
B49: จำนวนอาจารย์ประจำและนักวิจัยทั้งหมด | C49: 28 | F49: 0.2 | G49: 0.4 | H49: 0.6 | I49: 0.8 | J49: 1 | K49: 0.2 | L49: 0.4 | M49: 0.6 | N49: 0.8 | O49: 1 | P49: วิทยาศาสตร์สุขภาพ | V49: ร้อยละ 30 ขึ้นไป
B50: ร้อยละของผลรวมถ่วงน้ำหนักของผลงานทางวิชาการ | C50: =SUM(C48)*100/C49 -> 21.428571 | F50: 2 | G50: 4 | H50: 1 | I50: 3 | J50: 1 | P50: มนุษยศาสตร์และสังคมศาสตร์ | V50: ร้อยละ 20 ขึ้นไป
...

Sheet (กรอก)ราย ตบช.
B1: ตบช.ที่ | C1: ตนเอง | D1: กรรมการ
B2: 1.1 | C2: 3 | D2: 3 | F2: ตนเอง | I2: กรรมการ
B3: 1.2 | C3: 4.02 | D3: 4.02 | F3: 1 | G3: =SUM(C2:C7)/6 -> 3.67 | I3: 1 | J3: =SUM(D2:D7)/6 -> 3.67
B4: 1.3 | C4: 0 | D4: 0 | F4: 2 | G4: =SUM(C8:C10)/3 -> 4.5233333 | I4: 2 | J4: =SUM(D8:D10)/3 -> 4.5233333
B5: 1.4 | C5: 5 | D5: 5 | F5: 3 | G5: =+C11 -> 5 | I5: 3 | J5: =+D11 -> 5
B6: 1.5 | C6: 5 | D6: 5 | F6: 4 | G6: =+C12 -> 5 | I6: 4 | J6: =+D12 -> 5
B7: 1.6 | C7: 5 | D7: 5 | F7: 5 | G7: =SUM(C13:C14)/2 -> 5 | I7: 5 | J7: =SUM(D13:D14)/2 -> 5
B8: 2.1 | C8: 5 | D8: 5 | G8: =SUM(C2:C14)/13 -> 4.2761538 | J8: =SUM(D2:D14)/13 -> 4.2761538
B9: 2.2 | C9: 5 | D9: 5
B10: 2.3 | C10: 3.57 | D10: 3.57
B11: 3.1 | C11: 5 | D11: 5
B12: 4.1 | C12: 5 | D12: 5
B13: 5.1 | C13: 5 | D13: 5
B14: 5.2 | C14: 5 | D14: 5
B15: รวม 13 ตบช. | C15: =SUM(C2:C14)/13 -> 4.2761538 | D15: =SUM(D2:D14)/13 -> 4.2761538

Sheet  สรุปคะแนน
B2: ตารางการวิเคราะห์คุณภาพการศึกษาภายใน
B4: องค์ประกอบ | C4: จำนวน | D4: I | H4: P | L4: O | O4: คะแนน | P4: ผลการประเมิน
C5: ตัวบ่งชี้ | O5: เฉลี่ย
B6: 1 | C6: 5 | D6: =SUM(E6:G6)/3 -> 3.0066667 | E6: =+'(กรอก)ราย ตบช.'!D3 -> 4.02 | F6: =+'(กรอก)ราย ตบช.'!D4 -> 0 | G6: =+'(กรอก)ราย ตบช.'!D5 -> 5 | H6: =SUM(I6:J6)/2 -> 5 | I6: =+'(กรอก)ราย ตบช.'!D6 -> 5 | J6: =+'(กรอก)ราย ตบช.'!D7 -> 5 | K6: - | L6: =+'(กรอก)ราย ตบช.'!D2 -> 3 | M6: =+'(กรอก)ราย ตบช.'!D2 -> 3 | N6: - | O6: =SUM(E6,F6,G6,I6,J6,M6)/6 -> 3.67 | P6: =IF(O6>=4.51,H19,IF(O6>=3.51,H18,IF(O6>=2.51,H17,IF(O6>=1.51,H16,IF(O6>=0,H15))))) -> การดำเนินงานระดับดี
B7: 2 | C7: 3 | D7: =SUM(E7)/1 -> 5 | E7: =+'(กรอก)ราย ตบช.'!D9 -> 5 | F7: - | G7: - | H7: =SUM(I7:J7)/1 -> 5 | I7: =+'(กรอก)ราย ตบช.'!D8 -> 5 | J7: - | K7: - | L7: =SUM(M7)/1 -> 3.57 | M7: =+'(กรอก)ราย ตบช.'!D10 -> 3.57 | N7: - | O7: =SUM(E7,I7,M7)/3 -> 4.5233333 | P7: =IF(O7>=4.51,H19,IF(O7>=3.51,H18,IF(O7>=2.51,H17,IF(O7>=1.51,H16,IF(O7>=0,H15))))) -> การดำเนินงานระดับดีมาก
B8: 3 | C8: 1 | D8: - | E8: - | F8: - | G8: - | H8: =SUM(I8)/1 -> 5 | I8: =+'(กรอก)ราย ตบช.'!D11 -> 5 | J8: - | K8: - | L8: - | M8: - | N8: - | O8: =SUM(I8)/1 -> 5 | P8: =IF(O8>=4.51,H19,IF(O8>=3.51,H18,IF(O8>=2.51,H17,IF(O8>=1.51,H16,IF(O8>=0,H15))))) -> การดำเนินงานระดับดีมาก
B9: 4 | C9: 1 | D9: - | E9: - | F9: - | G9: - | H9: =SUM(I9)/1 -> 5 | I9: =+'(กรอก)ราย ตบช.'!D12 -> 5 | J9: - | K9: - | L9: - | M9: - | N9: - | O9: =SUM(I9)/1 -> 5 | P9: =IF(O9>=4.51,H19,IF(O9>=3.51,H18,IF(O9>=2.51,H17,IF(O9>=1.51,H16,IF(O9>=0,H15))))) -> การดำเนินงานระดับดีมาก
B10: 5 | C10: 2 | D10: - | E10: - | F10: - | G10: - | H10: =SUM(I10:J10)/2 -> 5 | I10: =+'(กรอก)ราย ตบช.'!D13 -> 5 | J10: =+'(กรอก)ราย ตบช.'!D14 -> 5 | L10: - | M10: - | N10: - | O10: =SUM(I10,J10)/2 -> 5 | P10: =IF(O10>=4.51,H19,IF(O10>=3.51,H18,IF(O10>=2.51,H17,IF(O10>=1.51,H16,IF(O10>=0,H15))))) -> การดำเนินงานระดับดีมาก
B11: รวม | C11: =SUM(C6:C10) -> 12 | D11: 4 | H11: 7 | L11: 2
B12: ผลประเมิน | D12: =SUM(E6,F6,G6,E7)/4 -> 3.505 | H12: =SUM(I6,J6,I7,I8,I9,I10,J10)/7 -> 5 | L12: =SUM(M6,M7)/2 -> 3.285 | O12: =SUM(E6,F6,G6,E7,I6,J6,I7,I8,I9,I10,J10,M6,M7)/13 -> 4.2761538 | P12: =IF(O12>=4.51,H19,IF(O12>=3.51,H18,IF(O12>=2.51,H17,IF(O12>=1.51,H16,IF(O12>=0,H15))))) -> การดำเนินงานระดับดี
B13: หมายเหตุ : ตัวบ่งชี้ที่ 1.1 เป็นค่าคะแนนเฉลี่ยของผลการประเมินระดับหลักสูตรทุกหลักสูตร
B15: หมายเหตุ : | D15: 0.00 - 1.50 | H15: การดำเนินงานต้องปรับปรุงเร่งด่วน
D16: 1.51 - 2.50 | H16: การดำเนินงานต้องปรับปรุง
D17: 2.51 - 3.50 | H17: การดำเนินงานระดับพอใช้
D18: 3.51 - 4.50 | H18: การดำเนินงานระดับดี
D19: 4.51 - 5.00 | H19: การดำเนินงานระดับดีมาก
