Workbook

Sheet ตบช.เชิงปริมาณ
B2: ตัวบ่งชี้ 2.1 คุณภาพบัณฑิตตามกรอบมาตรฐานคุณวุฒิระดับอุดมศึกษาแห่งชาติ และ ด้านผลลัพธ์ผู้เรียนตามมาตรฐานการอุดมศึกษา พ.ศ.2561
B3: เกณฑ์การประเมิน : ใช้ค่าเฉลี่ยของคะแนนประเมินบัณฑิต (คะแนนเต็ม 5)
B5: ข้อมูลพื้นฐาน | C5: จำนวนยืนยัน
B6: 1. จำนวนผู้สำเร็จการศึกษาในหลักสูตรทั้งหมด (คน) | C6: 71 | D6: บัณฑิตที่จบภาคการศึกษา 1/2564 , 2/2564 และ S/2565
B7: 2. จำนวนผู้สำเร็จการศึกษาที่ได้รับการประเมินคุณภาพ | C7: 15
B8: ตามกรอบมาตรฐานคุณวุฒิระดับอุดมศึกษาแห่งชาติ (อย่างน้อยร้อยละ 20) | C8: =(C7*100)/C6 -> 21.126761 | D8: ต้องได้มากกว่าร้อยละ 20 | L8: ค่าเฉลี่ย | M8: คนตอบ
B9: 3. ผลรวมค่าคะแนนที่ได้รับจากการประเมินบัณฑิต | C9: 4.68 | K9: =SUM(L9)*M9 -> 139.5 | L9: 4.5 | M9: 31
B10: คะแนนการประเมินบัณฑิตตามกรอบมาตรฐานคุณวุฒิฯ | C10: =C9 -> 4.68
B12: ตัวบ่งชี้ที่ 2.2 (ปริญญาตรี) ร้อยละของบัณฑิตปริญญาตรีที่ได้งานทำหรือประกอบอาชีพอิสระภายใน 1 ปี
B13: เกณฑ์การประเมิน : ใช้บัญญัติไตรยางศ์เทียบ กำหนดร้อยละ 100 เท่ากับ 5 คะแนน
B15: ข้อมูลพื้นฐาน | C15: จำนวนยืนยัน
B16: [1] จำนวนบัณฑิตทั้งหมด | C16: 71 | D16: บัณฑิตที่จบภาคการศึกษา 1/2564 , 2/2564 และ S/2565
B17: [2] จำนวนบัณฑิตที่ตอบแบบสำรวจ (ไม่น้อยกว่าร้อยละ 70 ของผู้สำเร็จการศึกษา) | C17: 51 | D17: =(C17*100)/C16 -> 71.830986
B18: [3] จำนวนบัณฑิตที่ได้งานทำหลังสำเร็จการศึกษา [มีงานทำในองค์กร] | C18: 20
B19: [4] จำนวนบัณฑิตที่ได้งานทำหลังสำเร็จการศึกษา [ประกอบอาชีพอิสระ] | C19: 20
B20: [5] จำนวนบัณฑิตที่ได้งานทำหลังสำเร็จการศึกษา [ประกอบกิจการส่วนตัว/ธุรกิจครอบครัว] | C20: 10
B21: [6] จำนวนบัณฑิตที่ไม่ได้งานทำ | C21: 1
B22: [7] จำนวนบัณฑิตที่ศึกษาต่อ | C22: 0
B23: [8] จำนวนบัณฑิตที่อุปสมบท | C23: 0
B24: [9] จำนวนบัณฑิตที่เกณฑ์ทหาร | C24: 0
B25: [10] จำนวนผู้สำเร็จการศึกษาที่มีงานทำก่อนเข้าศึกษา | C25: 0 | D25: =(C18+C19+C20+C21+C22+C23+C24+C25) -> 51 | E25: [3] ถึง [10] บวกกันต้องได้เท่ากับข้อ [2]
B26: [11] ร้อยละที่ได้ (([3] + [4] + [5]) x 100) / ([2] – ([7]+[8]+[9]+[10])) | C26: =((C18+C19+C20)*100)/(C17-(C22+C23+C24+C25)) -> 98.039216
B27: [12] ผลลัพธ์ที่ได้ [11] x 5 / 100 | C27: =((C26*5)/100) -> 4.9019608
B29: ตัวบ่งชี้ที่ 2.2 (ปริญญาโท) ผลงานของนักศึกษา และผู้สำเร็จการศึกษาในระดับปริญญาโท หรือเผยแพร่ ตัวบ่งชี้ที่ 2.2 (ปริญญาโท) ผลงานของนักศึกษา และผู้สำเร็จการศึกษาในระดับปริญญาโทที่ได้รับการตีพิมพ์ หรือเผยแพร่
B30: ที่ได้รับการตีพิมพ์หรือเผยแพร่
B31: เกณฑ์การประเมิน : ใช้บัญญัติไตรยางศ์เทียบ กำหนดร้อยละ 40 เท่ากับ 5 คะแนน
B33: ข้อมูลพื้นฐาน | C33: จำนวนยืนยัน
B34: ผลรวมถ่วงน้ำหนักของผลงานที่ตีพิมพ์หรือเผยแพร่ของนักศึกษา และผู้สำเร็จการศึกษาระดับปริญญาโท | C34: =K38 -> 8.3 | E34: ผลงานทางวิชาการ (ชิ้น) | K34: งานสร้างสรรค์ (ชิ้น)
B35: จำนวนผู้สำเร็จการศึกษาระดับปริญญาโททั้งหมด | C35: 20 | E35: 0.1 | F35: 0.2 | G35: 0.4 | H35: 0.6 | I35: 0.8 | J35: 1 | K35: 0.2 | L35: 0.4 | M35: 0.6 | N35: 0.8 | O35: 1
B36: ร้อยละของผลรวมถ่วงน้ำหนักของผลงานที่ตีพิมพ์หรือเผยแพร่ | C36: =SUM(C34)*100/C35 -> 41.5 | E36: 5 | F36: 5 | G36: 5 | H36: 5 | I36: 1 | J36: 1 | K36: 0 | L36: 0 | M36: 0 | N36: 0 | O36: 0
B37: เทียบบัญญัติไตรยางศ์ | C37: =SUM(C36)*5/40 -> 5.1875 | E37: =SUM(E36)*E35 -> 0.5 | F37: =SUM(F36)*F35 -> 1 | G37: =SUM(G36)*G35 -> 2 | H37: =SUM(H36)*H35 -> 3 | I37: =SUM(I36)*I35 -> 0.8 | J37: =SUM(J36)*J35 -> 1 | K37: =SUM(K36)*K35 -> 0 | L37: =SUM(L36)*L35 -> 0 | ... O37: =SUM(O36)*O35 -> 0
E38: ผลรวมถ่วงน้ำหนักของผลงาน | K38: =SUM(E37:O37) -> 8.3
B41: ตัวบ่งชี้ที่ 2.2 (ระดับปริญญาเอก) ผลงานของนักศึกษาและผู้สำเร็จการศึกษา หรือเผยแพร่ ตัวบ่งชี้ที่ 2.2 (ปริญญาโท) ผลงานของนักศึกษา และผู้สำเร็จการศึกษาในระดับปริญญาโทที่ได้รับการตีพิมพ์ หรือเผยแพร่
B42: ในระดับปริญญาเอกที่ได้รับการตีพิมพ์หรือเผยแพร่
B43: เกณฑ์การประเมิน : ใช้บัญญัติไตรยางศ์เทียบ กำหนดร้อยละ 80 เท่ากับ 5 คะแนน
B45: ข้อมูลพื้นฐาน | C45: จำนวนยืนยัน
B46: ผลรวมถ่วงน้ำหนักของผลงานที่ตีพิมพ์หรือเผยแพร่ของนักศึกษา และผู้สำเร็จการศึกษาระดับปริญญาเอก | C46: =K50 -> 7.8 | F46: ผลงานทางวิชาการ (ชิ้น) | K46: งานสร้างสรรค์ (ชิ้น)
B47: จำนวนผู้สำเร็จการศึกษาระดับปริญญาเอกทั้งหมด | C47: 15 | F47: 0.2 | G47: 0.4 | H47: 0.6 | I47: 0.8 | J47: 1 | K47: 0.2 | L47: 0.4 | M47: 0.6 | N47: 0.8 | O47: 1
B48: ร้อยละของผลรวมถ่วงน้ำหนักของผลงานที่ตีพิมพ์หรือเผยแพร่ | C48: =SUM(C46)*100/C47 -> 52 | F48: 5 | G48: 5 | H48: 5 | I48: 1 | J48: 1
B49: เทียบบัญญัติไตรยางศ์ | C49: =SUM(C48)*5/80 -> 3.25 | F49: =SUM(F48)*F47 -> 1 | G49: =SUM(G48)*G47 -> 2 | H49: =SUM(H48)*H47 -> 3 | I49: =SUM(I48)*I47 -> 0.8 | J49: =SUM(J48)*J47 -> 1 | K49: =SUM(K48)*K47 -> 0 | L49: =SUM(L48)*L47 -> 0 | M49: =SUM(M48)*M47 -> 0 | ... O49: =SUM(O48)*O47 -> 0
...

Sheet ตัวบ่งชี้ 2.1
B1: กรอกคะแนนเฉลี่ยผลประเมินตาม TQF 5 และ DOE 3 ด้าน
C2: การประเมินตามมาตรฐานด้านผลลัพธ์การเรียนรู้ตามกรอบมาตรฐานคุณวุฒิฯ
B3: ด้าน | C3: ประเด็นการประเมิน | D3: คะแนนเฉลี่ย(เต็ม 5.00) | E3: คะแนนเฉลี่ยเฉพาะด้าน(เต็ม5.0)
B4: 1.คุณธรรม จริยธรรม | C4: 1.1 ความซื่อสัตย์สุจริต | D4: 4.45 | E4: =AVERAGE(D4:D8) -> 4.494
C5: 1.2 ความมีน้ำใจต่อเพื่อนร่วมงาน | D5: 4.71
C6: 1.3 ความมีระเบียบวินัยในการทำงาน | D6: 4.33
C7: 1.4 ความขยันอดทน อุตสาหะ | D7: 4.49
C8: 1.5 การตรงต่อเวลา | D8: 4.49
B10: 2.ความรู้ | C10: 2.1 ความรู้ในสาขาวิชาที่เรียน | D10: 4.61 | E10: =AVERAGE(D10:D13) -> 4.4625
C11: 2.2 ความสามารถในการวิเคราะห์ข้อมูล | D11: 4.48
C12: 2.3 ความสามารถในการนำเสนองานที่ทำ | D12: 4.38
C13: 2.4 ความรอบรู้ที่เกี่ยวข้องกับงานที่ทำ | D13: 4.38
B15: 3.ทักษะทางปัญญา | C15: 3.1 ความสามารถในการเรียนรู้ ศึกษาเพิ่มเติมเพื่อพัฒนางาน | D15: 4.55 | E15: =AVERAGE(D15:D18) -> 4.55
C16: 3.2 มีความคิดริเริ่ม สร้างสรรค์ผลงานใหม่ | D16: 4.55
C17: 3.3 ความรู้ ความสามารถในการตัดสินใจแก้ปัญหางานที่รับผิดชอบ | D17: 4.55
C18: 3.4 การแสวงหาความรู้ใหม่ เพื่อใช้ในการปฏิบัติงาน | D18: 4.55
B20: 4.ทักษะความสัมพันธ์ระหว่างบุคคลและความรับผิดชอบ | C20: 4.1 ความสามารถในการทำงานเป็นทีม | D20: 4.45 | E20: =AVERAGE(D20:D23) -> 4.3525
C21: 4.2 การแสดงออกซึ่งภาวะผู้นำ | D21: 4.22
C22: 4.3 ความรับผิดชอบต่องานที่ทำ | D22: 4.37
C23: 4.4 ความสามารถในการบริหารจัดการ | D23: 4.37
B25: 5.ทักษะการวิเคราะห์เชิงตัวเลข การสื่อสาร และการใช้เทคโนโลยีสารสนเทศ | C25: 5.1 ความสามารถในการคิดวิเคราะห์เชิงตัวเลข | D25: 4.55 | E25: =AVERAGE(D25:D28) -> 4.55
C26: 5.2 การใช้เทคนิคทางคณิตศาสตร์/สถิติ กับงานที่ทำ | D26: 4.49
C27: 5.3 ทักษะในการสื่อสารและประสานงาน | D27: 4.65
C28: 5.4 ทักษะในการใช้อุปกรณ์/เทคโนโลยี/คอมพิวเตอร์ | D28: 4.51
B29: คะแนนเฉลี่ยการประเมินผลลัพธ์การเรียนรู้ทั้ง 5 ด้าน | D29: =AVERAGE(D4:D28) -> 4.482381
C32: กรอกคะแนนเฉลี่ยผลประเมินตาม DOE
B33: ด้าน | C33: ประเด็นการประเมิน | D33: คะแนนเฉลี่ย(เต็ม 5.00) | E33: คะแนนเฉลี่ยเฉพาะด้าน(เต็ม5.0)
B34: 1.การเป็นผู้เรียนรู้ | C34: 1.1 เป็นผู้ใฝ่เรียนรู้เพื่อพัฒนาคุณภาพการทำงานและคุณภาพชีวิตที่ดี | D34: 4.45 | E34: =AVERAGE(D34:D36) -> 4.4966667
C35: 1.2 ทักษะในการเรียนรู้ตลอดชีวิต | D35: 4.71
C36: 1.3 เป็นบุคคลที่มีความรู้ความสามารถ และความรอบรู้ด้านต่างๆ ในการสร้างหรือประกอบสัมมาอาชีพ ความมั่นคงและคุณภาพชีวิตของตนเอง | D36: 4.33
B38: 2.การเป็นผู้ร่วมสร้างนวัตกรรม | C38: 2.1 เป็นผู้มีความสามารถในการบูรณาการศาสตร์ต่างๆในการแก้ปัญหา | D38: 4.61 | E38: =AVERAGE(D38:D40) -> 4.49
C39: 2.2 เป็นผู้มีลักษณะของความเป็นผู้ประกอบการ ที่รู้เท่าทันการเปลี่ยนแปลงของสังคมโลก | D39: 4.48
C40: 2.3 เป็นผู้สร้างโอกาสและเพิ่มมูลค่าให้กับตนเองและองค์กร | D40: 4.38
B42: 3.การเป็นพลเมืองที่เข้มแข็ง | C42: 3.1 มีความกล้าหาญทางจริยธรรม ยึดมั่น ในความถูกต้อง | D42: 4.55 | E42: =AVERAGE(D42:D43) -> 4.55
C43: 3.2 มีความร่วมมือร่วมพลังเพื่อสร้างสรรค์การพัฒนาและการสร้างสันติสุข | D43: 4.55
B45: คะแนนเฉลี่ยการประเมิน DOE ทั้ง 3 ด้าน | D45: =AVERAGE(D34:D44) -> 4.5075

Sheet อัตราการเปลี่ยนแปลง (ตรี 4 ปี)
A2: การคำนวณอัตราการเปลี่ยนแปลงจำนวนนักศึกษาที่เรียนต่อขึ้นชั้นปี
A3: ปีการศึกษาที่รับเข้า
A4: (ตั้งแต่ปีการศึกษาที่เริ่มใช้หลักสูตร) | C4: 2560 | D4: =C4+1 -> 2561 | E4: =D4+1 -> 2562 | F4: =E4+1 -> 2563 | G4: =F4+1 -> 2564 | H4: =G4+1 -> 2565
A5: ปีการศึกษา | B5: 2560 | C5: 88 | D5: 70 | E5: 64 | F5: 57 | G5: 7 | H5: 2 | I5: ข้อมูลดิบ
A6: ร้อยละ | D6: =D5/C5*100 -> 79.545455 | E6: =E5/D5*100 -> 91.428571 | F6: =F5/E5*100 -> 89.0625 | G6: =G5/F5*100 -> 12.280702 | H6: =H5/G5*100 -> 28.571429 | I6: สูตร
A7: ปีการศึกษา | B7: =B5+1 -> 2561 | D7: 88 | E7: 78 | F7: 75 | G7: 43 | H7: 8 | I7: ข้อมูลดิบ
A8: ร้อยละ | E8: =E7/D7*100 -> 88.636364 | F8: =F7/E7*100 -> 96.153846 | G8: =G7/F7*100 -> 57.333333 | H8: =H7/G7*100 -> 18.604651 | I8: สูตร
A9: ปีการศึกษา | B9: =B7+1 -> 2562 | E9: 84 | F9: 78 | G9: 71 | H9: 67 | I9: ข้อมูลดิบ
A10: ร้อยละ | F10: =F9/E9*100 -> 92.857143 | G10: =G9/F9*100 -> 91.025641 | H10: =H9/G9*100 -> 94.366197 | I10: สูตร
A11: ปีการศึกษา | B11: =B9+1 -> 2563 | F11: 105 | G11: 69 | H11: 68 | I11: ข้อมูลดิบ
A12: ร้อยละ | G12: =G11/F11*100 -> 65.714286 | H12: =H11/G11*100 -> 98.550725 | I12: สูตร
A13: ปีการศึกษา | B13: =B11+1 -> 2564 | G13: 103 | H13: 77 | I13: ข้อมูลดิบ
A14: ร้อยละ | H14: =H13/G13*100 -> 74.757282 | I14: สูตร
A15: ปีการศึกษา | B15: =B13+1 -> 2565 | H15: 93 | I15: ข้อมูลดิบ
A16: ร้อยละ | C16: =SUM(C5,C7,C9,C11,C13,C15) -> 88 | D16: =SUM(D5,D7,D9,D11,D13,D15) -> 158 | E16: =SUM(E5,E7,E9,E11,E13,E15) -> 226 | F16: =SUM(F5,F7,F9,F11,F13,F15) -> 315 | G16: =SUM(G5,G7,G9,G11,G13,G15) -> 293 | H16: =SUM(H5,H7,H9,H11,H13,H15) -> 315
A18: การคำนวณอัตราการเปลี่ยนแปลงจำนวนนักศึกษาที่เรียนต่อขึ้นชั้นปีจะคำนวณย้อนกลับไป 3 ปีการศึกษานับจากปีรายงาน
A19: นักศึกษาชั้นปีที่ 1 ที่เรียนต่อชั้นปีที่ 2 เฉลี่ย = | E19: =H14 -> 74.757282 | F19: + | G19: =G12 -> 65.714286 | H19: + | I19: =F10 -> 92.857143 | J19: = | K19: =AVERAGE(H14,G12,F10) -> 77.776237
E20: 3
A21: นักศึกษาชั้นปีที่ 2 ที่เรียนต่อชั้นปีที่ 3 เฉลี่ย = | E21: =H12 -> 98.550725 | F21: + | G21: =G10 -> 91.025641 | H21: + | I21: =F8 -> 96.153846 | J21: = | K21: =AVERAGE(H12,G10,F8) -> 95.243404
E22: 3
A23: นักศึกษาชั้นปีที่ 3 ที่เรียนต่อชั้นปีที่ 4 เฉลี่ย = | E23: =H10 -> 94.366197 | F23: + | G23: =G8 -> 57.333333 | H23: + | I23: =F6 -> 89.0625 | J23: = | K23: =AVERAGE(H10,G8,F6) -> 80.25401
E24: 3

Sheet อัตราเปลี่ยนแปลง (ตรี 5 ปี)
A2: การคำนวณอัตราการเปลี่ยนแปลงจำนวนนักศึกษาที่เรียนต่อขึ้นชั้นปี
A3: ปีการศึกษาที่รับเข้า
A4: (ตั้งแต่ปีการศึกษาที่เริ่มใช้หลักสูตร) | C4: 2559 | D4: 2560 | E4: =D4+1 -> 2561 | F4: =E4+1 -> 2562 | G4: =F4+1 -> 2563 | H4: =G4+1 -> 2564 | I4: =H4+1 -> 2565
A5: ปีการศึกษา | B5: 2559 | C5: 60 | D5: 30 | E5: 20 | F5: 19 | G5: 15 | H5: 14 | I5: 10 | J5: ข้อมูลดิบ
A6: ร้อยละ | D6: =D5/C5*100 -> 50 | E6: =E5/D5*100 -> 66.666667 | F6: =F5/E5*100 -> 95 | G6: =G5/F5*100 -> 78.947368 | H6: =H5/G5*100 -> 93.333333 | I6: =I5/H5*100 -> 71.428571 | J6: สูตร
A7: ปีการศึกษา | B7: 2560 | D7: 30 | E7: 20 | F7: 19 | G7: 16 | H7: 14 | I7: 10 | J7: ข้อมูลดิบ
A8: ร้อยละ | E8: =E7/D7*100 -> 66.666667 | F8: =F7/E7*100 -> 95 | G8: =G7/F7*100 -> 84.210526 | H8: =H7/G7*100 -> 87.5 | I8: =I7/H7*100 -> 71.428571 | J8: สูตร
A9: ปีการศึกษา | B9: =B7+1 -> 2561 | E9: 17 | F9: 10 | G9: 8 | H9: 6 | I9: 1 | J9: ข้อมูลดิบ
A10: ร้อยละ | F10: =F9/E9*100 -> 58.823529 | G10: =G9/F9*100 -> 80 | H10: =H9/G9*100 -> 75 | I10: =I9/H9*100 -> 16.666667 | J10: สูตร
A11: ปีการศึกษา | B11: =B9+1 -> 2562 | F11: 21 | G11: 21 | H11: 5 | I11: 1 | J11: ข้อมูลดิบ
A12: ร้อยละ | G12: =G11/F11*100 -> 100 | H12: =H11/G11*100 -> 23.809524 | I12: =I11/H11*100 -> 20 | J12: สูตร
A13: ปีการศึกษา | B13: =B11+1 -> 2563 | G13: 23 | H13: 15 | I13: 4 | J13: ข้อมูลดิบ
A14: ร้อยละ | H14: =H13/G13*100 -> 65.217391 | I14: =I13/H13*100 -> 26.666667 | J14: สูตร
A15: ปีการศึกษา | B15: =B13+1 -> 2564 | H15: 18 | I15: 2 | J15: ข้อมูลดิบ
A16: ร้อยละ | I16: =I15/H15*100 -> 11.111111 | J16: สูตร
A17: ปีการศึกษา | B17: =B15+1 -> 2565 | I17: 24 | J17: ข้อมูลดิบ
A18: ร้อยละ | C18: =SUM(C5,C7,C9,C11,C13,C15,C17) -> 60 | D18: =SUM(D5,D7,D9,D11,D13,D15,D17) -> 60 | E18: =SUM(E5,E7,E9,E11,E13,E15,E17) -> 57 | F18: =SUM(F5,F7,F9,F11,F13,F15,F17) -> 69 | G18: =SUM(G5,G7,G9,G11,G13,G15,G17) -> 83 | H18: =SUM(H5,H7,H9,H11,H13,H15,H17) -> 72 | I18: =SUM(I5,I7,I9,I11,I13,I15,I17) -> 52
A20: การคำนวณอัตราการเปลี่ยนแปลงจำนวนนักศึกษาที่เรียนต่อขึ้นชั้นปีจะคำนวณย้อนกลับไป 3 ปีการศึกษานับจากปีรายงาน
A21: นักศึกษาชั้นปีที่ 1 ที่เรียนต่อชั้นปีที่ 2 เฉลี่ย = | F21: =I16 -> 11.111111 | G21: + | H21: =H14 -> 65.217391 | I21: + | J21: =G12 -> 100 | K21: = | L21: =AVERAGE(I16,H14,G12) -> 58.776167
F22: 3
A23: นักศึกษาชั้นปีที่ 2 ที่เรียนต่อชั้นปีที่ 3 เฉลี่ย = | F23: =I14 -> 26.666667 | G23: + | H23: =H12 -> 23.809524 | I23: + | J23: =G10 -> 80 | K23: = | L23: =AVERAGE(I14,H12,G10) -> 43.492063
F24: 3
A25: นักศึกษาชั้นปีที่ 3 ที่เรียนต่อชั้นปีที่ 4 เฉลี่ย = | F25: =I12 -> 20 | G25: + | H25: =H10 -> 75 | I25: + | J25: =G8 -> 84.210526 | K25: = | L25: =AVERAGE(I12,H10,G8) -> 59.736842
F26: 3
A27: นักศึกษาชั้นปีที่ 4 ที่เรียนต่อชั้นปีที่ 5 เฉลี่ย = | F27: =G6 -> 78.947368 | G27: + | H27: =H8 -> 87.5 | I27: + | J27: =I10 -> 16.666667 | K27: = | L27: =AVERAGE(I10,H8,G6) -> 61.038012
H28: 3

Sheet อัตราเปลี่ยนแปลง (ตรี 6 ปี)
A2: การคำนวณอัตราการเปลี่ยนแปลงจำนวนนักศึกษาที่เรียนต่อขึ้นชั้นปี
A3: ปีการศึกษาที่รับเข้า
A4: (ตั้งแต่ปีการศึกษาที่เริ่มใช้หลักสูตร) | C4: 2558 | D4: 2559 | E4: 2560 | F4: =E4+1 -> 2561 | G4: =F4+1 -> 2562 | H4: =G4+1 -> 2563 | I4: =H4+1 -> 2564 | J4: =I4+1 -> 2565
A5: ปีการศึกษา | B5: 2558 | C5: 80 | D5: 40 | E5: 30 | F5: 20 | G5: 19 | H5: 16 | I5: 14 | J5: 10 | K5: ข้อมูลดิบ
A6: ร้อยละ | D6: =D5/C5*100 -> 50 | E6: =E5/D5*100 -> 75 | F6: =F5/E5*100 -> 66.666667 | G6: =G5/F5*100 -> 95 | H6: =H5/G5*100 -> 84.210526 | I6: =I5/H5*100 -> 87.5 | J6: =J5/I5*100 -> 71.428571 | K6: สูตร
A7: ปีการศึกษา | B7: 2559 | D7: 40 | E7: 30 | F7: 20 | G7: 19 | H7: 16 | I7: 14 | J7: 10 | K7: ข้อมูลดิบ
A8: ร้อยละ | E8: =E7/D7*100 -> 75 | F8: =F7/E7*100 -> 66.666667 | G8: =G7/F7*100 -> 95 | H8: =H7/G7*100 -> 84.210526 | I8: =I7/H7*100 -> 87.5 | J8: =J7/I7*100 -> 71.428571 | K8: สูตร
A9: ปีการศึกษา | B9: 2560 | E9: 30 | F9: 20 | G9: 19 | H9: 16 | I9: 14 | J9: 10 | K9: ข้อมูลดิบ
A10: ร้อยละ | F10: =F9/E9*100 -> 66.666667 | G10: =G9/F9*100 -> 95 | H10: =H9/G9*100 -> 84.210526 | I10: =I9/H9*100 -> 87.5 | J10: =J9/I9*100 -> 71.428571 | K10: สูตร
A11: ปีการศึกษา | B11: =B9+1 -> 2561 | F11: 17 | G11: 10 | H11: 8 | I11: 6 | J11: 1 | K11: ข้อมูลดิบ
A12: ร้อยละ | G12: =G11/F11*100 -> 58.823529 | H12: =H11/G11*100 -> 80 | I12: =I11/H11*100 -> 75 | J12: =J11/I11*100 -> 16.666667 | K12: สูตร
A13: ปีการศึกษา | B13: =B11+1 -> 2562 | G13: 21 | H13: 21 | I13: 5 | J13: 1 | K13: ข้อมูลดิบ
A14: ร้อยละ | H14: =H13/G13*100 -> 100 | I14: =I13/H13*100 -> 23.809524 | J14: =J13/I13*100 -> 20 | K14: สูตร
A15: ปีการศึกษา | B15: =B13+1 -> 2563 | H15: 23 | I15: 15 | J15: 4 | K15: ข้อมูลดิบ
A16: ร้อยละ | I16: =I15/H15*100 -> 65.217391 | J16: =J15/I15*100 -> 26.666667 | K16: สูตร
A17: ปีการศึกษา | B17: =B15+1 -> 2564 | I17: 18 | J17: 2 | K17: ข้อมูลดิบ
A18: ร้อยละ | J18: =J17/I17*100 -> 11.111111 | K18: สูตร
A19: ปีการศึกษา | B19: =B17+1 -> 2565 | J19: 24 | K19: ข้อมูลดิบ
A20: ร้อยละ | C20: =SUM(C5,C7,C9,C11,C13,C15,C17,C19) -> 80 | D20: =SUM(D5,D7,D9,D11,D13,D15,D17,D19) -> 80 | E20: =SUM(E5,E7,E9,E11,E13,E15,E17,E19) -> 90 | F20: =SUM(F5,F7,F9,F11,F13,F15,F17,F19) -> 77 | G20: =SUM(G5,G7,G9,G11,G13,G15,G17,G19) -> 88 | H20: =SUM(H5,H7,H9,H11,H13,H15,H17,H19) -> 100 | I20: =SUM(I5,I7,I9,I11,I13,I15,I17,I19) -> 86 | J20: =SUM(J5,J7,J9,J11,J13,J15,J17,J19) -> 62
A22: การคำนวณอัตราการเปลี่ยนแปลงจำนวนนักศึกษาที่เรียนต่อขึ้นชั้นปีจะคำนวณย้อนกลับไป 3 ปีการศึกษานับจากปีรายงาน
A23: นักศึกษาชั้นปีที่ 1 ที่เรียนต่อชั้นปีที่ 2 เฉลี่ย = | G23: =J18 -> 11.111111 | H23: + | I23: =I16 -> 65.217391 | J23: + | K23: =H14 -> 100 | L23: = | M23: =AVERAGE(J18,I16,H14) -> 58.776167
G24: 3
A25: นักศึกษาชั้นปีที่ 2 ที่เรียนต่อชั้นปีที่ 3 เฉลี่ย = | G25: =J16 -> 26.666667 | H25: + | I25: =I14 -> 23.809524 | J25: + | K25: =H12 -> 80 | L25: = | M25: =AVERAGE(J16,I14,H12) -> 43.492063
G26: 3
A27: นักศึกษาชั้นปีที่ 3 ที่เรียนต่อชั้นปีที่ 4 เฉลี่ย = | G27: =J14 -> 20 | H27: + | I27: =I12 -> 75 | J27: + | K27: =H10 -> 84.210526 | L27: = | M27: =AVERAGE(J14,I12,H10) -> 59.736842
G28: 3
A29: นักศึกษาชั้นปีที่ 4 ที่เรียนต่อชั้นปีที่ 5 เฉลี่ย = | G29: =H8 -> 84.210526 | H29: + | I29: =I10 -> 87.5 | J29: + | K29: =J12 -> 16.666667 | L29: = | M29: =AVERAGE(J12,I10,H8) -> 62.792398
I30: 3
A31: นักศึกษาชั้นปีที่ 5 ที่เรียนต่อชั้นปีที่ 6 เฉลี่ย = | G31: =H6 -> 84.210526 | H31: + | I31: =I8 -> 87.5 | J31: + | K31: =J10 -> 71.428571 | L31: = | M31: =AVERAGE(J10,I8,H6) -> 81.046366
I32: 3

Sheet อัตราการเปลี่ยนแปลง (โท)
A2: การคำนวณอัตราการเปลี่ยนแปลงจำนวนนักศึกษาที่เรียนต่อขึ้นชั้นปี
A3: ปีการศึกษาที่รับเข้า
A4: (ตั้งแต่ปีการศึกษาที่เริ่มใช้หลักสูตร) | C4: 2562 | D4: =C4+1 -> 2563 | E4: =D4+1 -> 2564 | F4: =E4+1 -> 2565
A5: ปีการศึกษา | B5: 2562 | C5: 50 | D5: 30 | E5: 20 | F5: 10 | G5: ข้อมูลดิบ
A6: ร้อยละ | D6: =D5/C5*100 -> 60 | E6: =E5/D5*100 -> 66.666667 | F6: =F5/E5*100 -> 50 | G6: สูตร
A7: ปีการศึกษา | B7: =B5+1 -> 2563 | D7: 17 | E7: 10 | F7: 8 | G7: ข้อมูลดิบ
A8: ร้อยละ | E8: =E7/D7*100 -> 58.823529 | F8: =F7/E7*100 -> 80 | G8: สูตร
A9: ปีการศึกษา | B9: =B7+1 -> 2564 | E9: 21 | F9: 21 | G9: ข้อมูลดิบ
A10: ร้อยละ | F10: =F9/E9*100 -> 100 | G10: สูตร
A11: ปีการศึกษา | B11: =B9+1 -> 2565 | F11: 23 | G11: ข้อมูลดิบ
A12: ร้อยละ | C12: =SUM(C5,C7,C9,C11) -> 50 | D12: =SUM(D5,D7,D9,D11) -> 47 | E12: =SUM(E5,E7,E9,E11) -> 51 | F12: =SUM(F5,F7,F9,F11) -> 62
A14: การคำนวณอัตราการเปลี่ยนแปลงจำนวนนักศึกษาที่เรียนต่อขึ้นชั้นปีจะคำนวณย้อนกลับไป 3 ปีการศึกษานับจากปีรายงาน
A15: นักศึกษาชั้นปีที่ 1 ที่เรียนต่อชั้นปีที่ 2 เฉลี่ย = | E15: =F10 -> 100 | F15: + | G15: =E8 -> 58.823529 | H15: + | I15: =D6 -> 60 | J15: = | K15: =AVERAGE(F10,E8,D6) -> 72.941176
E16: 3

Sheet อัตราการเปลี่ยนแปลง (เอก)
A2: การคำนวณอัตราการเปลี่ยนแปลงจำนวนนักศึกษาที่เรียนต่อขึ้นชั้นปี
A3: ปีการศึกษาที่รับเข้า
A4: (ตั้งแต่ปีการศึกษาที่เริ่มใช้หลักสูตร) | C4: 2561 | D4: =C4+1 -> 2562 | E4: =D4+1 -> 2563 | F4: =E4+1 -> 2564 | G4: =F4+1 -> 2565
A5: ปีการศึกษา | B5: 2561 | C5: 10 | D5: 9 | E5: 8 | F5: 7 | G5: 6 | H5: ข้อมูลดิบ
A6: ร้อยละ | D6: =D5/C5*100 -> 90 | E6: =E5/D5*100 -> 88.888889 | F6: =F5/E5*100 -> 87.5 | G6: =G5/F5*100 -> 85.714286 | H6: สูตร
A7: ปีการศึกษา | B7: =B5+1 -> 2562 | D7: 17 | E7: 10 | F7: 8 | G7: 6 | H7: ข้อมูลดิบ
A8: ร้อยละ | E8: =E7/D7*100 -> 58.823529 | F8: =F7/E7*100 -> 80 | G8: =G7/F7*100 -> 75 | H8: สูตร
A9: ปีการศึกษา | B9: =B7+1 -> 2563 | E9: 21 | F9: 21 | G9: 5 | H9: ข้อมูลดิบ
A10: ร้อยละ | F10: =F9/E9*100 -> 100 | G10: =G9/F9*100 -> 23.809524 | H10: สูตร
A11: ปีการศึกษา | B11: =B9+1 -> 2564 | F11: 23 | G11: 15 | H11: ข้อมูลดิบ
A12: ร้อยละ | G12: =G11/F11*100 -> 65.217391 | H12: สูตร
A13: ปีการศึกษา | B13: =B11+1 -> 2565 | G13: 18 | H13: ข้อมูลดิบ
A14: ร้อยละ | C14: =SUM(C5,C7,C9,C11,C13) -> 10 | D14: =SUM(D5,D7,D9,D11,D13) -> 26 | E14: =SUM(E5,E7,E9,E11,E13) -> 39 | F14: =SUM(F5,F7,F9,F11,F13) -> 59 | G14: =SUM(G5,G7,G9,G11,G13) -> 50
A16: การคำนวณอัตราการเปลี่ยนแปลงจำนวนนักศึกษาที่เรียนต่อขึ้นชั้นปีจะคำนวณย้อนกลับไป 3 ปีการศึกษานับจากปีรายงาน
A17: นักศึกษาชั้นปีที่ 1 ที่เรียนต่อชั้นปีที่ 2 เฉลี่ย = | E17: =G12 -> 65.217391 | F17: + | G17: =F10 -> 100 | H17: + | I17: =E8 -> 58.823529 | J17: = | K17: =AVERAGE(G12,F10,E8) -> 74.680307
E18: 3
A19: นักศึกษาชั้นปีที่ 2 ที่เรียนต่อชั้นปีที่ 3 เฉลี่ย = | E19: =G10 -> 23.809524 | F19: + | G19: =F8 -> 80 | H19: + | I19: =E6 -> 88.888889 | J19: = | K19: =AVERAGE(G10,F8,E6) -> 64.232804
E20: 3

Sheet ตัวบ่งชี้ 3.3 (ป.ตรี4ปี)
A1: ปีการ ศึกษา* | B1: จำนวนที่รับเข้า (1) | C1: จำนวนที่สำเร็จการศึกษา (2) | F1: อัตราการสำเร็จการศึกษาตามเกณฑ์ | G1: จำนวนที่คงอยู่สิ้นปีการศึกษา 2565 | H1: จำนวนที่ออกระหว่างเรียนจนสิ้นปีการศึกษา 2565 (4) | I1: อัตราการคงอยู่ | J1: กรอกข้อมูลเฉพาะคอลัมน์ B , C, D, E และ H
C2: 2563 | D2: 2564 | E2: 2565 | F2: [โดยรวมที่สำเร็จก่อนเกณฑ์] | G2: (3)
A4: 2560 | B4: 88 | C4: 48 | D4: 14 | E4: 1 | F4: =C4/B4*100 -> 54.545455 | G4: =B4-C4-D4-E4-H4 -> 1 | H4: 24 | I4: =(B4-H4)/B4*100 -> 72.727273
A5: 2561 | B5: 88 | C5: 0 | D5: 57 | E5: 8 | F5: =(SUM(C5:D5))/B5*100 -> 64.772727 | G5: =B5-C5-D5-E5-H5 -> 0 | H5: 23 | I5: =(B5-H5)/B5*100 -> 73.863636
A6: 2562 | B6: 84 | C6: 0 | D6: 0 | E6: 66 | F6: =(SUM(C6:E6))/B6*100 -> 78.571429 | G6: =B6-C6-D6-E6-H6 -> 1 | H6: 17 | I6: =(B6-H6)/B6*100 -> 79.761905
A7: 2563 | B7: 105 | C7: 0 | D7: 0 | E7: 0 | F7: =(SUM(C7:E7))/B7*100 -> 0 | G7: =B7-C7-D7-E7-H7 -> 68 | H7: 37 | I7: =(B7-H7)/B7*100 -> 64.761905
A8: 2564 | B8: 103 | C8: 0 | D8: 0 | E8: 0 | F8: =(SUM(C8:E8))/B8*100 -> 0 | G8: =B8-C8-D8-E8-H8 -> 77 | H8: 26 | I8: =(B8-H8)/B8*100 -> 74.757282
A9: 2565 | B9: 93 | C9: 0 | D9: 0 | E9: 0 | F9: =(SUM(C9:E9))/B9*100 -> 0 | G9: =B9-C9-D9-E9-H9 -> 93 | H9: 0 | I9: =(B9-H9)/B9*100 -> 100
A10: รวม | B10: =SUM(B4:B9) -> 561 | C10: =SUM(C4:C9) -> 48 | D10: =SUM(D4:D9) -> 71 | E10: =SUM(E4:E9) -> 75 | G10: =SUM(G4:G9) -> 240 | H10: =SUM(H4:H9) -> 127 | I10: =(B10-H10)/B10*100 -> 77.361854
A11: 1.จำนวนนักศึกษาชั้นปีที่ 1 ที่รับเข้าในปีการศึกษาที่รายงาน จำนวน = | G11: =B9 -> 93 | H11: คน
A12: สีเขียว คือ แนวโน้มอัตราสำเร็จ
A13: ม่วง คือ แนวโน้มอัตราคงอยู่

Sheet ตัวบ่งชี้3.3(ป.ตรี5ปี)
A1: ปีการ ศึกษา* | B1: จำนวนที่รับเข้า (1) | C1: จำนวนที่สำเร็จการศึกษา (2) | F1: อัตราการสำเร็จการศึกษาตามเกณฑ์ | G1: จำนวนที่คงอยู่สิ้นปีการศึกษา 2565 | H1: จำนวนที่ออกระหว่างเรียนจนสิ้นปีการศึกษา 2565 (4) | I1: อัตราการคงอยู่ | J1: กรอกข้อมูลเฉพาะคอลัมน์ B , C, D, E และ H
C2: 2563 | D2: 2564 | E2: 2565 | F2: [โดยรวมที่สำเร็จก่อนเกณฑ์] | G2: (3)
A4: 2559 | B4: 98 | C4: 54 | D4: 6 | E4: 2 | F4: =C4/B4*100 -> 55.102041 | G4: =B4-C4-D4-E4-H4 -> 3 | H4: 33 | I4: =(B4-H4)/B4*100 -> 66.326531
A5: 2560 | B5: 100 | C5: 5 | D5: 55 | E5: 7 | F5: =(SUM(C5:D5))/B5*100 -> 60 | G5: =B5-C5-D5-E5-H5 -> 7 | H5: 26 | I5: =(B5-H5)/B5*100 -> 74
A6: 2561 | B6: 102 | C6: 1 | D6: 5 | E6: 65 | F6: =(SUM(C6:E6))/B6*100 -> 69.607843 | G6: =B6-C6-D6-E6-H6 -> 9 | H6: 22 | I6: =(B6-H6)/B6*100 -> 78.431373
A7: 2562 | B7: 99 | C7: 0 | D7: 1 | E7: 3 | F7: =(SUM(C7:E7))/B7*100 -> 4.040404 | G7: =B7-C7-D7-E7-H7 -> 77 | H7: 18 | I7: =(B7-H7)/B7*100 -> 81.818182
A8: 2563 | B8: 97 | C8: 0 | D8: 0 | E8: 2 | F8: =(SUM(C8:E8))/B8*100 -> 2.0618557 | G8: =B8-C8-D8-E8-H8 -> 86 | H8: 9 | I8: =(B8-H8)/B8*100 -> 90.721649
A9: 2564 | B9: 95 | C9: 0 | D9: 0 | E9: 0 | F9: =(SUM(C9:E9))/B9*100 -> 0 | G9: =B9-C9-D9-E9-H9 -> 92 | H9: 3 | I9: =(B9-H9)/B9*100 -> 96.842105
A10: 2565 | B10: 98 | C10: 0 | D10: 0 | E10: 0 | F10: =(SUM(C10:E10))/B10*100 -> 0 | G10: =B10-C10-D10-E10-H10 -> 96 | H10: 2 | I10: =(B10-H10)/B10*100 -> 97.959184
A11: รวม | B11: =SUM(B4:B10) -> 689 | C11: =SUM(C4:C10) -> 60 | D11: =SUM(D4:D10) -> 67 | E11: =SUM(E4:E10) -> 79 | G11: =SUM(G4:G10) -> 370 | H11: =SUM(H4:H10) -> 113 | I11: =(B11-H11)/B11*100 -> 83.599419
A12: 1.จำนวนนักศึกษาชั้นปีที่ 1 ที่รับเข้าในปีการศึกษาที่รายงาน จำนวน = | G12: =B10 -> 98 | H12: คน
A13: สีเขียว คือ แนวโน้มอัตราสำเร็จ
A14: ม่วง คือ แนวโน้มอัตราคงอยู่

Sheet ตัวบ่งชี้3.3(ป.ตรี6ปี)
A1: ปีการ ศึกษา* | B1: จำนวนที่รับเข้า (1) | C1: จำนวนที่สำเร็จการศึกษา (2) | F1: อัตราการสำเร็จการศึกษาตามเกณฑ์ | G1: จำนวนที่คงอยู่สิ้นปีการศึกษา 2565 | H1: จำนวนที่ออกระหว่างเรียนจนสิ้นปีการศึกษา 2565 (4) | I1: อัตราการคงอยู่ | J1: กรอกข้อมูลเฉพาะคอลัมน์ B , C, D, E และ H
C2: 2563 | D2: 2564 | E2: 2565 | F2: [โดยรวมที่สำเร็จก่อนเกณฑ์] | G2: (3)
A4: 2558 | B4: 98 | C4: 54 | D4: 6 | E4: 2 | F4: =C4/B4*100 -> 55.102041 | G4: =B4-C4-D4-E4-H4 -> 3 | H4: 33 | I4: =(B4-H4)/B4*100 -> 66.326531
A5: 2559 | B5: 100 | C5: 5 | D5: 55 | E5: 7 | F5: =(SUM(C5:D5))/B5*100 -> 60 | G5: =B5-C5-D5-E5-H5 -> 7 | H5: 26 | I5: =(B5-H5)/B5*100 -> 74
A6: 2560 | B6: 102 | C6: 1 | D6: 5 | E6: 65 | F6: =(SUM(C6:E6))/B6*100 -> 69.607843 | G6: =B6-C6-D6-E6-H6 -> 9 | H6: 22 | I6: =(B6-H6)/B6*100 -> 78.431373
A7: 2561 | B7: 99 | C7: 0 | D7: 1 | E7: 3 | F7: =(SUM(C7:E7))/B7*100 -> 4.040404 | G7: =B7-C7-D7-E7-H7 -> 77 | H7: 18 | I7: =(B7-H7)/B7*100 -> 81.818182
A8: 2562 | B8: 97 | C8: 0 | D8: 0 | E8: 2 | F8: =(SUM(C8:E8))/B8*100 -> 2.0618557 | G8: =B8-C8-D8-E8-H8 -> 86 | H8: 9 | I8: =(B8-H8)/B8*100 -> 90.721649
A9: 2563 | B9: 95 | C9: 0 | D9: 0 | E9: 0 | F9: =(SUM(C9:E9))/B9*100 -> 0 | G9: =B9-C9-D9-E9-H9 -> 92 | H9: 3 | I9: =(B9-H9)/B9*100 -> 96.842105
A10: 2564 | B10: 97 | C10: 0 | D10: 0 | E10: 0 | F10: =(SUM(C10:E10))/B10*100 -> 0 | G10: =B10-C10-D10-E10-H10 -> 94 | H10: 3 | I10: =(B10-H10)/B10*100 -> 96.907216
A11: 2565 | B11: 98 | C11: 0 | D11: 0 | E11: 0 | F11: =(SUM(C11:E11))/B11*100 -> 0 | G11: =B11-C11-D11-E11-H11 -> 96 | H11: 2 | I11: =(B11-H11)/B11*100 -> 97.959184
A12: รวม | B12: =SUM(B4:B11) -> 786 | C12: =SUM(C4:C11) -> 60 | D12: =SUM(D4:D11) -> 67 | E12: =SUM(E4:E11) -> 79 | G12: =SUM(G4:G11) -> 464 | H12: =SUM(H4:H11) -> 116 | I12: =(B12-H12)/B12*100 -> 85.24173
A13: 1.จำนวนนักศึกษาชั้นปีที่ 1 ที่รับเข้าในปีการศึกษาที่รายงาน จำนวน = | G13: =B11 -> 98 | H13: คน
A14: สีเขียว คือ แนวโน้มอัตราสำเร็จ
A15: ม่วง คือ แนวโน้มอัตราคงอยู่

Sheet ตัวบ่งชี้ 3.3 (ป.โท 2 ปี)
A1: ปีการ ศึกษา | B1: จำนวนที่รับเข้า (1) | C1: จำนวนที่สำเร็จการศึกษา (2) | F1: อัตราการสำเร็จการศึกษาตามเกณฑ์ | G1: จำนวนที่คงอยู่สิ้นปีการศึกษา 2565 | H1: จำนวนที่ออกระหว่างเรียนจนสิ้นปีการศึกษา 2565 (4) | I1: อัตราการคงอยู่ | J1: กรอกข้อมูลเฉพาะคอลัมน์ B , C, D, E และ H
C2: 2563 | D2: 2564 | E2: 2565 | F2: [โดยรวมที่สำเร็จก่อนเกณฑ์] | G2: (3)
A4: 2562 | B4: 21 | C4: 0 | D4: 16 | E4: 0 | F4: =C4/B4*100 -> 0 | G4: =B4-C4-D4-E4-H4 -> 0 | H4: 5 | I4: =(B4-H4)/B4*100 -> 76.190476
A5: 2563 | B5: 23 | C5: 0 | D5: 8 | E5: 2 | F5: =(SUM(C5:D5))/B5*100 -> 34.782609 | G5: =B5-C5-D5-E5-H5 -> 9 | H5: 4 | I5: =(B5-H5)/B5*100 -> 82.608696
A6: 2564 | B6: 18 | C6: 0 | D6: 0 | E6: 7 | F6: =(SUM(D6:E6))/B6*100 -> 38.888889 | G6: =B6-C6-D6-E6-H6 -> 9 | H6: 2 | I6: =(B6-H6)/B6*100 -> 88.888889
A7: 2565 | B7: 24 | C7: 0 | D7: 0 | E7: 0 | F7: =(SUM(C7:E7))/B7*100 -> 0 | G7: =B7-C7-D7-E7-H7 -> 24 | H7: 0 | I7: =(B7-H7)/B7*100 -> 100
A8: รวม | B8: =SUM(B4:B7) -> 86 | C8: =SUM(C4:C7) -> 0 | D8: =SUM(D4:D7) -> 24 | E8: =SUM(E4:E7) -> 9 | G8: =SUM(G4:G7) -> 42 | H8: =SUM(H4:H7) -> 11 | I8: =(B8-H8)/B8*100 -> 87.209302
A9: จำนวนนักศึกษาชั้นปีที่ 1 ที่รับเข้าในปีการศึกษาที่รายงาน จำนวน = | G9: =B7 -> 24 | H9: คน
A10: สีเขียว คือ แนวโน้มอัตราสำเร็จ
A11: ม่วง คือ แนวโน้มอัตราคงอยู่

Sheet ตัวบ่งชี้ 3.3 (เอก 3 ปี)
A1: ปีการ ศึกษา | B1: จำนวนที่รับเข้า (1) | C1: จำนวนที่สำเร็จการศึกษา (2) | F1: อัตราการสำเร็จการศึกษาตามเกณฑ์ | G1: จำนวนที่คงอยู่สิ้นปีการศึกษา 2565 | H1: จำนวนที่ออกระหว่างเรียนจนสิ้นปีการศึกษา 2565 (4) | I1: อัตราการคงอยู่ | J1: กรอกข้อมูลเฉพาะคอลัมน์ B , C, D, E และ H
C2: 2563 | D2: 2564 | E2: 2565 | F2: [โดยรวมที่สำเร็จก่อนเกณฑ์] | G2: (3)
A4: 2561 | B4: 10 | C4: 3 | D4: 5 | E4: 0 | F4: =C4/B4*100 -> 30 | G4: =B4-C4-D4-E4-H4 -> 0 | H4: 2 | I4: =(B4-H4)/B4*100 -> 80
A5: 2562 | B5: 13 | C5: 0 | D5: 6 | E5: 3 | F5: =(SUM(C5:D5))/B5*100 -> 46.153846 | G5: =B5-C5-D5-E5-H5 -> 2 | H5: 2 | I5: =(B5-H5)/B5*100 -> 84.615385
A6: 2563 | B6: 10 | D6: 5 | E6: 1 | F6: =(SUM(D6:E6))/B6*100 -> 60 | G6: =B6-C6-D6-E6-H6 -> 4 | H6: 0 | I6: =(B6-H6)/B6*100 -> 100
A7: 2564 | B7: 9 | C7: 0 | D7: 0 | E7: 4 | F7: =(SUM(D7:E7))/B7*100 -> 44.444444 | G7: =B7-C7-D7-E7-H7 -> 5 | H7: 0 | I7: =(B7-H7)/B7*100 -> 100
A8: 2565 | B8: 9 | C8: 0 | D8: 0 | E8: 0 | F8: =(SUM(C8:E8))/B8*100 -> 0 | G8: =B8-C8-D8-E8-H8 -> 9 | H8: 0 | I8: =(B8-H8)/B8*100 -> 100
A9: รวม | B9: =SUM(B4:B8) -> 51 | C9: =SUM(C4:C8) -> 3 | D9: =SUM(D4:D8) -> 16 | E9: =SUM(E4:E8) -> 8 | G9: =SUM(G4:G8) -> 20 | H9: =SUM(H4:H8) -> 4 | I9: =(B9-H9)/B9*100 -> 92.156863
A10: จำนวนนักศึกษาชั้นปีที่ 1 ที่รับเข้าในปีการศึกษาที่รายงาน จำนวน = | G10: =B8 -> 9 | H10: คน
A11: สีเขียว คือ แนวโน้มอัตราสำเร็จ
A12: ม่วง คือ แนวโน้มอัตราคงอยู่

Sheet ราย ตบช.(ตรี-โท)
A1: ตรี,โท | B1: สรุปคะแนนแต่ละตัวบ่งชี้ ต้องทำคู่กันไปตามแต่ละตัวบ่งชี้
B2: ตัวบ่งชี้ | C2: ประเมินตนเอง | D2: ประเมนตนเอง | E2: กรรมการ | F2: ***ตัวเลขสีน้ำเงินคือสูตร | N2: ตนเอง | O2: กรรมการ
B3: 2.1 | C3: 3 | D3: 4.68 | E3: 4.68 | M3: องค์ 2 | N3: =SUM(D3:D4)/2 -> 4.79 | O3: =SUM(E3:E4)/2 -> 4.79
B4: 2.2 | C4: 3 | D4: 4.9 | E4: 4.9 | M4: องค์ 3 | N4: =SUM(D5:D7)/3 -> 4 | O4: =SUM(E5:E7)/3 -> 3.3333333
B5: 3.1 | C5: 3 | D5: 4 | E5: 3 | M5: องค์ 4 | N5: =SUM(D8:D10)/3 -> 3.7777778 | O5: =SUM(E8:E10)/3 -> 3.1111111
B6: 3.2 | C6: 3 | D6: 4 | E6: 4 | M6: องค์ 5 | N6: =SUM(D11:D14)/4 -> 4.5 | O6: =SUM(E11:E14)/4 -> 3.5
B7: 3.3 | C7: 3 | D7: 4 | E7: 3 | M7: องค์ 6 | N7: =SUM(D15) -> 5 | O7: =SUM(E15) -> 4
B8: 4.1 | C8: 3 | D8: 4 | E8: 3 | F8: 4.2.1 เอก | G8: 4.2.2 ตำแหน่ง | H8: 4.2.3 ผลงาน | I8: 4.2
B9: 4.2 | C9: =SUM(F10:I10)/3 -> 3.3333333 | D9: =SUM(F10:H10)/3 -> 3.3333333 | E9: =SUM(F9:I9)/3 -> 3.3333333 | F9: 5 | G9: 0 | H9: 5
B10: 4.3 | C10: 3 | D10: 4 | E10: 3 | F10: 5 | G10: 0 | H10: 5
B11: 5.1 | C11: 3 | D11: 5 | E11: 3
B12: 5.2 | C12: 3 | D12: 4 | E12: 3
B13: 5.3 | C13: 3 | D13: 4 | E13: 3
B14: 5.4 | C14: 3 | D14: 5 | E14: 5
B15: 6.1 | C15: 3 | D15: 5 | E15: 4
B16: รวม 13 ตบช. | C16: =SUM(C3:C15)/13 -> 3.025641 | D16: =SUM(D3:D15)/13 -> 4.3010256 | E16: =SUM(E3:E15)/13 -> 3.6087179

Sheet สรุปคะแนน(ตรี-โท)
I1: ตรี,โท
B2: ตารางการวิเคราะห์คุณภาพการศึกษาภายใน ระดับหลักสูตร
I3: ***ตัวอักษรสีน้ำเงินคือสูตร
B4: องค์ประกอบ | C4: จำนวน | D4: I | E4: P | F4: O | G4: คะแนนเฉลี่ย | H4: ผลการประเมิน
C5: ตัวบ่งชี้
B6: 1 | C6: ผ่านการประเมิน | H6: หลักสูตรได้มาตรฐาน
B7: 2 | C7: 2 | D7: - | E7: - | F7: =SUM('ราย ตบช.(ตรี-โท)'!E3:E4)/2 -> 4.79 | G7: ='ราย ตบช.(ตรี-โท)'!O3 -> 4.79 | H7: =IF(G7>=4.01,E19,IF(G7>=3.01,E18,IF(G7>=2.01,E17,IF(G7>=0.01,E16,IF(G7>=0,E15))))) -> ระดับคุณภาพดีมาก
B8: 3 | C8: 3 | D8: =SUM('ราย ตบช.(ตรี-โท)'!E5:E7)/3 -> 3.3333333 | E8: - | F8: - | G8: ='ราย ตบช.(ตรี-โท)'!O4 -> 3.3333333 | H8: =IF(G8>=4.01,E19,IF(G8>=3.01,E18,IF(G8>=2.01,E17,IF(G8>=0.01,E16,IF(G8>=0,E15))))) -> ระดับคุณภาพดี
B9: 4 | C9: 3 | D9: =SUM('ราย ตบช.(ตรี-โท)'!E8:E10)/3 -> 3.1111111 | E9: - | F9: - | G9: ='ราย ตบช.(ตรี-โท)'!O5 -> 3.1111111 | H9: =IF(G9>=4.01,E19,IF(G9>=3.01,E18,IF(G9>=2.01,E17,IF(G9>=0.01,E16,IF(G9>=0,E15))))) -> ระดับคุณภาพดี
B10: 5 | C10: 4 | D10: ='ราย ตบช.(ตรี-โท)'!E11 -> 3 | E10: =SUM('ราย ตบช.(ตรี-โท)'!E12:E14)/3 -> 3.6666667 | F10: - | G10: ='ราย ตบช.(ตรี-โท)'!O6 -> 3.5 | H10: =IF(G10>=4.01,E19,IF(G10>=3.01,E18,IF(G10>=2.01,E17,IF(G10>=0.01,E16,IF(G10>=0,E15))))) -> ระดับคุณภาพดี
B11: 6 | C11: 1 | D11: - | E11: ='ราย ตบช.(ตรี-โท)'!E15 -> 4 | F11: - | G11: ='ราย ตบช.(ตรี-โท)'!O7 -> 4 | H11: =IF(G11>=4.01,E19,IF(G11>=3.01,E18,IF(G11>=2.01,E17,IF(G11>=0.01,E16,IF(G11>=0,E15))))) -> ระดับคุณภาพดี
B12: รวม | C12: =SUM(C7:C11) -> 13
B13: ผลประเมิน | D13: =SUM('ราย ตบช.(ตรี-โท)'!E5:E11)/7 -> 3.1904762 | E13: =SUM('ราย ตบช.(ตรี-โท)'!E12:E15)/4 -> 3.75 | F13: =SUM('ราย ตบช.(ตรี-โท)'!E3:E4)/2 -> 4.79 | G13: ='ราย ตบช.(ตรี-โท)'!E16 -> 3.6087179 | H13: =IF(G13>=4.01,E19,IF(G13>=3.01,E18,IF(G13>=2.01,E17,IF(G13>=0.01,E16,IF(G13>=0,E15))))) -> ระดับคุณภาพดี
B15: หมายเหตุ : | D15: 0 | E15: n/a
D16: 0.01 - 2.00 | E16: ระดับคุณภาพน้อย
D17: 2.01 - 3.00 | E17: ระดับคุณภาพปานกลาง
D18: 3.01 - 4.00 | E18: ระดับคุณภาพดี
D19: 4.01 - 5.00 | E19: ระดับคุณภาพดีมาก

Sheet ราย ตบช.(เอก)
A1: เอก | B1: สรุปคะแนนแต่ละตัวบ่งชี้ ต้องทำคู่กันไปตามแต่ละตัวบ่งชี้
B2: ตัวบ่งชี้ | C2: ประเมินตนเอง | D2: ประเมนตนเอง | E2: กรรมการ | F2: ***ตัวเลขสีน้ำเงินคือสูตร | N2: ตนเอง | O2: กรรมการ
B3: 2.1 | C3: 3 | D3: 4.68 | E3: 4.68 | M3: องค์ 2 | N3: =SUM(D3:D4)/2 -> 4.79 | O3: =SUM(E3:E4)/2 -> 4.79
B4: 2.2 | C4: 3 | D4: 4.9 | E4: 4.9 | M4: องค์ 3 | N4: =SUM(D5:D7)/3 -> 4 | O4: =SUM(E5:E7)/3 -> 3.6666667
B5: 3.1 | C5: 3 | D5: 4 | E5: 3 | M5: องค์ 4 | N5: =SUM(D8:D10)/3 -> 4.3333333 | O5: =SUM(E8:E10)/3 -> 4.3333333
B6: 3.2 | C6: 3 | D6: 4 | E6: 4 | M6: องค์ 5 | N6: =SUM(D11:D14)/4 -> 4.5 | O6: =SUM(E11:E14)/4 -> 4.25
B7: 3.3 | C7: 3 | D7: 4 | E7: 4 | M7: องค์ 6 | N7: =SUM(D15) -> 5 | O7: =SUM(E15) -> 4
B8: 4.1 | C8: 3 | D8: 4 | E8: 4 | F8: 4.2.1 เอก | G8: 4.2.2 ตำแหน่ง | H8: 4.2.3 ผลงาน | I8: 4.2 | K8: 4.2.4 citation(ป.เอก)
B9: 4.2 | C9: =SUM(F10:I10)/3 -> 5 | D9: =SUM(F10:K10)/4 -> 5 | E9: =SUM(F9:K9)/4 -> 5 | F9: 5 | G9: 5 | H9: 5 | K9: 5
B10: 4.3 | C10: 3 | D10: 4 | E10: 4 | F10: 5 | G10: 5 | H10: 5 | K10: 5
B11: 5.1 | C11: 3 | D11: 5 | E11: 4
B12: 5.2 | C12: 3 | D12: 4 | E12: 4
B13: 5.3 | C13: 3 | D13: 4 | E13: 4
B14: 5.4 | C14: 3 | D14: 5 | E14: 5
B15: 6.1 | C15: 3 | D15: 5 | E15: 4
B16: รวม 13 ตบช. | C16: =SUM(C3:C15)/13 -> 3.1538462 | D16: =SUM(D3:D15)/13 -> 4.4292308 | E16: =SUM(E3:E15)/13 -> 4.1984615

Sheet สรุปคะแนน (เอก)
Q1: เอก
B2: ตารางการวิเคราะห์คุณภาพการศึกษาภายใน ระดับหลักสูตร
Q3: ***ตัวอักษรสีน้ำเงินคือสูตร
B4: องค์ประกอบ | C4: จำนวน | D4: I | H4: P | L4: O | O4: คะแนนเฉลี่ย | P4: ผลการประเมิน
C5: ตัวบ่งชี้
B6: 1 | C6: ผ่านการประเมิน | P6: หลักสูตรได้มาตรฐาน
B7: 2 | C7: 2 | D7: - | E7: - | F7: - | G7: - | H7: - | I7: - | J7: - | K7: - | L7: =SUM('ราย ตบช.(เอก)'!E3:E4)/2 -> 4.79 | M7: =+'ราย ตบช.(ตรี-โท)'!E3 -> 4.68 | N7: =+'ราย ตบช.(ตรี-โท)'!E4 -> 4.9 | O7: ='ราย ตบช.(เอก)'!O3 -> 4.79 | P7: =IF(O7>=4.01,H19,IF(O7>=3.01,H18,IF(O7>=2.01,H17,IF(O7>=0.01,H16,IF(O7>=0,H15))))) -> ระดับคุณภาพดีมาก
B8: 3 | C8: 3 | D8: =SUM('ราย ตบช.(เอก)'!E5:E7)/3 -> 3.6666667 | E8: =+'ราย ตบช.(ตรี-โท)'!E5 -> 3 | F8: =+'ราย ตบช.(ตรี-โท)'!E6 -> 4 | G8: =+'ราย ตบช.(ตรี-โท)'!E7 -> 3 | H8: - | I8: - | J8: - | K8: - | L8: - | M8: - | N8: - | O8: ='ราย ตบช.(เอก)'!O4 -> 3.6666667 | P8: =IF(O8>=4.01,H19,IF(O8>=3.01,H18,IF(O8>=2.01,H17,IF(O8>=0.01,H16,IF(O8>=0,H15))))) -> ระดับคุณภาพดี
B9: 4 | C9: 3 | D9: =SUM('ราย ตบช.(เอก)'!E8:E10)/3 -> 4.3333333 | E9: =+'ราย ตบช.(ตรี-โท)'!E8 -> 3 | F9: =+'ราย ตบช.(ตรี-โท)'!E9 -> 3.3333333 | G9: =+'ราย ตบช.(ตรี-โท)'!E10 -> 3 | H9: - | I9: - | J9: - | K9: - | L9: - | M9: - | N9: - | O9: ='ราย ตบช.(เอก)'!O5 -> 4.3333333 | P9: =IF(O9>=4.01,H19,IF(O9>=3.01,H18,IF(O9>=2.01,H17,IF(O9>=0.01,H16,IF(O9>=0,H15))))) -> ระดับคุณภาพดีมาก
B10: 5 | C10: 4 | D10: =SUM('ราย ตบช.(เอก)'!E11) -> 4 | E10: =+'ราย ตบช.(ตรี-โท)'!E11 -> 3 | F10: - | G10: - | H10: =SUM('ราย ตบช.(เอก)'!E12:E14)/3 -> 4.3333333 | I10: =+'ราย ตบช.(ตรี-โท)'!E12 -> 3 | J10: =+'ราย ตบช.(ตรี-โท)'!E13 -> 3 | K10: =+'ราย ตบช.(ตรี-โท)'!E14 -> 5 | L10: - | M10: - | N10: - | O10: ='ราย ตบช.(เอก)'!O6 -> 4.25 | P10: =IF(O10>=4.01,H19,IF(O10>=3.01,H18,IF(O10>=2.01,H17,IF(O10>=0.01,H16,IF(O10>=0,H15))))) -> ระดับคุณภาพดีมาก
B11: 6 | C11: 1 | D11: - | E11: - | F11: - | G11: - | H11: ='ราย ตบช.(เอก)'!E15 -> 4 | I11: =+'ราย ตบช.(ตรี-โท)'!E15 -> 4 | J11: - | K11: - | L11: - | M11: - | N11: - | O11: ='ราย ตบช.(เอก)'!O7 -> 4 | P11: =IF(O11>=4.01,H19,IF(O11>=3.01,H18,IF(O11>=2.01,H17,IF(O11>=0.01,H16,IF(O11>=0,H15))))) -> ระดับคุณภาพดี
B12: รวม | C12: =SUM(C7:C11) -> 13
B13: ผลประเมิน | D13: =SUM('ราย ตบช.(เอก)'!E5:E11)/7 -> 4 | H13: =SUM('ราย ตบช.(เอก)'!E12:E15)/4 -> 4.25 | L13: =SUM('ราย ตบช.(เอก)'!E3:E4)/2 -> 4.79 | O13: ='ราย ตบช.(เอก)'!E16 -> 4.1984615 | P13: =IF(O13>=4.01,H19,IF(O13>=3.01,H18,IF(O13>=2.01,H17,IF(O13>=0.01,H16,IF(O13>=0,H15))))) -> ระดับคุณภาพดีมาก
B15: หมายเหตุ : | D15: 0 | H15: n/a
D16: 0.01 - 2.00 | H16: ระดับคุณภาพน้อย
D17: 2.01 - 3.00 | H17: ระดับคุณภาพปานกลาง
D18: 3.01 - 4.00 | H18: ระดับคุณภาพดี
D19: 4.01 - 5.00 | H19: ระดับคุณภาพดีมาก
